Workbook

Sheet IF_General
A1: Arbol | B1: NOMBRE COMUN | C1: NOMBRE CIENTIFICO | D1: FAMILIA | E1: HT (m) | F1: Hc (m) | G1: CAP (m) | H1: DAP (m) | I1: Diametro De Copa (m) | J1: Radio de Copa (m) | K1: X | L1: Y | M1: AB (m2) | N1: VT M3) | O1: Factor de Forma | P1: Area de Copa (m2) | Q1: Epifitas | R1: leyenda | S1: TRATAMIENTO | T1: OBSERVACIÓN | U1: LONGITUD ESTE | V1: LATITUD NORTE
A2: 1 | B2: Balso | C2: Ochroma pyramidale (Cav.) Urb. | D2: Malvaceae | E2: 8 | F2: 4 | G2: 1.19 | H2: 0.378789 | I2: 10 | J2: 5 | K2: 2149413.7 | L2: 5066931.8 | M2: 0.11269 | N2: 0.685153 | O2: 0.76 | P2: 78.539816 | Q2: <Null> | R2: 3.1.3.2. Bosque fragmentado con vegetación secundaria | S2: CONSERVAR | T2: Bueno | U2: -72.395654 | V2: 5.351945
A3: 2 | B3: Guácimo | C3: Guazuma ulmifolia Lam. | D3: Malvaceae | E3: 7 | F3: 2 | G3: 0.37 | H3: 0.117775 | I3: 5 | J3: 2.5 | K3: 2149411 | L3: 5066939.2 | M3: 0.010894 | N3: 0.057957 | O3: 0.76 | P3: 19.634954 | Q3: <Null> | R3: 3.1.3.2. Bosque fragmentado con vegetación secundaria | S3: CONSERVAR | T3: Bueno | U3: -72.395587 | V3: 5.351921
A4: 3 | B4: Guácimo | C4: Guazuma ulmifolia Lam. | D4: Malvaceae | E4: 6 | F4: 2 | G4: 0.4 | H4: 0.127324 | I4: 7.5 | J4: 3.75 | K4: 2149412.3 | L4: 5066944.6 | M4: 0.012732 | N4: 0.05806 | O4: 0.76 | P4: 44.178647 | Q4: <Null> | R4: 3.1.3.2. Bosque fragmentado con vegetación secundaria | S4: CONSERVAR | T4: Bueno | U4: -72.395539 | V4: 5.351932
A5: 4 | B5: Leucaena | C5: Leucaena leucocephala (Lam.) de Wit | D5: Fabaceae | E5: 9 | F5: 4 | G5: 0.58 | H5: 0.18462 | I5: 7.5 | J5: 3.75 | K5: 2149412.2 | L5: 5066952 | M5: 0.02677 | N5: 0.183106 | O5: 0.76 | P5: 44.178647 | Q5: <Null> | R5: 3.1.3.2. Bosque fragmentado con vegetación secundaria | S5: CONSERVAR | T5: Bueno | U5: -72.395472 | V5: 5.351931
A6: 5 | B6: Balso | C6: Ochroma pyramidale (Cav.) Urb. | D6: Malvaceae | E6: 9 | F6: 4 | G6: 0.95 | H6: 0.302394 | I6: 10.9 | J6: 5.45 | K6: 2149409.3 | L6: 5066952.3 | M6: 0.071819 | N6: 0.49124 | O6: 0.76 | P6: 93.313156 | Q6: <Null> | R6: 3.1.3.2. Bosque fragmentado con vegetación secundaria | S6: CONSERVAR | T6: Bueno | U6: -72.395469 | V6: 5.351905
A7: 6 | B7: Balso | C7: Ochroma pyramidale (Cav.) Urb. | D7: Malvaceae | E7: 7 | F7: 5 | G7: 0.38 | H7: 0.120958 | I7: 3 | J7: 1.5 | K7: 2149391 | L7: 5066937.5 | M7: 0.011491 | N7: 0.061132 | O7: 0.76 | P7: 7.068583 | Q7: <Null> | R7: 3.1.3.2. Bosque fragmentado con vegetación secundaria | S7: CONSERVAR | T7: Bueno | U7: -72.395603 | V7: 5.351739
A8: 7 | B8: Nauno | C8: Pseudosamanea guachapele (Kunth) Harms | D8: Fabaceae | E8: 7 | F8: 3 | G8: 0.36 | H8: 0.114592 | I8: 4 | J8: 2 | K8: 2149389.8 | L8: 5066938.8 | M8: 0.010313 | N8: 0.054866 | O8: 0.76 | P8: 12.566371 | Q8: <Null> | R8: 3.1.3.2. Bosque fragmentado con vegetación secundaria | S8: CONSERVAR | T8: Bueno | U8: -72.395591 | V8: 5.351729
A9: 8 | B9: Gallinero | C9: Pithecellobium dulce (Roxb.) Benth. | D9: Fabaceae | E9: 10 | F9: 2 | G9: 0.83 | H9: 0.264197 | I9: 12 | J9: 6 | K9: 2149384.6 | L9: 5066945.5 | M9: 0.054821 | N9: 0.416639 | O9: 0.76 | P9: 113.09734 | Q9: <Null> | R9: 3.1.3.2. Bosque fragmentado con vegetación secundaria | S9: CONSERVAR | T9: Bueno | U9: -72.39553 | V9: 5.351681
A10: 9 | B10: Nauno | C10: Pseudosamanea guachapele (Kunth) Harms | D10: Fabaceae | E10: 10 | F10: 4 | G10: 0.42 | H10: 0.13369 | I10: 4 | J10: 2 | K10: 2149383.6 | L10: 5066945.7 | M10: 0.014037 | N10: 0.106685 | O10: 0.76 | P10: 12.566371 | Q10: <Null> | R10: 3.1.3.2. Bosque fragmentado con vegetación secundaria | S10: CONSERVAR | T10: Bueno | U10: -72.395528 | V10: 5.351673
A11: 10 | B11: Gallinero | C11: Pithecellobium dulce (Roxb.) Benth. | D11: Fabaceae | E11: 10 | F11: 2 | G11: 0.92 | H11: 0.292845 | I11: 7 | J11: 3.5 | K11: 2149385.4 | L11: 5066947.4 | M11: 0.067354 | N11: 0.511893 | O11: 0.76 | P11: 38.48451 | Q11: <Null> | R11: 3.1.3.2. Bosque fragmentado con vegetación secundaria | S11: CONSERVAR | T11: Bueno | U11: -72.395514 | V11: 5.351689
A12: 11 | B12: Hobo | C12: Spondias mombin Jacq. | D12: Anacardiaceae | E12: 7 | F12: 5 | G12: 0.39 | H12: 0.124141 | I12: 5 | J12: 2.5 | K12: 2149389.7 | L12: 5066950.9 | M12: 0.012104 | N12: 0.064392 | O12: 0.76 | P12: 19.634954 | Q12: <Null> | R12: 3.1.3.2. Bosque fragmentado con vegetación secundaria | S12: CONSERVAR | T12: Bueno | U12: -72.395482 | V12: 5.351728
A13: 12 | B13: Yarumo | C13: Cecropia engleriana Snethl. | D13: Cecropiaceae | E13: 10 | F13: 7 | G13: 0.47 | H13: 0.149606 | I13: 4.8 | J13: 2.4 | K13: 2149391.8 | L13: 5066956.4 | M13: 0.017579 | N13: 0.133598 | O13: 0.76 | P13: 18.095574 | Q13: <Null> | R13: 3.1.3.2. Bosque fragmentado con vegetación secundaria | S13: CONSERVAR | T13: Bueno | U13: -72.395432 | V13: 5.351747
... A306: 387 | B306: Nauno | C306: Pseudosamanea guachapele (Kunth) Harms | D306: Fabaceae | E306: 8 | F306: 3 | G306: 0.42 | H306: 0.13369 | I306: 7 | J306: 3.5 | K306: 2149347.8 | L306: 5066982.3 | M306: 0.014037 | N306: 0.085348 | O306: 0.76 | P306: 38.48451 | Q306: <Null> | R306: 1.1.1. Tejido urbano continuo | S306: CONSERVAR | T306: Bueno | U306: -72.395198 | V306: 5.351348
A307: 388 | B307: Muerto En Pie | C307: <Null> | D307: <Null> | E307: 13 | F307: 5 | G307: 0.8 | H307: 0.254648 | I307: <Null> | J307: 0 | K307: 2149346.3 | L307: 5066965.2 | M307: 0.05093 | N307: 0.503184 | O307: 0.76 | P307: 0 | Q307: <Null> | R307: 1.1.1. Tejido urbano continuo | S307: TALAR | T307: Muerto en pie | U307: -72.395353 | V307: 5.351335
A308: 389 | B308: Yarumo | C308: Cecropia engleriana Snethl. | D308: Cecropiaceae | E308: 12 | F308: 6 | G308: 0.7 | H308: 0.222817 | I308: 10 | J308: 5 | K308: 2149350.3 | L308: 5066986.6 | M308: 0.038993 | N308: 0.355616 | O308: 0.76 | P308: 78.539816 | Q308: <Null> | R308: 1.1.1. Tejido urbano continuo | S308: CONSERVAR | T308: Bueno | U308: -72.39516 | V308: 5.35137
A309: 390 | B309: Nauno | C309: Pseudosamanea guachapele (Kunth) Harms | D309: Fabaceae | E309: 12 | F309: 5 | G309: 1.32 | H309: 0.420169 | I309: 10 | J309: 5 | K309: 2149345.2 | L309: 5066991.8 | M309: 0.138656 | N309: 1.264541 | O309: 0.76 | P309: 78.539816 | Q309: <Null> | R309: 1.1.1. Tejido urbano continuo | S309: CONSERVAR | T309: Bueno | U309: -72.395112 | V309: 5.351325
A310: 391 | B310: Sangro | C310: Lonchocarpus violaceus (Jacq.) Kunth ex DC | D310: Fabaceae | E310: 12 | F310: 4 | G310: 1.3 | H310: 0.413803 | I310: 10 | J310: 5 | K310: 2149379.2 | L310: 5066921.3 | M310: 0.13 | N310: 1.23 | O310: 0.76 | P310: 78.539816 | Q310: Orquidea (1) | R310: 3.1.3.2. Bosque fragmentado con vegetación secundaria | S310: CONSERVAR | T310: Bueno | U310: -72.395749 | V310: 5.351633
A311: 393 | B311: Mango | C311: Mangifera indica L. | D311: Anacardiaceae | E311: 9 | F311: 3 | G311: 0.36 | H311: 0.114592 | I311: 10 | J311: 5 | K311: 2149378.4 | L311: 5066927.7 | M311: 0.01 | N311: 0.07 | O311: 0.76 | P311: 78.539816 | R311: 3.1.3.2. Bosque fragmentado con vegetación secundaria | S311: CONSERVAR | T311: Bueno | U311: -72.395691 | V311: 5.351626
A312: 394 | B312: Abejon | C312: Astronium graveolens Jacq. | D312: Anacardiaceae | E312: 10 | F312: 3 | G312: 0.33 | H312: 0.105042 | I312: 11 | J312: 5.5 | K312: 2149378.8 | L312: 5066929.5 | M312: 0.008666 | N312: 0.065861 | O312: 0.76 | P312: 95.033178 | Q312: <Null> | R312: 3.1.3.2. Bosque fragmentado con vegetación secundaria | S312: CONSERVAR | T312: Bueno | U312: -72.395675 | V312: 5.351629
A313: 395 | B313: Pardillo | C313: Cordia tetrandra Aubl. | D313: Boraginaceae | E313: 8 | F313: 3 | G313: 0.32 | H313: 0.101859 | I313: 9 | J313: 4.5 | K313: 2149382.3 | L313: 5066932.9 | M313: 0.008149 | N313: 0.049544 | O313: 0.76 | P313: 63.617251 | Q313: <Null> | R313: 3.1.3.2. Bosque fragmentado con vegetación secundaria | S313: TALAR | T313: Bueno | U313: -72.395644 | V313: 5.351661
A314: 397 | B314: Arenillo | C314: Qualea acuminata Spruce ez Warm. | D314: Vochysiaceae | E314: 6 | F314: 2 | G314: 0.32 | H314: 0.101859 | I314: 9 | J314: 4.5 | K314: 2149380.4 | L314: 5066937.1 | M314: 0.008149 | N314: 0.037158 | O314: 0.76 | P314: 63.617251 | Q314: <Null> | R314: 3.1.3.2. Bosque fragmentado con vegetación secundaria | S314: TALAR | T314: Bueno | U314: -72.395606 | V314: 5.351643
A315: 398 | B315: Nauno | C315: Pseudosamanea guachapele (Kunth) Harms | D315: Fabaceae | E315: 12 | F315: 6 | G315: 1.6 | H315: 0.509296 | I315: 10 | J315: 5 | K315: 2149378.4 | L315: 5066938.9 | M315: 0.203718 | N315: 1.857911 | O315: 0.76 | P315: 78.539816 | Q315: Bejuco | R315: 3.1.3.2. Bosque fragmentado con vegetación secundaria | S315: CONSERVAR | T315: Bueno | U315: -72.395591 | V315: 5.351625
A316: 400 | B316: Yarumo | C316: Cecropia engleriana Snethl. | D316: Cecropiaceae | E316: 12 | F316: 7 | G316: 0.58 | H316: 0.18462 | I316: 11 | J316: 5.5 | K316: 2149382.9 | L316: 5066938.2 | M316: 0.02677 | N316: 0.244141 | O316: 0.76 | P316: 95.033178 | Q316: <Null> | R316: 3.1.3.2. Bosque fragmentado con vegetación secundaria | S316: CONSERVAR | T316: Bueno | U316: -72.395596 | V316: 5.351666
A317: 401 | B317: Hobo | C317: Spondias mombin Jacq. | D317: Anacardiaceae | E317: 12 | F317: 7 | G317: 0.33 | H317: 0.105042 | I317: 12 | J317: 6 | K317: 2149383.7 | L317: 5066938.2 | M317: 0.008666 | N317: 0.079034 | O317: 0.76 | P317: 113.09734 | Q317: <Null> | R317: 3.1.3.2. Bosque fragmentado con vegetación secundaria | S317: CONSERVAR | T317: Bueno | U317: -72.395596 | V317: 5.351673
A318: 402 | B318: Hobo | C318: Spondias mombin Jacq. | D318: Anacardiaceae | E318: 12 | F318: 4 | G318: 1 | H318: 0.31831 | I318: 10 | J318: 5 | K318: 2149387.1 | L318: 5066962 | M318: 0.079577 | N318: 0.725747 | O318: 0.76 | P318: 78.539816 | Q318: <Null> | R318: 3.1.3.2. Bosque fragmentado con vegetación secundaria | S318: CONSERVAR | T318: Bueno | U318: -72.395381 | V318: 5.351704
A319: 403 | B319: Hobo | C319: Spondias mombin Jacq. | D319: Anacardiaceae | E319: 12 | F319: 6 | G319: 0.7 | H319: 0.222817 | I319: 10 | J319: 5 | K319: 2149387.1 | L319: 5066961.2 | M319: 0.038993 | N319: 0.355616 | O319: 0.76 | P319: 78.539816 | Q319: <Null> | R319: 3.1.3.2. Bosque fragmentado con vegetación secundaria | S319: CONSERVAR | T319: Bueno | U319: -72.395388 | V319: 5.351704
A320: 404 | B320: Arrayan | C320: Eugenia sp | D320: Myrtaceae | E320: 5 | F320: 0.6 | G320: 0.6 | H320: 0.190986 | I320: 12 | J320: 6 | K320: 2149385.6 | L320: 5066965.9 | M320: 0.028648 | N320: 0.108862 | O320: 0.76 | P320: 113.09734 | Q320: <Null> | R320: 3.1.3.2. Bosque fragmentado con vegetación secundaria | S320: CONSERVAR | T320: Bueno | U320: -72.395346 | V320: 5.35169
A321: 405 | B321: Hobo | C321: Spondias mombin Jacq. | D321: Anacardiaceae | E321: 12 | F321: 6 | G321: 0.62 | H321: 0.197352 | I321: 10 | J321: 5 | K321: 2149385.6 | L321: 5066970.6 | M321: 0.03059 | N321: 0.278977 | O321: 0.76 | P321: 78.539816 | Q321: <Null> | R321: 3.1.3.2. Bosque fragmentado con vegetación secundaria | S321: CONSERVAR | T321: Bueno | U321: -72.395304 | V321: 5.351691
A322: 406 | B322: Arrayan | C322: Eugenia sp | D322: Myrtaceae | E322: 8 | F322: 1.6 | G322: 0.35 | H322: 0.111408 | I322: 11 | J322: 5.5 | K322: 2149383.3 | L322: 5066978.1 | M322: 0.009748 | N322: 0.059269 | O322: 0.76 | P322: 95.033178 | Q322: <Null> | R322: 3.1.3.2. Bosque fragmentado con vegetación secundaria | S322: CONSERVAR | T322: Bueno | U322: -72.395236 | V322: 5.351669
A323: 409 | B323: Abejon | C323: Astronium graveolens Jacq. | D323: Anacardiaceae | E323: 7 | F323: 1.7 | G323: 0.39 | H323: 0.124141 | I323: 6 | J323: 3 | K323: 2149382.9 | L323: 5066985.5 | M323: 0.012104 | N323: 0.064392 | O323: 0.76 | P323: 28.274334 | Q323: <Null> | R323: 3.1.3.2. Bosque fragmentado con vegetación secundaria | S323: CONSERVAR | T323: Bueno | U323: -72.395169 | V323: 5.351666
... A344: 439 | B344: Mango | C344: Mangifera indica L. | D344: Anacardiaceae | E344: 9 | F344: 3 | G344: 0.4 | H344: 0.127324 | I344: 9 | J344: 4.5 | K344: 2149373.9 | L344: 5067020.1 | M344: 0.012732 | N344: 0.08709 | O344: 0.76 | P344: 63.617251 | Q344: <Null> | R344: 3.1.3.2. Bosque fragmentado con vegetación secundaria | S344: CONSERVAR | T344: Bueno | U344: -72.394857 | V344: 5.351584
A345: 440 | B345: Muerto En Pie | C345: <Null> | D345: <Null> | E345: 10 | F345: 6 | G345: 0.6 | H345: 0.190986 | I345: <Null> | J345: 0 | K345: 2149373 | L345: 5067001.4 | M345: 0.028648 | N345: 0.217724 | O345: 0.76 | P345: 0 | Q345: <Null> | R345: 3.1.3.2. Bosque fragmentado con vegetación secundaria | S345: TALAR | T345: Muerto en pie | U345: -72.395026 | V345: 5.351576
A346: 441 | B346: Mango | C346: Mangifera indica L. | D346: Anacardiaceae | E346: 12 | F346: 4 | G346: 1.93 | H346: 0.614338 | I346: 10 | J346: 5 | K346: 2149284.4 | L346: 5066995.4 | M346: 0.296418 | N346: 2.703333 | O346: 0.76 | P346: 78.539816 | Q346: <Null> | R346: 1.1.1. Tejido urbano continuo | S346: TALAR | T346: Bueno | U346: -72.395081 | V346: 5.350774
A347: 442 | B347: Palma Corneto | C347: Iriartea deltoidea Ruiz & Pav. | D347: Arecaceae | E347: 9 | F347: 3 | G347: 0.34 | H347: 0.108225 | I347: 7 | J347: 3.5 | K347: 2149275.9 | L347: 5066993.8 | M347: 0.009199 | N347: 0.062922 | O347: 0.76 | P347: 38.48451 | Q347: <Null> | R347: 1.1.1. Tejido urbano continuo | S347: TALAR | T347: Bueno | U347: -72.395095 | V347: 5.350697
A348: 443 | B348: Nauno | C348: Pseudosamanea guachapele (Kunth) Harms | D348: Fabaceae | E348: 12 | F348: 6 | G348: 1.1 | H348: 0.350141 | I348: 9 | J348: 4.5 | K348: 2149276.4 | L348: 5066989.1 | M348: 0.096289 | N348: 0.878153 | O348: 0.76 | P348: 63.617251 | Q348: <Null> | R348: 1.1.1. Tejido urbano continuo | S348: CONSERVAR | T348: Bueno | U348: -72.395138 | V348: 5.350702
A349: 444 | B349: Guanabano | C349: Annona muricata L. | D349: Annonaceae | E349: 10 | F349: 3 | G349: 0.9 | H349: 0.286479 | I349: 9 | J349: 4.5 | K349: 2149254 | L349: 5066983 | M349: 0.064458 | N349: 0.489879 | O349: 0.76 | P349: 63.617251 | Q349: <Null> | R349: 1.1.1. Tejido urbano continuo | S349: TALAR | T349: Bueno | U349: -72.395193 | V349: 5.350499
A350: 445 | B350: Mamoncillo | C350: Melicoccus bijugatus Jacq. | D350: Sapindaceae | E350: 12 | F350: 4 | G350: 0.96 | H350: 0.305577 | I350: 9 | J350: 4.5 | K350: 2149290.4 | L350: 5067009.6 | M350: 0.073339 | N350: 0.668848 | O350: 0.76 | P350: 63.617251 | Q350: <Null> | R350: 1.1.1. Tejido urbano continuo | S350: TALAR | T350: Bueno | U350: -72.394952 | V350: 5.350828
A351: 446 | B351: Mango | C351: Mangifera indica L. | D351: Anacardiaceae | E351: 12 | F351: 4 | G351: 2.4 | H351: 0.763944 | I351: 9 | J351: 4.5 | K351: 2149297.4 | L351: 5067009.5 | M351: 0.458366 | N351: 4.1803 | O351: 0.76 | P351: 63.617251 | Q351: Bromelias (2) | R351: 1.1.1. Tejido urbano continuo | S351: CONSERVAR | T351: Bueno | U351: -72.394953 | V351: 5.350892
A352: 447 | B352: Nauno | C352: Pseudosamanea guachapele (Kunth) Harms | D352: Fabaceae | E352: 10 | F352: 4 | G352: 0.7 | H352: 0.222817 | I352: 11 | J352: 5.5 | K352: 2149273.4 | L352: 5067011.1 | M352: 0.038993 | N352: 0.296347 | O352: 0.76 | P352: 95.033178 | Q352: <Null> | R352: 1.1.1. Tejido urbano continuo | S352: TALAR | T352: Bueno | U352: -72.394939 | V352: 5.350674
A353: 448 | B353: Palmiche | C353: Leopoldinia pulchra Mart. | D353: Arecaceae | E353: 6 | F353: 2 | G353: 0.53 | H353: 0.168704 | I353: 6 | J353: 3 | K353: 2149280.9 | L353: 5067016.4 | M353: 0.022353 | N353: 0.101931 | O353: 0.76 | P353: 28.274334 | Q353: <Null> | R353: 1.1.1. Tejido urbano continuo | S353: CONSERVAR | T353: Bueno | U353: -72.394892 | V353: 5.350742
A354: 449 | B354: Palmiche | C354: Leopoldinia pulchra Mart. | D354: Arecaceae | E354: 5 | F354: 2 | G354: 0.53 | H354: 0.168704 | I354: 6 | J354: 3 | K354: 2149279.4 | L354: 5067021 | M354: 0.022353 | N354: 0.084943 | O354: 0.76 | P354: 28.274334 | Q354: <Null> | R354: 1.1.1. Tejido urbano continuo | S354: CONSERVAR | T354: Bueno | U354: -72.39485 | V354: 5.350729
A355: 450 | B355: Oití | C355: Moquilea tomentosa Benth. | D355: Chrysobalanaceae | E355: 7 | F355: 2 | G355: 1.35 | H355: 0.429718 | I355: 11 | J355: 5.5 | K355: 2149264 | L355: 5067010.9 | M355: 0.14503 | N355: 0.771559 | O355: 0.76 | P355: 95.033178 | Q355: <Null> | R355: 1.1.1. Tejido urbano continuo | S355: CONSERVAR | T355: Bueno | U355: -72.394941 | V355: 5.350589
A356: 451 | B356: Oití | C356: Moquilea tomentosa Benth. | D356: Chrysobalanaceae | E356: 10 | F356: 3 | G356: 0.68 | H356: 0.216451 | I356: 11 | J356: 5.5 | K356: 2149264.8 | L356: 5067018.1 | M356: 0.036797 | N356: 0.279654 | O356: 0.76 | P356: 95.033178 | Q356: <Null> | R356: 1.1.1. Tejido urbano continuo | S356: CONSERVAR | T356: Bueno | U356: -72.394876 | V356: 5.350596
A357: 452 | B357: Pera de Malaca | C357: Syzygium malaccense (L.) Merr. & L.M.Perry | D357: Myrtaceae | E357: 8 | F357: 3 | G357: 0.52 | H357: 0.165521 | I357: 9 | J357: 4.5 | K357: 2149261.3 | L357: 5067017.4 | M357: 0.021518 | N357: 0.130828 | O357: 0.76 | P357: 63.617251 | Q357: <Null> | R357: 1.1.1. Tejido urbano continuo | S357: CONSERVAR | T357: Bueno | U357: -72.394883 | V357: 5.350565
... A406: 503 | B406: Lulo montero | C406: Solanum sp | D406: Solanaceae | E406: 10 | F406: 2 | G406: 0.55 | H406: 0.17507 | I406: 9 | J406: 4.5 | K406: 2149353.3 | L406: 5067012.7 | M406: 0.024072 | N406: 0.182949 | O406: 0.76 | P406: 63.617251 | Q406: <Null> | R406: 3.1.3.2. Bosque fragmentado con vegetación secundaria | S406: CONSERVAR | T406: Bueno | U406: -72.394924 | V406: 5.351397
A407: 505 | B407: Muerto En Pie | C407: <Null> | D407: <Null> | E407: 12 | F407: 4 | G407: 1.4 | H407: 0.445634 | I407: <Null> | J407: 0 | K407: 2149354.2 | L407: 5067017.2 | M407: 0.155972 | N407: 1.422463 | O407: 0.76 | P407: 0 | Q407: <Null> | R407: 3.1.3.2. Bosque fragmentado con vegetación secundaria | S407: TALAR | T407: Muerto en pie | U407: -72.394883 | V407: 5.351406
A408: 506 | B408: Nauno | C408: Pseudosamanea guachapele (Kunth) Harms | D408: Fabaceae | E408: 12 | F408: 5 | G408: 0.81 | H408: 0.257831 | I408: 8 | J408: 4 | K408: 2149350 | L408: 5067015.6 | M408: 0.052211 | N408: 0.476162 | O408: 0.76 | P408: 50.265482 | Q408: <Null> | R408: 3.1.3.2. Bosque fragmentado con vegetación secundaria | S408: CONSERVAR | T408: Bueno | U408: -72.394898 | V408: 5.351368
A409: 509 | B409: Guayacán Amarillo | C409: Handroanthus chrysanthus (Jacq.) S.O.Grose | D409: Bignoniaceae | E409: 12 | F409: 5 | G409: 1.35 | H409: 0.429718 | I409: 8 | J409: 4 | K409: 2149347.4 | L409: 5067023.4 | M409: 0.14503 | N409: 1.322673 | O409: 0.76 | P409: 50.265482 | Q409: <Null> | R409: 3.1.3.2. Bosque fragmentado con vegetación secundaria | S409: TALAR | T409: Bueno | U409: -72.394828 | V409: 5.351344
A410: 510 | B410: Cedro | C410: Cedrela odorata L. | D410: Meliaceae | E410: 12 | F410: 4 | G410: 1.7 | H410: 0.541127 | I410: 9 | J410: 4.5 | K410: 2149354.3 | L410: 5067019.7 | M410: 0.229979 | N410: 2.097408 | O410: 0.76 | P410: 63.617251 | Q410: <Null> | R410: 3.1.3.2. Bosque fragmentado con vegetación secundaria | S410: TALAR | T410: Bueno | U410: -72.39486 | V410: 5.351406
A411: 511 | B411: Nauno | C411: Pseudosamanea guachapele (Kunth) Harms | D411: Fabaceae | E411: 12 | F411: 5 | G411: 1.07 | H411: 0.340592 | I411: 8 | J411: 4 | K411: 2149354.5 | L411: 5067019.7 | M411: 0.091108 | N411: 0.830907 | O411: 0.76 | P411: 50.265482 | Q411: <Null> | R411: 3.1.3.2. Bosque fragmentado con vegetación secundaria | S411: TALAR | T411: Bueno | U411: -72.39486 | V411: 5.351409
A412: 513 | B412: Nauno | C412: Pseudosamanea guachapele (Kunth) Harms | D412: Fabaceae | E412: 12 | F412: 5 | G412: 0.92 | H412: 0.292845 | I412: 11 | J412: 5.5 | K412: 2149358.3 | L412: 5067027.3 | M412: 0.067354 | N412: 0.614272 | O412: 0.76 | P412: 95.033178 | Q412: <Null> | R412: 3.1.3.2. Bosque fragmentado con vegetación secundaria | S412: CONSERVAR | T412: Bueno | U412: -72.394792 | V412: 5.351442
A413: 514 | B413: Nauno | C413: Pseudosamanea guachapele (Kunth) Harms | D413: Fabaceae | E413: 12 | F413: 6 | G413: 0.9 | H413: 0.286479 | I413: 11 | J413: 5.5 | K413: 2149359.4 | L413: 5067033.7 | M413: 0.064458 | N413: 0.587855 | O413: 0.76 | P413: 95.033178 | Q413: <Null> | R413: 3.1.3.2. Bosque fragmentado con vegetación secundaria | S413: CONSERVAR | T413: Bueno | U413: -72.394734 | V413: 5.351452
A414: 515 | B414: Nauno | C414: Pseudosamanea guachapele (Kunth) Harms | D414: Fabaceae | E414: 12 | F414: 6 | G414: 1.03 | H414: 0.327859 | I414: 11 | J414: 5.5 | K414: 2149356.7 | L414: 5067036.3 | M414: 0.084424 | N414: 0.769945 | O414: 0.76 | P414: 95.033178 | Q414: <Null> | R414: 3.1.3.2. Bosque fragmentado con vegetación secundaria | S414: CONSERVAR | T414: Bueno | U414: -72.394711 | V414: 5.351428
A415: 516 | B415: Nauno | C415: Pseudosamanea guachapele (Kunth) Harms | D415: Fabaceae | E415: 12 | F415: 6 | G415: 0.82 | H415: 0.261014 | I415: 9 | J415: 4.5 | K415: 2149354.4 | L415: 5067038.2 | M415: 0.053508 | N415: 0.487992 | O415: 0.76 | P415: 63.617251 | Q415: <Null> | R415: 3.1.3.2. Bosque fragmentado con vegetación secundaria | S415: CONSERVAR | T415: Bueno | U415: -72.394694 | V415: 5.351407
A416: 517 | B416: Nauno | C416: Pseudosamanea guachapele (Kunth) Harms | D416: Fabaceae | E416: 12 | F416: 6 | G416: 0.4 | H416: 0.127324 | I416: 7 | J416: 3.5 | K416: 2149352.6 | L416: 5067040.8 | M416: 0.012732 | N416: 0.116119 | O416: 0.76 | P416: 38.48451 | Q416: <Null> | R416: 3.1.3.2. Bosque fragmentado con vegetación secundaria | S416: TALAR | T416: Bueno | U416: -72.39467 | V416: 5.351391
A417: 518 | B417: Nauno | C417: Pseudosamanea guachapele (Kunth) Harms | D417: Fabaceae | E417: 12 | F417: 6 | G417: 0.93 | H417: 0.296028 | I417: 7 | J417: 3.5 | K417: 2149350.3 | L417: 5067041.4 | M417: 0.068827 | N417: 0.627698 | O417: 0.76 | P417: 38.48451 | Q417: <Null> | R417: 3.1.3.2. Bosque fragmentado con vegetación secundaria | S417: TALAR | T417: Bueno | U417: -72.394665 | V417: 5.35137
A418: 519 | B418: Nauno | C418: Pseudosamanea guachapele (Kunth) Harms | D418: Fabaceae | E418: 12 | F418: 6 | G418: 0.6 | H418: 0.190986 | I418: 8 | J418: 4 | K418: 2149348.8 | L418: 5067041.8 | M418: 0.028648 | N418: 0.261269 | O418: 0.76 | P418: 50.265482 | Q418: <Null> | R418: 3.1.3.2. Bosque fragmentado con vegetación secundaria | S418: TALAR | T418: Bueno | U418: -72.394662 | V418: 5.351357
A419: 520 | B419: Nauno | C419: Pseudosamanea guachapele (Kunth) Harms | D419: Fabaceae | E419: 12 | F419: 6 | G419: 0.81 | H419: 0.257831 | I419: 11 | J419: 5.5 | K419: 2149352.7 | L419: 5067043.2 | M419: 0.052211 | N419: 0.476162 | O419: 0.76 | P419: 95.033178 | Q419: <Null> | R419: 3.1.3.2. Bosque fragmentado con vegetación secundaria | S419: TALAR | T419: Bueno | U419: -72.394648 | V419: 5.351392
... A444: 551 | B444: Gualanday | C444: Jacaranda obtusifolia Humb. & Bonpl. | D444: Bignoniaceae | E444: 9 | F444: 3 | G444: 0.5 | H444: 0.159155 | I444: 8 | J444: 4 | K444: 2149374 | L444: 5067069.6 | M444: 0.019894 | N444: 0.136077 | O444: 0.76 | P444: 50.265482 | Q444: <Null> | R444: 3.1.3.2. Bosque fragmentado con vegetación secundaria | S444: CONSERVAR | T444: Bueno | U444: -72.39441 | V444: 5.351584
A445: 552 | B445: Muerto En Pie | C445: <Null> | D445: <Null> | E445: 10 | F445: 3 | G445: 0.9 | H445: 0.286479 | I445: <Null> | J445: 0 | K445: 2149367.1 | L445: 5067068.2 | M445: 0.064458 | N445: 0.489879 | O445: 0.76 | P445: 0 | Q445: <Null> | R445: 3.1.3.2. Bosque fragmentado con vegetación secundaria | S445: TALAR | T445: Muerto en pie | U445: -72.394423 | V445: 5.351522
A446: 553 | B446: Muerto En Pie | C446: <Null> | D446: <Null> | E446: 11 | F446: 6 | G446: 0.9 | H446: 0.286479 | I446: <Null> | J446: 0 | K446: 2149366.7 | L446: 5067071.2 | M446: 0.064458 | N446: 0.538867 | O446: 0.76 | P446: 0 | Q446: <Null> | R446: 3.1.3.2. Bosque fragmentado con vegetación secundaria | S446: TALAR | T446: Muerto en pie | U446: -72.394396 | V446: 5.351519
A447: 554 | B447: Nauno | C447: Pseudosamanea guachapele (Kunth) Harms | D447: Fabaceae | E447: 9 | F447: 4 | G447: 0.4 | H447: 0.127324 | I447: 5 | J447: 2.5 | K447: 2149368.9 | L447: 5067071.8 | M447: 0.012732 | N447: 0.08709 | O447: 0.76 | P447: 19.634954 | Q447: <Null> | R447: 3.1.3.2. Bosque fragmentado con vegetación secundaria | S447: TALAR | T447: Bueno | U447: -72.39439 | V447: 5.351538
A448: 555 | B448: Nauno | C448: Pseudosamanea guachapele (Kunth) Harms | D448: Fabaceae | E448: 10 | F448: 3 | G448: 0.6 | H448: 0.190986 | I448: 9 | J448: 4.5 | K448: 2149371 | L448: 5067072.3 | M448: 0.028648 | N448: 0.217724 | O448: 0.76 | P448: 63.617251 | Q448: <Null> | R448: 3.1.3.2. Bosque fragmentado con vegetación secundaria | S448: CONSERVAR | T448: Bueno | U448: -72.394386 | V448: 5.351557
A449: 556 | B449: Ceiba | C449: Ceiba pentandra (L.) Gaertn. | D449: Malvaceae | E449: 12 | F449: 4 | G449: 1.39 | H449: 0.442451 | I449: 7 | J449: 3.5 | K449: 2149373.7 | L449: 5067075 | M449: 0.153752 | N449: 1.402215 | O449: 0.76 | P449: 38.48451 | Q449: <Null> | R449: 3.1.3.2. Bosque fragmentado con vegetación secundaria | S449: TALAR | T449: Bueno | U449: -72.394361 | V449: 5.351582
A450: 557 | B450: Ceiba | C450: Ceiba pentandra (L.) Gaertn. | D450: Malvaceae | E450: 13 | F450: 6 | G450: 1.31 | H450: 0.416986 | I450: 12 | J450: 6 | K450: 2149373.3 | L450: 5067077.8 | M450: 0.136563 | N450: 1.349241 | O450: 0.76 | P450: 113.09734 | Q450: <Null> | R450: 3.1.3.2. Bosque fragmentado con vegetación secundaria | S450: TALAR | T450: Bueno | U450: -72.394336 | V450: 5.351578
A451: 558 | B451: Nauno | C451: Pseudosamanea guachapele (Kunth) Harms | D451: Fabaceae | E451: 12 | F451: 4 | G451: 0.9 | H451: 0.286479 | I451: 9 | J451: 4.5 | K451: 2149368.6 | L451: 5067077.2 | M451: 0.064458 | N451: 0.587855 | O451: 0.76 | P451: 63.617251 | Q451: <Null> | R451: 3.1.3.2. Bosque fragmentado con vegetación secundaria | S451: TALAR | T451: Bueno | U451: -72.394342 | V451: 5.351535
A452: 559 | B452: Guácimo | C452: Guazuma ulmifolia Lam. | D452: Malvaceae | E452: 8 | F452: 2 | G452: 0.31 | H452: 0.098676 | I452: 6 | J452: 3 | K452: 2149364.3 | L452: 5067111.7 | M452: 0.007647 | N452: 0.046496 | O452: 0.76 | P452: 28.274334 | Q452: <Null> | R452: 2.3.3. Pastos enmalezados | S452: CONSERVAR | T452: Bueno | U452: -72.394031 | V452: 5.351496
A453: 560 | B453: Nauno | C453: Pseudosamanea guachapele (Kunth) Harms | D453: Fabaceae | E453: 11 | F453: 4 | G453: 0.51 | H453: 0.162338 | I453: 5 | J453: 2.5 | K453: 2149364.1 | L453: 5067118.6 | M453: 0.020698 | N453: 0.173036 | O453: 0.76 | P453: 19.634954 | Q453: <Null> | R453: 2.3.3. Pastos enmalezados | S453: CONSERVAR | T453: Bueno | U453: -72.393967 | V453: 5.351495
A454: 561 | B454: Nauno | C454: Pseudosamanea guachapele (Kunth) Harms | D454: Fabaceae | E454: 13 | F454: 4 | G454: 0.76 | H454: 0.241916 | I454: 8 | J454: 4 | K454: 2149361.5 | L454: 5067115.6 | M454: 0.045964 | N454: 0.454124 | O454: 0.76 | P454: 50.265482 | Q454: <Null> | R454: 2.3.3. Pastos enmalezados | S454: CONSERVAR | T454: Bueno | U454: -72.393995 | V454: 5.351471
A455: 563 | B455: Nauno | C455: Pseudosamanea guachapele (Kunth) Harms | D455: Fabaceae | E455: 10 | F455: 3 | G455: 0.53 | H455: 0.168704 | I455: 9 | J455: 4.5 | K455: 2149360.4 | L455: 5067131.5 | M455: 0.022353 | N455: 0.169885 | O455: 0.76 | P455: 63.617251 | Q455: <Null> | R455: 2.3.3. Pastos enmalezados | S455: TALAR | T455: Bueno | U455: -72.393851 | V455: 5.35146
A456: 564 | B456: Nauno | C456: Pseudosamanea guachapele (Kunth) Harms | D456: Fabaceae | E456: 10 | F456: 3 | G456: 0.37 | H456: 0.117775 | I456: 7 | J456: 3.5 | K456: 2149352.9 | L456: 5067115 | M456: 0.010894 | N456: 0.082796 | O456: 0.76 | P456: 38.48451 | Q456: <Null> | R456: 2.3.3. Pastos enmalezados | S456: CONSERVAR | T456: Bueno | U456: -72.394 | V456: 5.351393
A457: 565 | B457: Nauno | C457: Pseudosamanea guachapele (Kunth) Harms | D457: Fabaceae | E457: 12 | F457: 4 | G457: 0.92 | H457: 0.292845 | I457: 9 | J457: 4.5 | K457: 2149333.5 | L457: 5067122.1 | M457: 0.067354 | N457: 0.614272 | O457: 0.76 | P457: 63.617251 | Q457: <Null> | R457: 2.3.3. Pastos enmalezados | S457: TALAR | T457: Bueno | U457: -72.393936 | V457: 5.351217
A458: 566 | B458: Nauno | C458: Pseudosamanea guachapele (Kunth) Harms | D458: Fabaceae | E458: 12 | F458: 6 | G458: 0.69 | H458: 0.219634 | I458: 9 | J458: 4.5 | K458: 2149327 | L458: 5067119 | M458: 0.037887 | N458: 0.345528 | O458: 0.76 | P458: 63.617251 | Q458: <Null> | R458: 2.3.3. Pastos enmalezados | S458: CONSERVAR | T458: Bueno | U458: -72.393964 | V458: 5.351159
... A475: 586 | B475: Guácimo | C475: Guazuma ulmifolia Lam. | D475: Malvaceae | E475: 12 | F475: 5 | G475: 0.55 | H475: 0.17507 | I475: 10 | J475: 5 | K475: 2149294.3 | L475: 5067115.6 | M475: 0.024072 | N475: 0.219538 | O475: 0.76 | P475: 78.539816 | Q475: <Null> | R475: 1.1.1. Tejido urbano continuo | S475: TALAR | T475: Bueno | U475: -72.393996 | V475: 5.350863
A476: 587 | B476: Muerto En Pie | C476: <Null> | D476: <Null> | E476: 10 | F476: 4 | G476: 0.6 | H476: 0.190986 | I476: <Null> | J476: 0 | K476: 2149306.4 | L476: 5067112 | M476: 0.028648 | N476: 0.217724 | O476: 0.76 | P476: 0 | Q476: <Null> | R476: 1.1.1. Tejido urbano continuo | S476: TALAR | T476: Muerto en pie | U476: -72.394028 | V476: 5.350972
A477: 588 | B477: Guácimo | C477: Guazuma ulmifolia Lam. | D477: Malvaceae | E477: 10 | F477: 4 | G477: 0.7 | H477: 0.222817 | I477: 8 | J477: 4 | K477: 2149307.7 | L477: 5067111.3 | M477: 0.038993 | N477: 0.296347 | O477: 0.76 | P477: 50.265482 | Q477: <Null> | R477: 1.1.1. Tejido urbano continuo | S477: TALAR | T477: Bueno | U477: -72.394035 | V477: 5.350984
A478: 589 | B478: Muerto En Pie | C478: <Null> | D478: <Null> | E478: 10 | F478: 5 | G478: 1.06 | H478: 0.337408 | I478: <Null> | J478: 0 | K478: 2149310.5 | L478: 5067110.2 | M478: 0.089413 | N478: 0.679541 | O478: 0.76 | P478: 0 | Q478: <Null> | R478: 1.1.1. Tejido urbano continuo | S478: TALAR | T478: Muerto en pie | U478: -72.394044 | V478: 5.351009
A479: 590 | B479: Mango | C479: Mangifera indica L. | D479: Anacardiaceae | E479: 12 | F479: 5 | G479: 2.05 | H479: 0.652535 | I479: 10 | J479: 5 | K479: 2149335.4 | L479: 5067017.3 | M479: 0.334424 | N479: 3.04995 | O479: 0.76 | P479: 78.539816 | Q479: Bejuco | R479: 1.1.1. Tejido urbano continuo | S479: TALAR | T479: Bueno | U479: -72.394883 | V479: 5.351235
A480: 591 | B480: Mango | C480: Mangifera indica L. | D480: Anacardiaceae | E480: 12 | F480: 5 | G480: 1.92 | H480: 0.611155 | I480: 10 | J480: 5 | K480: 2149332.1 | L480: 5067025.2 | M480: 0.293354 | N480: 2.675392 | O480: 0.76 | P480: 78.539816 | Q480: Bromelia (1) | R480: 1.1.1. Tejido urbano continuo | S480: TALAR | T480: Bueno | U480: -72.394811 | V480: 5.351205
A481: 592 | B481: Guanabano | C481: Annona muricata L. | D481: Annonaceae | E481: 4 | F481: 2 | G481: 0.54 | H481: 0.171887 | I481: 6 | J481: 3 | K481: 2149324.1 | L481: 5067031.1 | M481: 0.023205 | N481: 0.070543 | O481: 0.76 | P481: 28.274334 | Q481: <Null> | R481: 1.1.1. Tejido urbano continuo | S481: TALAR | T481: Bueno | U481: -72.394758 | V481: 5.351134
A482: 593 | B482: Guanabano | C482: Annona muricata L. | D482: Annonaceae | E482: 5 | F482: 2 | G482: 0.43 | H482: 0.136873 | I482: 5 | J482: 2.5 | K482: 2149317.2 | L482: 5067024.3 | M482: 0.014714 | N482: 0.055913 | O482: 0.76 | P482: 19.634954 | Q482: <Null> | R482: 1.1.1. Tejido urbano continuo | S482: CONSERVAR | T482: Bueno | U482: -72.39482 | V482: 5.351071
A483: 594 | B483: Gallinero | C483: Pithecellobium dulce (Roxb.) Benth. | D483: Fabaceae | E483: 9 | F483: 3 | G483: 0.67 | H483: 0.213268 | I483: 8 | J483: 4 | K483: 2149322 | L483: 5067018.9 | M483: 0.035722 | N483: 0.244341 | O483: 0.76 | P483: 50.265482 | Q483: <Null> | R483: 1.1.1. Tejido urbano continuo | S483: TALAR | T483: Bueno | U483: -72.394868 | V483: 5.351114
A484: 595 | B484: Mora | C484: Maclura tinctoria (L.) D.Don ex Steud. | D484: Moraceae | E484: 10 | F484: 4 | G484: 0.52 | H484: 0.165521 | I484: 8 | J484: 4 | K484: 2149319.5 | L484: 5067017.7 | M484: 0.021518 | N484: 0.163535 | O484: 0.76 | P484: 50.265482 | Q484: <Null> | R484: 1.1.1. Tejido urbano continuo | S484: TALAR | T484: Bueno | U484: -72.394879 | V484: 5.351092
A485: 596 | B485: Nauno | C485: Pseudosamanea guachapele (Kunth) Harms | D485: Fabaceae | E485: 10 | F485: 3 | G485: 0.5 | H485: 0.159155 | I485: 8 | J485: 4 | K485: 2149318.4 | L485: 5067019.4 | M485: 0.019894 | N485: 0.151197 | O485: 0.76 | P485: 50.265482 | Q485: <Null> | R485: 1.1.1. Tejido urbano continuo | S485: CONSERVAR | T485: Bueno | U485: -72.394864 | V485: 5.351081
A486: 598 | B486: Guácimo | C486: Guazuma ulmifolia Lam. | D486: Malvaceae | E486: 12 | F486: 5 | G486: 0.88 | H486: 0.280113 | I486: 10 | J486: 5 | K486: 2149345 | L486: 5067061.9 | M486: 0.061625 | N486: 0.562018 | O486: 0.76 | P486: 78.539816 | Q486: <Null> | R486: 2.3.3. Pastos enmalezados | S486: CONSERVAR | T486: Bueno | U486: -72.39448 | V486: 5.351322
A487: 599 | B487: Balso | C487: Ochroma pyramidale (Cav.) Urb. | D487: Malvaceae | E487: 9 | F487: 4 | G487: 0.59 | H487: 0.187803 | I487: 7 | J487: 3.5 | K487: 2149329.3 | L487: 5067060.3 | M487: 0.027701 | N487: 0.189474 | O487: 0.76 | P487: 38.48451 | Q487: <Null> | R487: 1.1.1. Tejido urbano continuo | S487: CONSERVAR | T487: Bueno | U487: -72.394494 | V487: 5.35118
A488: 600 | B488: Hobo | C488: Spondias mombin Jacq. | D488: Anacardiaceae | E488: 10 | F488: 4 | G488: 0.59 | H488: 0.187803 | I488: 8 | J488: 4 | K488: 2149327.1 | L488: 5067056 | M488: 0.027701 | N488: 0.210527 | O488: 0.76 | P488: 50.265482 | Q488: <Null> | R488: 1.1.1. Tejido urbano continuo | S488: CONSERVAR | T488: Bueno | U488: -72.394533 | V488: 5.35116
A489: 601 | B489: Balso | C489: Ochroma pyramidale (Cav.) Urb. | D489: Malvaceae | E489: 11 | F489: 4 | G489: 1 | H489: 0.31831 | I489: 10 | J489: 5 | K489: 2149323.7 | L489: 5067058.4 | M489: 0.079577 | N489: 0.665268 | O489: 0.76 | P489: 78.539816 | Q489: <Null> | R489: 1.1.1. Tejido urbano continuo | S489: CONSERVAR | T489: Bueno | U489: -72.394512 | V489: 5.351129
A490: 602 | B490: Nauno | C490: Pseudosamanea guachapele (Kunth) Harms | D490: Fabaceae | E490: 10 | F490: 4 | G490: 0.39 | H490: 0.124141 | I490: 6 | J490: 3 | K490: 2149319.3 | L490: 5067063.7 | M490: 0.012104 | N490: 0.091988 | O490: 0.76 | P490: 28.274334 | Q490: Bejuco | R490: 1.1.1. Tejido urbano continuo | S490: TALAR | T490: Bueno | U490: -72.394463 | V490: 5.35109
... A503: 616 | B503: Ceiba | C503: Ceiba pentandra (L.) Gaertn. | D503: Malvaceae | E503: 13 | F503: 6 | G503: 2.57 | H503: 0.818056 | I503: 9 | J503: 4.5 | K503: 2149308.2 | L503: 5067101.2 | M503: 0.525601 | N503: 5.19294 | O503: 0.76 | P503: 63.617251 | Q503: Bejuco | R503: 1.1.1. Tejido urbano continuo | S503: TALAR | T503: Bueno | U503: -72.394126 | V503: 5.350989
A504: 617 | B504: Muerto En Pie | C504: <Null> | D504: <Null> | E504: 10 | F504: 4 | G504: 0.64 | H504: 0.203718 | I504: <Null> | J504: 0 | K504: 2149306.1 | L504: 5067095.1 | M504: 0.032595 | N504: 0.247721 | O504: 0.76 | P504: 0 | Q504: Orquidea (1) Bejuco | R504: 1.1.1. Tejido urbano continuo | S504: TALAR | T504: Muerto en pie | U504: -72.394181 | V504: 5.35097
A505: 619 | B505: Balso | C505: Ochroma pyramidale (Cav.) Urb. | D505: Malvaceae | E505: 11 | F505: 4 | G505: 0.52 | H505: 0.165521 | I505: 7 | J505: 3.5 | K505: 2149282.6 | L505: 5067109.1 | M505: 0.021518 | N505: 0.179888 | O505: 0.76 | P505: 38.48451 | Q505: <Null> | R505: 1.1.1. Tejido urbano continuo | S505: TALAR | T505: Bueno | U505: -72.394055 | V505: 5.350757
A506: 620 | B506: Nauno | C506: Pseudosamanea guachapele (Kunth) Harms | D506: Fabaceae | E506: 12 | F506: 6 | G506: 1.09 | H506: 0.346958 | I506: 6 | J506: 3 | K506: 2149281.4 | L506: 5067110.8 | M506: 0.094546 | N506: 0.862259 | O506: 0.76 | P506: 28.274334 | Q506: <Null> | R506: 1.1.1. Tejido urbano continuo | S506: CONSERVAR | T506: Bueno | U506: -72.394039 | V506: 5.350746
A507: 621 | B507: Nauno | C507: Pseudosamanea guachapele (Kunth) Harms | D507: Fabaceae | E507: 12 | F507: 5 | G507: 0.7 | H507: 0.222817 | I507: 6 | J507: 3 | K507: 2149277.2 | L507: 5067112.7 | M507: 0.038993 | N507: 0.355616 | O507: 0.76 | P507: 28.274334 | Q507: <Null> | R507: 1.1.1. Tejido urbano continuo | S507: CONSERVAR | T507: Bueno | U507: -72.394022 | V507: 5.350708
A508: 622 | B508: Nauno | C508: Pseudosamanea guachapele (Kunth) Harms | D508: Fabaceae | E508: 12 | F508: 5 | G508: 1.52 | H508: 0.483831 | I508: 10 | J508: 5 | K508: 2149255.2 | L508: 5067130.5 | M508: 0.183856 | N508: 1.676765 | O508: 0.76 | P508: 78.539816 | Q508: <Null> | R508: 1.1.1. Tejido urbano continuo | S508: CONSERVAR | T508: Bueno | U508: -72.393862 | V508: 5.350508
A509: 623 | B509: Nauno | C509: Pseudosamanea guachapele (Kunth) Harms | D509: Fabaceae | E509: 10 | F509: 5 | G509: 0.45 | H509: 0.143239 | I509: 8 | J509: 4 | K509: 2149258.8 | L509: 5067141 | M509: 0.016114 | N509: 0.12247 | O509: 0.76 | P509: 50.265482 | Q509: <Null> | R509: 1.1.1. Tejido urbano continuo | S509: CONSERVAR | T509: Bueno | U509: -72.393766 | V509: 5.350541
A510: 624 | B510: Nauno | C510: Pseudosamanea guachapele (Kunth) Harms | D510: Fabaceae | E510: 10 | F510: 5 | G510: 0.77 | H510: 0.245099 | I510: 10 | J510: 5 | K510: 2149256.7 | L510: 5067147.2 | M510: 0.047181 | N510: 0.358579 | O510: 0.76 | P510: 78.539816 | Q510: <Null> | R510: 1.1.1. Tejido urbano continuo | S510: CONSERVAR | T510: Bueno | U510: -72.393711 | V510: 5.350522
A511: 625 | B511: Hobo | C511: Spondias mombin Jacq. | D511: Anacardiaceae | E511: 10 | F511: 4 | G511: 0.49 | H511: 0.155972 | I511: 5 | J511: 2.5 | K511: 2149264.9 | L511: 5067150.1 | M511: 0.019107 | N511: 0.14521 | O511: 0.76 | P511: 19.634954 | Q511: <Null> | R511: 2.3.3. Pastos enmalezados | S511: CONSERVAR | T511: Bueno | U511: -72.393684 | V511: 5.350596
A512: 626 | B512: Nauno | C512: Pseudosamanea guachapele (Kunth) Harms | D512: Fabaceae | E512: 12 | F512: 5 | G512: 1.4 | H512: 0.445634 | I512: 9 | J512: 4.5 | K512: 2149240.3 | L512: 5067159.6 | M512: 0.155972 | N512: 1.422463 | O512: 0.76 | P512: 63.617251 | Q512: <Null> | R512: 1.1.1. Tejido urbano continuo | S512: CONSERVAR | T512: Bueno | U512: -72.393599 | V512: 5.350374
...

Sheet Aprovechar
A1: Arbol | B1: NOMBRE COMUN | C1: NOMBRE CIENTIFICO | D1: FAMILIA | E1: HT (m) | F1: Hc (m) | G1: CAP (m) | H1: DAP (m) | I1: Diametro De Copa (m) | J1: Radio de Copa (m) | K1: X | L1: Y | M1: AB (m2) | N1: VT M3) | O1: Factor de Forma | P1: Area de Copa (m2) | Q1: Epifitas | R1: COBERTURA NATURAL | S1: OBSERVACIÓN
A2: 54 | B2: Nauno | C2: Pseudosamanea guachapele (Kunth) Harms | D2: Fabaceae | E2: 7 | F2: 2 | G2: 0.75 | H2: 0.238732 | I2: 8 | J2: 4 | K2: 2149381.7 | L2: 5067042.6 | M2: 0.044762 | N2: 0.238136 | O2: 0.76 | P2: 50.265482 | Q2: <Null> | R2: 3.1.3.2. Bosque fragmentado con vegetación secundaria | S2: TALAR | T2: Bueno
A3: 55 | B3: Balso | C3: Ochroma pyramidale (Cav.) Urb. | D3: Malvaceae | E3: 12 | F3: 3 | G3: 1.76 | H3: 0.560225 | I3: 9 | J3: 4.5 | K3: 2149383.1 | L3: 5067050.4 | M3: 0.246499 | N3: 2.248072 | O3: 0.76 | P3: 63.617251 | Q3: <Null> | R3: 3.1.3.2. Bosque fragmentado con vegetación secundaria | S3: TALAR | T3: Bueno
A4: 57 | B4: Nacedero | C4: Trichanthera gigantea (Bonpl.) Nees | D4: Acanthaceae | E4: 12 | F4: 6 | G4: 0.33 | H4: 0.105042 | I4: 7 | J4: 3.5 | K4: 2149384.5 | L4: 5067055.4 | M4: 0.008666 | N4: 0.079034 | O4: 0.76 | P4: 38.48451 | Q4: <Null> | R4: 3.1.3.2. Bosque fragmentado con vegetación secundaria | S4: TALAR | T4: Bueno
A5: 63 | B5: Gallinero | C5: Pithecellobium dulce (Roxb.) Benth. | D5: Fabaceae | E5: 9 | F5: 2.5 | G5: 0.52 | H5: 0.165521 | I5: 9 | J5: 4.5 | K5: 2149383.8 | L5: 5067060 | M5: 0.021518 | N5: 0.147181 | O5: 0.76 | P5: 63.617251 | Q5: <Null> | R5: 3.1.3.2. Bosque fragmentado con vegetación secundaria | S5: TALAR | T5: Bueno
A6: 64 | B6: Nacedero | C6: Trichanthera gigantea (Bonpl.) Nees | D6: Acanthaceae | E6: 12 | F6: 3 | G6: 0.4 | H6: 0.127324 | I6: 12 | J6: 6 | K6: 2149383.9 | L6: 5067065.6 | M6: 0.012732 | N6: 0.116119 | O6: 0.76 | P6: 113.09734 | Q6: <Null> | R6: 3.1.3.2. Bosque fragmentado con vegetación secundaria | S6: TALAR | T6: Bueno
A7: 66 | B7: Yarumo | C7: Cecropia engleriana Snethl. | D7: Cecropiaceae | E7: 12 | F7: 3 | G7: 0.63 | H7: 0.200535 | I7: 9 | J7: 4.5 | K7: 2149383.7 | L7: 5067068.8 | M7: 0.031584 | N7: 0.288049 | O7: 0.76 | P7: 63.617251 | Q7: <Null> | R7: 3.1.3.2. Bosque fragmentado con vegetación secundaria | S7: TALAR | T7: Bueno
A8: 67 | B8: Cañafístulo | C8: Senna multijuga (Rich.) H.S.Irwin & Barneby | D8: Fabaceae | E8: 12 | F8: 3 | G8: 1.08 | H8: 0.343775 | I8: 9 | J8: 4.5 | K8: 2149384.1 | L8: 5067070.7 | M8: 0.092819 | N8: 0.846511 | O8: 0.76 | P8: 63.617251 | Q8: <Null> | R8: 3.1.3.2. Bosque fragmentado con vegetación secundaria | S8: TALAR | T8: Bueno
A9: 68 | B9: Muerto En Pie | C9: <Null> | D9: <Null> | E9: 11 | F9: 2 | G9: 1.93 | H9: 0.614338 | I9: 0 | J9: 0 | K9: 2149382.1 | L9: 5067075.1 | M9: 0.296418 | N9: 2.478056 | O9: 0.76 | P9: 0 | Q9: Bromelias (2) | R9: 3.1.3.2. Bosque fragmentado con vegetación secundaria | S9: TALAR | T9: Bueno
A10: 69 | B10: Melina | C10: Gmelina arborea Roxb. Ex Sm. | D10: Lamiaceae | E10: 8 | F10: 2 | G10: 0.3 | H10: 0.095493 | I10: 7 | J10: 3.5 | K10: 2149382.9 | L10: 5067077.4 | M10: 0.007162 | N10: 0.043545 | O10: 0.76 | P10: 38.48451 | Q10: <Null> | R10: 3.1.3.2. Bosque fragmentado con vegetación secundaria | S10: TALAR | T10: Bueno
A11: 70 | B11: Mora | C11: Maclura tinctoria (L.) D.Don ex Steud. | D11: Moraceae | E11: 10 | F11: 4 | G11: 0.52 | H11: 0.165521 | I11: 9 | J11: 4.5 | K11: 2149382.9 | L11: 5067079.2 | M11: 0.021518 | N11: 0.163535 | O11: 0.76 | P11: 63.617251 | Q11: <Null> | R11: 3.1.3.2. Bosque fragmentado con vegetación secundaria | S11: TALAR | T11: Bueno
A12: 72 | B12: Hobo | C12: Spondias mombin Jacq. | D12: Anacardiaceae | E12: 10 | F12: 1.5 | G12: 0.65 | H12: 0.206901 | I12: 10 | J12: 5 | K12: 2149377.9 | L12: 5067079.6 | M12: 0.033621 | N12: 0.255523 | O12: 0.76 | P12: 78.539816 | Q12: Bejuco | R12: 3.1.3.2. Bosque fragmentado con vegetación secundaria | S12: TALAR | T12: Bueno
A13: 74 | B13: Mora | C13: Maclura tinctoria (L.) D.Don ex Steud. | D13: Moraceae | E13: 7 | F13: 2 | G13: 0.43 | H13: 0.136873 | I13: 9 | J13: 4.5 | K13: 2149382.6 | L13: 5067091.6 | M13: 0.014714 | N13: 0.078278 | O13: 0.76 | P13: 63.617251 | Q13: <Null> | R13: 3.1.3.2. Bosque fragmentado con vegetación secundaria | S13: TALAR | T13: Bueno
... A110: 386 | B110: Sangro | C110: Lonchocarpus violaceus (Jacq.) Kunth ex DC | D110: Fabaceae | E110: 10 | F110: 2 | G110: 0.54 | H110: 0.171887 | I110: 9 | J110: 4.5 | K110: 2149351.2 | L110: 5066981.9 | M110: 0.023205 | N110: 0.176356 | O110: 0.76 | P110: 63.617251 | Q110: <Null> | R110: 1.1.1. Tejido urbano continuo | S110: TALAR | T110: Bueno
A111: 388 | B111: Muerto En Pie | C111: <Null> | D111: <Null> | E111: 13 | F111: 5 | G111: 0.8 | H111: 0.254648 | I111: <Null> | J111: 0 | K111: 2149346.3 | L111: 5066965.2 | M111: 0.05093 | N111: 0.503184 | O111: 0.76 | P111: 0 | Q111: <Null> | R111: 1.1.1. Tejido urbano continuo | S111: TALAR | T111: Muerto en pie
A112: 395 | B112: Pardillo | C112: Cordia tetrandra Aubl. | D112: Boraginaceae | E112: 8 | F112: 3 | G112: 0.32 | H112: 0.101859 | I112: 9 | J112: 4.5 | K112: 2149382.3 | L112: 5066932.9 | M112: 0.008149 | N112: 0.049544 | O112: 0.76 | P112: 63.617251 | Q112: <Null> | R112: 3.1.3.2. Bosque fragmentado con vegetación secundaria | S112: TALAR | T112: Bueno
A113: 397 | B113: Arenillo | C113: Qualea acuminata Spruce ez Warm. | D113: Vochysiaceae | E113: 6 | F113: 2 | G113: 0.32 | H113: 0.101859 | I113: 9 | J113: 4.5 | K113: 2149380.4 | L113: 5066937.1 | M113: 0.008149 | N113: 0.037158 | O113: 0.76 | P113: 63.617251 | Q113: <Null> | R113: 3.1.3.2. Bosque fragmentado con vegetación secundaria | S113: TALAR | T113: Bueno
A114: 429 | B114: Nauno | C114: Pseudosamanea guachapele (Kunth) Harms | D114: Fabaceae | E114: 9 | F114: 3 | G114: 0.35 | H114: 0.111408 | I114: 8 | J114: 4 | K114: 2149365.6 | L114: 5066997.5 | M114: 0.009748 | N114: 0.066678 | O114: 0.76 | P114: 50.265482 | Q114: <Null> | R114: 3.1.3.2. Bosque fragmentado con vegetación secundaria | S114: TALAR | T114: Bueno
A115: 432 | B115: Arrayan | C115: Eugenia sp | D115: Myrtaceae | E115: 7 | F115: 2 | G115: 0.39 | H115: 0.124141 | I115: 9 | J115: 4.5 | K115: 2149363.2 | L115: 5067005.6 | M115: 0.012104 | N115: 0.064392 | O115: 0.76 | P115: 63.617251 | Q115: <Null> | R115: 3.1.3.2. Bosque fragmentado con vegetación secundaria | S115: TALAR | T115: Bueno
A116: 433 | B116: Arrayan | C116: Eugenia sp | D116: Myrtaceae | E116: 7 | F116: 2 | G116: 0.5 | H116: 0.159155 | I116: 8 | J116: 4 | K116: 2149363 | L116: 5067006.7 | M116: 0.019894 | N116: 0.105838 | O116: 0.76 | P116: 50.265482 | Q116: <Null> | R116: 3.1.3.2. Bosque fragmentado con vegetación secundaria | S116: TALAR | T116: Bueno
A117: 434 | B117: Arrayan | C117: Eugenia sp | D117: Myrtaceae | E117: 12 | F117: 2 | G117: 1.9 | H117: 0.604789 | I117: 9 | J117: 4.5 | K117: 2149363.4 | L117: 5067007.6 | M117: 0.287275 | N117: 2.619945 | O117: 0.76 | P117: 63.617251 | Q117: <Null> | R117: 3.1.3.2. Bosque fragmentado con vegetación secundaria | S117: TALAR | T117: Bueno
A118: 435 | B118: Arrayan | C118: Eugenia sp | D118: Myrtaceae | E118: 6 | F118: 1.2 | G118: 0.39 | H118: 0.124141 | I118: 7 | J118: 3.5 | K118: 2149367.5 | L118: 5067007.5 | M118: 0.012104 | N118: 0.055193 | O118: 0.76 | P118: 38.48451 | Q118: <Null> | R118: 3.1.3.2. Bosque fragmentado con vegetación secundaria | S118: TALAR | T118: Bueno
A119: 438 | B119: Guacharaco | C119: Cupania americana L. | D119: Sapindaceae | E119: 12 | F119: 3 | G119: 1.57 | H119: 0.499747 | I119: 9 | J119: 4.5 | K119: 2149375.2 | L119: 5067014 | M119: 0.196151 | N119: 1.788893 | O119: 0.76 | P119: 63.617251 | Q119: Bromelias (5) | R119: 3.1.3.2. Bosque fragmentado con vegetación secundaria | S119: TALAR | T119: Bueno
A120: 440 | B120: Muerto En Pie | C120: <Null> | D120: <Null> | E120: 10 | F120: 6 | G120: 0.6 | H120: 0.190986 | I120: <Null> | J120: 0 | K120: 2149373 | L120: 5067001.4 | M120: 0.028648 | N120: 0.217724 | O120: 0.76 | P120: 0 | Q120: <Null> | R120: 3.1.3.2. Bosque fragmentado con vegetación secundaria | S120: TALAR | T120: Muerto en pie
A121: 441 | B121: Mango | C121: Mangifera indica L. | D121: Anacardiaceae | E121: 12 | F121: 4 | G121: 1.93 | H121: 0.614338 | I121: 10 | J121: 5 | K121: 2149284.4 | L121: 5066995.4 | M121: 0.296418 | N121: 2.703333 | O121: 0.76 | P121: 78.539816 | Q121: <Null> | R121: 1.1.1. Tejido urbano continuo | S121: TALAR | T121: Bueno
A122: 442 | B122: Palma Corneto | C122: Iriartea deltoidea Ruiz & Pav. | D122: Arecaceae | E122: 9 | F122: 3 | G122: 0.34 | H122: 0.108225 | I122: 7 | J122: 3.5 | K122: 2149275.9 | L122: 5066993.8 | M122: 0.009199 | N122: 0.062922 | O122: 0.76 | P122: 38.48451 | Q122: <Null> | R122: 1.1.1. Tejido urbano continuo | S122: TALAR | T122: Bueno
A123: 444 | B123: Guanabano | C123: Annona muricata L. | D123: Annonaceae | E123: 10 | F123: 3 | G123: 0.9 | H123: 0.286479 | I123: 9 | J123: 4.5 | K123: 2149254 | L123: 5066983 | M123: 0.064458 | N123: 0.489879 | O123: 0.76 | P123: 63.617251 | Q123: <Null> | R123: 1.1.1. Tejido urbano continuo | S123: TALAR | T123: Bueno
A124: 445 | B124: Mamoncillo | C124: Melicoccus bijugatus Jacq. | D124: Sapindaceae | E124: 12 | F124: 4 | G124: 0.96 | H124: 0.305577 | I124: 9 | J124: 4.5 | K124: 2149290.4 | L124: 5067009.6 | M124: 0.073339 | N124: 0.668848 | O124: 0.76 | P124: 63.617251 | Q124: <Null> | R124: 1.1.1. Tejido urbano continuo | S124: TALAR | T124: Bueno
A125: 447 | B125: Nauno | C125: Pseudosamanea guachapele (Kunth) Harms | D125: Fabaceae | E125: 10 | F125: 4 | G125: 0.7 | H125: 0.222817 | I125: 11 | J125: 5.5 | K125: 2149273.4 | L125: 5067011.1 | M125: 0.038993 | N125: 0.296347 | O125: 0.76 | P125: 95.033178 | Q125: <Null> | R125: 1.1.1. Tejido urbano continuo | S125: TALAR | T125: Bueno
A126: 453 | B126: Oití | C126: Moquilea tomentosa Benth. | D126: Chrysobalanaceae | E126: 10 | F126: 3 | G126: 0.4 | H126: 0.127324 | I126: 11 | J126: 5.5 | K126: 2149258.4 | L126: 5067016.4 | M126: 0.012732 | N126: 0.096766 | O126: 0.76 | P126: 95.033178 | Q126: Orquidea (1) | R126: 1.1.1. Tejido urbano continuo | S126: TALAR | T126: Bueno
A127: 454 | B127: Pera de Malaca | C127: Syzygium malaccense (L.) Merr. & L.M.Perry | D127: Myrtaceae | E127: 9 | F127: 3 | G127: 0.82 | H127: 0.261014 | I127: 11 | J127: 5.5 | K127: 2149253.9 | L127: 5067018.1 | M127: 0.053508 | N127: 0.365994 | O127: 0.76 | P127: 95.033178 | Q127: <Null> | R127: 1.1.1. Tejido urbano continuo | S127: TALAR | T127: Bueno
A128: 455 | B128: Pera de Malaca | C128: Syzygium malaccense (L.) Merr. & L.M.Perry | D128: Myrtaceae | E128: 9 | F128: 3 | G128: 0.53 | H128: 0.168704 | I128: 11 | J128: 5.5 | K128: 2149253.1 | L128: 5067020.2 | M128: 0.022353 | N128: 0.152897 | O128: 0.76 | P128: 95.033178 | Q128: <Null> | R128: 1.1.1. Tejido urbano continuo | S128: TALAR | T128: Bueno
A129: 456 | B129: Palma Botella | C129: Roystonea regia (Kunth) O.F.Cook | D129: Arecaceae | E129: 10 | F129: 4 | G129: 0.9 | H129: 0.286479 | I129: 8 | J129: 4 | K129: 2149250.4 | L129: 5066993.7 | M129: 0.064458 | N129: 0.489879 | O129: 0.76 | P129: 50.265482 | Q129: <Null> | R129: 1.1.1. Tejido urbano continuo | S129: TALAR | T129: Bueno
A130: 457 | B130: Palma Botella | C130: Roystonea regia (Kunth) O.F.Cook | D130: Arecaceae | E130: 7 | F130: 2 | G130: 0.66 | H130: 0.210085 | I130: 8 | J130: 4 | K130: 2149248.4 | L130: 5067000.1 | M130: 0.034664 | N130: 0.184412 | O130: 0.76 | P130: 50.265482 | Q130: <Null> | R130: 1.1.1. Tejido urbano continuo | S130: TALAR | T130: Bueno
A131: 458 | B131: Mango | C131: Mangifera indica L. | D131: Anacardiaceae | E131: 12 | F131: 4 | G131: 2.8 | H131: 0.891268 | I131: 9 | J131: 4.5 | K131: 2149290.1 | L131: 5067033.3 | M131: 0.623887 | N131: 5.689853 | O131: 0.76 | P131: 63.617251 | Q131: <Null> | R131: 1.1.1. Tejido urbano continuo | S131: TALAR | T131: Bueno
A132: 459 | B132: Mango | C132: Mangifera indica L. | D132: Anacardiaceae | E132: 12 | F132: 4 | G132: 1.58 | H132: 0.50293 | I132: 9 | J132: 4.5 | K132: 2149298.6 | L132: 5067036.5 | M132: 0.198657 | N132: 1.811754 | O132: 0.76 | P132: 63.617251 | Q132: <Null> | R132: 1.1.1. Tejido urbano continuo | S132: TALAR | T132: Bueno
... A157: 502 | B157: Gallinero | C157: Pithecellobium dulce (Roxb.) Benth. | D157: Fabaceae | E157: 9 | F157: 3 | G157: 1.27 | H157: 0.404254 | I157: 8 | J157: 4 | K157: 2149223.2 | L157: 5066972.2 | M157: 0.128351 | N157: 0.877917 | O157: 0.76 | P157: 50.265482 | Q157: <Null> | R157: 1.1.1. Tejido urbano continuo | S157: TALAR | T157: Bueno
A158: 505 | B158: Muerto En Pie | C158: <Null> | D158: <Null> | E158: 12 | F158: 4 | G158: 1.4 | H158: 0.445634 | I158: <Null> | J158: 0 | K158: 2149354.2 | L158: 5067017.2 | M158: 0.155972 | N158: 1.422463 | O158: 0.76 | P158: 0 | Q158: <Null> | R158: 3.1.3.2. Bosque fragmentado con vegetación secundaria | S158: TALAR | T158: Muerto en pie
A159: 509 | B159: Guayacán Amarillo | C159: Handroanthus chrysanthus (Jacq.) S.O.Grose | D159: Bignoniaceae | E159: 12 | F159: 5 | G159: 1.35 | H159: 0.429718 | I159: 8 | J159: 4 | K159: 2149347.4 | L159: 5067023.4 | M159: 0.14503 | N159: 1.322673 | O159: 0.76 | P159: 50.265482 | Q159: <Null> | R159: 3.1.3.2. Bosque fragmentado con vegetación secundaria | S159: TALAR | T159: Bueno
A160: 510 | B160: Cedro | C160: Cedrela odorata L. | D160: Meliaceae | E160: 12 | F160: 4 | G160: 1.7 | H160: 0.541127 | I160: 9 | J160: 4.5 | K160: 2149354.3 | L160: 5067019.7 | M160: 0.229979 | N160: 2.097408 | O160: 0.76 | P160: 63.617251 | Q160: <Null> | R160: 3.1.3.2. Bosque fragmentado con vegetación secundaria | S160: TALAR | T160: Bueno
A161: 511 | B161: Nauno | C161: Pseudosamanea guachapele (Kunth) Harms | D161: Fabaceae | E161: 12 | F161: 5 | G161: 1.07 | H161: 0.340592 | I161: 8 | J161: 4 | K161: 2149354.5 | L161: 5067019.7 | M161: 0.091108 | N161: 0.830907 | O161: 0.76 | P161: 50.265482 | Q161: <Null> | R161: 3.1.3.2. Bosque fragmentado con vegetación secundaria | S161: TALAR | T161: Bueno
A162: 517 | B162: Nauno | C162: Pseudosamanea guachapele (Kunth) Harms | D162: Fabaceae | E162: 12 | F162: 6 | G162: 0.4 | H162: 0.127324 | I162: 7 | J162: 3.5 | K162: 2149352.6 | L162: 5067040.8 | M162: 0.012732 | N162: 0.116119 | O162: 0.76 | P162: 38.48451 | Q162: <Null> | R162: 3.1.3.2. Bosque fragmentado con vegetación secundaria | S162: TALAR | T162: Bueno
A163: 518 | B163: Nauno | C163: Pseudosamanea guachapele (Kunth) Harms | D163: Fabaceae | E163: 12 | F163: 6 | G163: 0.93 | H163: 0.296028 | I163: 7 | J163: 3.5 | K163: 2149350.3 | L163: 5067041.4 | M163: 0.068827 | N163: 0.627698 | O163: 0.76 | P163: 38.48451 | Q163: <Null> | R163: 3.1.3.2. Bosque fragmentado con vegetación secundaria | S163: TALAR | T163: Bueno
A164: 519 | B164: Nauno | C164: Pseudosamanea guachapele (Kunth) Harms | D164: Fabaceae | E164: 12 | F164: 6 | G164: 0.6 | H164: 0.190986 | I164: 8 | J164: 4 | K164: 2149348.8 | L164: 5067041.8 | M164: 0.028648 | N164: 0.261269 | O164: 0.76 | P164: 50.265482 | Q164: <Null> | R164: 3.1.3.2. Bosque fragmentado con vegetación secundaria | S164: TALAR | T164: Bueno
A165: 520 | B165: Nauno | C165: Pseudosamanea guachapele (Kunth) Harms | D165: Fabaceae | E165: 12 | F165: 6 | G165: 0.81 | H165: 0.257831 | I165: 11 | J165: 5.5 | K165: 2149352.7 | L165: 5067043.2 | M165: 0.052211 | N165: 0.476162 | O165: 0.76 | P165: 95.033178 | Q165: <Null> | R165: 3.1.3.2. Bosque fragmentado con vegetación secundaria | S165: TALAR | T165: Bueno
A166: 521 | B166: Nauno | C166: Pseudosamanea guachapele (Kunth) Harms | D166: Fabaceae | E166: 12 | F166: 6 | G166: 0.66 | H166: 0.210085 | I166: 9 | J166: 4.5 | K166: 2149358 | L166: 5067040.8 | M166: 0.034664 | N166: 0.316135 | O166: 0.76 | P166: 63.617251 | Q166: <Null> | R166: 3.1.3.2. Bosque fragmentado con vegetación secundaria | S166: TALAR | T166: Bueno
A167: 522 | B167: Nauno | C167: Pseudosamanea guachapele (Kunth) Harms | D167: Fabaceae | E167: 12 | F167: 6 | G167: 0.45 | H167: 0.143239 | I167: 9 | J167: 4.5 | K167: 2149358.5 | L167: 5067040.2 | M167: 0.016114 | N167: 0.146964 | O167: 0.76 | P167: 63.617251 | Q167: <Null> | R167: 3.1.3.2. Bosque fragmentado con vegetación secundaria | S167: TALAR | T167: Bueno
A168: 525 | B168: Cedro | C168: Cedrela odorata L. | D168: Meliaceae | E168: 12 | F168: 6 | G168: 1.26 | H168: 0.40107 | I168: 11 | J168: 5.5 | K168: 2149365 | L168: 5067042.8 | M168: 0.126337 | N168: 1.152195 | O168: 0.76 | P168: 95.033178 | Q168: <Null> | R168: 3.1.3.2. Bosque fragmentado con vegetación secundaria | S168: TALAR | T168: Bueno
A169: 526 | B169: Cedro | C169: Cedrela odorata L. | D169: Meliaceae | E169: 12 | F169: 6 | G169: 1.29 | H169: 0.41062 | I169: 11 | J169: 5.5 | K169: 2149368.4 | L169: 5067042.8 | M169: 0.132425 | N169: 1.207715 | O169: 0.76 | P169: 95.033178 | Q169: <Null> | R169: 3.1.3.2. Bosque fragmentado con vegetación secundaria | S169: TALAR | T169: Bueno
A170: 528 | B170: Cedro | C170: Cedrela odorata L. | D170: Meliaceae | E170: 13 | F170: 8 | G170: 0.49 | H170: 0.155972 | I170: 8 | J170: 4 | K170: 2149370.9 | L170: 5067042.7 | M170: 0.019107 | N170: 0.188773 | O170: 0.76 | P170: 50.265482 | Q170: <Null> | R170: 3.1.3.2. Bosque fragmentado con vegetación secundaria | S170: TALAR | T170: Bueno
... A182: 548 | B182: Guacharaco | C182: Cupania americana L. | D182: Sapindaceae | E182: 10 | F182: 2 | G182: 0.63 | H182: 0.200535 | I182: 10 | J182: 5 | K182: 2149370.2 | L182: 5067135.7 | M182: 0.031584 | N182: 0.240041 | O182: 0.76 | P182: 78.539816 | Q182: <Null> | R182: 3.1.3.2. Bosque fragmentado con vegetación secundaria | S182: TALAR | T182: Bueno
A183: 552 | B183: Muerto En Pie | C183: <Null> | D183: <Null> | E183: 10 | F183: 3 | G183: 0.9 | H183: 0.286479 | I183: <Null> | J183: 0 | K183: 2149367.1 | L183: 5067068.2 | M183: 0.064458 | N183: 0.489879 | O183: 0.76 | P183: 0 | Q183: <Null> | R183: 3.1.3.2. Bosque fragmentado con vegetación secundaria | S183: TALAR | T183: Muerto en pie
A184: 553 | B184: Muerto En Pie | C184: <Null> | D184: <Null> | E184: 11 | F184: 6 | G184: 0.9 | H184: 0.286479 | I184: <Null> | J184: 0 | K184: 2149366.7 | L184: 5067071.2 | M184: 0.064458 | N184: 0.538867 | O184: 0.76 | P184: 0 | Q184: <Null> | R184: 3.1.3.2. Bosque fragmentado con vegetación secundaria | S184: TALAR | T184: Muerto en pie
A185: 554 | B185: Nauno | C185: Pseudosamanea guachapele (Kunth) Harms | D185: Fabaceae | E185: 9 | F185: 4 | G185: 0.4 | H185: 0.127324 | I185: 5 | J185: 2.5 | K185: 2149368.9 | L185: 5067071.8 | M185: 0.012732 | N185: 0.08709 | O185: 0.76 | P185: 19.634954 | Q185: <Null> | R185: 3.1.3.2. Bosque fragmentado con vegetación secundaria | S185: TALAR | T185: Bueno
A186: 556 | B186: Ceiba | C186: Ceiba pentandra (L.) Gaertn. | D186: Malvaceae | E186: 12 | F186: 4 | G186: 1.39 | H186: 0.442451 | I186: 7 | J186: 3.5 | K186: 2149373.7 | L186: 5067075 | M186: 0.153752 | N186: 1.402215 | O186: 0.76 | P186: 38.48451 | Q186: <Null> | R186: 3.1.3.2. Bosque fragmentado con vegetación secundaria | S186: TALAR | T186: Bueno
A187: 557 | B187: Ceiba | C187: Ceiba pentandra (L.) Gaertn. | D187: Malvaceae | E187: 13 | F187: 6 | G187: 1.31 | H187: 0.416986 | I187: 12 | J187: 6 | K187: 2149373.3 | L187: 5067077.8 | M187: 0.136563 | N187: 1.349241 | O187: 0.76 | P187: 113.09734 | Q187: <Null> | R187: 3.1.3.2. Bosque fragmentado con vegetación secundaria | S187: TALAR | T187: Bueno
A188: 558 | B188: Nauno | C188: Pseudosamanea guachapele (Kunth) Harms | D188: Fabaceae | E188: 12 | F188: 4 | G188: 0.9 | H188: 0.286479 | I188: 9 | J188: 4.5 | K188: 2149368.6 | L188: 5067077.2 | M188: 0.064458 | N188: 0.587855 | O188: 0.76 | P188: 63.617251 | Q188: <Null> | R188: 3.1.3.2. Bosque fragmentado con vegetación secundaria | S188: TALAR | T188: Bueno
A189: 563 | B189: Nauno | C189: Pseudosamanea guachapele (Kunth) Harms | D189: Fabaceae | E189: 10 | F189: 3 | G189: 0.53 | H189: 0.168704 | I189: 9 | J189: 4.5 | K189: 2149360.4 | L189: 5067131.5 | M189: 0.022353 | N189: 0.169885 | O189: 0.76 | P189: 63.617251 | Q189: <Null> | R189: 2.3.3. Pastos enmalezados | S189: TALAR | T189: Bueno
A190: 565 | B190: Nauno | C190: Pseudosamanea guachapele (Kunth) Harms | D190: Fabaceae | E190: 12 | F190: 4 | G190: 0.92 | H190: 0.292845 | I190: 9 | J190: 4.5 | K190: 2149333.5 | L190: 5067122.1 | M190: 0.067354 | N190: 0.614272 | O190: 0.76 | P190: 63.617251 | Q190: <Null> | R190: 2.3.3. Pastos enmalezados | S190: TALAR | T190: Bueno
A191: 567 | B191: Nauno | C191: Pseudosamanea guachapele (Kunth) Harms | D191: Fabaceae | E191: 12 | F191: 4 | G191: 0.38 | H191: 0.120958 | I191: 10 | J191: 5 | K191: 2149324.2 | L191: 5067120.6 | M191: 0.011491 | N191: 0.104798 | O191: 0.76 | P191: 78.539816 | Q191: <Null> | R191: 2.3.3. Pastos enmalezados | S191: TALAR | T191: Bueno
A192: 572 | B192: Pardillo | C192: Cordia tetrandra Aubl. | D192: Boraginaceae | E192: 12 | F192: 4 | G192: 1.07 | H192: 0.340592 | I192: 9 | J192: 4.5 | K192: 2149320 | L192: 5067127 | M192: 0.091108 | N192: 0.830907 | O192: 0.76 | P192: 63.617251 | Q192: <Null> | R192: 2.3.3. Pastos enmalezados | S192: TALAR | T192: Bueno
A193: 577 | B193: Nauno | C193: Pseudosamanea guachapele (Kunth) Harms | D193: Fabaceae | E193: 10 | F193: 4 | G193: 0.49 | H193: 0.155972 | I193: 6 | J193: 3 | K193: 2149305.6 | L193: 5067137.9 | M193: 0.019107 | N193: 0.14521 | O193: 0.76 | P193: 28.274334 | Q193: <Null> | R193: 2.3.3. Pastos enmalezados | S193: TALAR | T193: Bueno
A194: 584 | B194: Guácimo | C194: Guazuma ulmifolia Lam. | D194: Malvaceae | E194: 10 | F194: 3 | G194: 0.45 | H194: 0.143239 | I194: 11 | J194: 5.5 | K194: 2149283.9 | L194: 5067120.6 | M194: 0.016114 | N194: 0.12247 | O194: 0.76 | P194: 95.033178 | Q194: <Null> | R194: 1.1.1. Tejido urbano continuo | S194: TALAR | T194: Bueno
A195: 585 | B195: Guácimo | C195: Guazuma ulmifolia Lam. | D195: Malvaceae | E195: 10 | F195: 3 | G195: 0.42 | H195: 0.13369 | I195: 12 | J195: 6 | K195: 2149291.3 | L195: 5067117 | M195: 0.014037 | N195: 0.106685 | O195: 0.76 | P195: 113.09734 | Q195: <Null> | R195: 1.1.1. Tejido urbano continuo | S195: TALAR | T195: Afectación fitosanitaria en el fuste
A196: 586 | B196: Guácimo | C196: Guazuma ulmifolia Lam. | D196: Malvaceae | E196: 12 | F196: 5 | G196: 0.55 | H196: 0.17507 | I196: 10 | J196: 5 | K196: 2149294.3 | L196: 5067115.6 | M196: 0.024072 | N196: 0.219538 | O196: 0.76 | P196: 78.539816 | Q196: <Null> | R196: 1.1.1. Tejido urbano continuo | S196: TALAR | T196: Bueno
A197: 587 | B197: Muerto En Pie | C197: <Null> | D197: <Null> | E197: 10 | F197: 4 | G197: 0.6 | H197: 0.190986 | I197: <Null> | J197: 0 | K197: 2149306.4 | L197: 5067112 | M197: 0.028648 | N197: 0.217724 | O197: 0.76 | P197: 0 | Q197: <Null> | R197: 1.1.1. Tejido urbano continuo | S197: TALAR | T197: Muerto en pie
A198: 588 | B198: Guácimo | C198: Guazuma ulmifolia Lam. | D198: Malvaceae | E198: 10 | F198: 4 | G198: 0.7 | H198: 0.222817 | I198: 8 | J198: 4 | K198: 2149307.7 | L198: 5067111.3 | M198: 0.038993 | N198: 0.296347 | O198: 0.76 | P198: 50.265482 | Q198: <Null> | R198: 1.1.1. Tejido urbano continuo | S198: TALAR | T198: Bueno
A199: 589 | B199: Muerto En Pie | C199: <Null> | D199: <Null> | E199: 10 | F199: 5 | G199: 1.06 | H199: 0.337408 | I199: <Null> | J199: 0 | K199: 2149310.5 | L199: 5067110.2 | M199: 0.089413 | N199: 0.679541 | O199: 0.76 | P199: 0 | Q199: <Null> | R199: 1.1.1. Tejido urbano continuo | S199: TALAR | T199: Muerto en pie
A200: 590 | B200: Mango | C200: Mangifera indica L. | D200: Anacardiaceae | E200: 12 | F200: 5 | G200: 2.05 | H200: 0.652535 | I200: 10 | J200: 5 | K200: 2149335.4 | L200: 5067017.3 | M200: 0.334424 | N200: 3.04995 | O200: 0.76 | P200: 78.539816 | Q200: Bejuco | R200: 1.1.1. Tejido urbano continuo | S200: TALAR | T200: Bueno
A201: 591 | B201: Mango | C201: Mangifera indica L. | D201: Anacardiaceae | E201: 12 | F201: 5 | G201: 1.92 | H201: 0.611155 | I201: 10 | J201: 5 | K201: 2149332.1 | L201: 5067025.2 | M201: 0.293354 | N201: 2.675392 | O201: 0.76 | P201: 78.539816 | Q201: Bromelia (1) | R201: 1.1.1. Tejido urbano continuo | S201: TALAR | T201: Bueno
A202: 592 | B202: Guanabano | C202: Annona muricata L. | D202: Annonaceae | E202: 4 | F202: 2 | G202: 0.54 | H202: 0.171887 | I202: 6 | J202: 3 | K202: 2149324.1 | L202: 5067031.1 | M202: 0.023205 | N202: 0.070543 | O202: 0.76 | P202: 28.274334 | Q202: <Null> | R202: 1.1.1. Tejido urbano continuo | S202: TALAR | T202: Bueno
A203: 594 | B203: Gallinero | C203: Pithecellobium dulce (Roxb.) Benth. | D203: Fabaceae | E203: 9 | F203: 3 | G203: 0.67 | H203: 0.213268 | I203: 8 | J203: 4 | K203: 2149322 | L203: 5067018.9 | M203: 0.035722 | N203: 0.244341 | O203: 0.76 | P203: 50.265482 | Q203: <Null> | R203: 1.1.1. Tejido urbano continuo | S203: TALAR | T203: Bueno
A204: 595 | B204: Mora | C204: Maclura tinctoria (L.) D.Don ex Steud. | D204: Moraceae | E204: 10 | F204: 4 | G204: 0.52 | H204: 0.165521 | I204: 8 | J204: 4 | K204: 2149319.5 | L204: 5067017.7 | M204: 0.021518 | N204: 0.163535 | O204: 0.76 | P204: 50.265482 | Q204: <Null> | R204: 1.1.1. Tejido urbano continuo | S204: TALAR | T204: Bueno
A205: 602 | B205: Nauno | C205: Pseudosamanea guachapele (Kunth) Harms | D205: Fabaceae | E205: 10 | F205: 4 | G205: 0.39 | H205: 0.124141 | I205: 6 | J205: 3 | K205: 2149319.3 | L205: 5067063.7 | M205: 0.012104 | N205: 0.091988 | O205: 0.76 | P205: 28.274334 | Q205: Bejuco | R205: 1.1.1. Tejido urbano continuo | S205: TALAR | T205: Bueno
A206: 603 | B206: Nauno | C206: Pseudosamanea guachapele (Kunth) Harms | D206: Fabaceae | E206: 10 | F206: 4 | G206: 0.76 | H206: 0.241916 | I206: 3 | J206: 1.5 | K206: 2149312.5 | L206: 5067068.8 | M206: 0.045964 | N206: 0.349326 | O206: 0.76 | P206: 7.068583 | Q206: <Null> | R206: 1.1.1. Tejido urbano continuo | S206: TALAR | T206: Bueno
A207: 604 | B207: Nauno | C207: Pseudosamanea guachapele (Kunth) Harms | D207: Fabaceae | E207: 10 | F207: 4 | G207: 0.44 | H207: 0.140056 | I207: 5 | J207: 2.5 | K207: 2149312.9 | L207: 5067069 | M207: 0.015406 | N207: 0.117087 | O207: 0.76 | P207: 19.634954 | Q207: <Null> | R207: 1.1.1. Tejido urbano continuo | S207: TALAR | T207: Bueno
A208: 605 | B208: Balso | C208: Ochroma pyramidale (Cav.) Urb. | D208: Malvaceae | E208: 10 | F208: 5 | G208: 1.14 | H208: 0.362873 | I208: 8 | J208: 4 | K208: 2149311.1 | L208: 5067075.8 | M208: 0.103419 | N208: 0.785984 | O208: 0.76 | P208: 50.265482 | Q208: <Null> | R208: 1.1.1. Tejido urbano continuo | S208: TALAR | T208: Bueno
A209: 606 | B209: Caracaro | C209: Enterolobium cyclocarpum (Jacq.) Griseb. | D209: Fabaceae | E209: 10 | F209: 4 | G209: 1.11 | H209: 0.353324 | I209: 10 | J209: 5 | K209: 2149318.3 | L209: 5067076.2 | M209: 0.098047 | N209: 0.74516 | O209: 0.76 | P209: 78.539816 | Q209: <Null> | R209: 1.1.1. Tejido urbano continuo | S209: TALAR | T209: Bueno
A210: 607 | B210: Guácimo | C210: Guazuma ulmifolia Lam. | D210: Malvaceae | E210: 10 | F210: 4 | G210: 0.78 | H210: 0.248282 | I210: 12 | J210: 6 | K210: 2149324.5 | L210: 5067076.7 | M210: 0.048415 | N210: 0.367953 | O210: 0.76 | P210: 113.09734 | Q210: <Null> | R210: 1.1.1. Tejido urbano continuo | S210: TALAR | T210: Bueno
A211: 608 | B211: Caracaro | C211: Enterolobium cyclocarpum (Jacq.) Griseb. | D211: Fabaceae | E211: 12 | F211: 5 | G211: 0.79 | H211: 0.251465 | I211: 10 | J211: 5 | K211: 2149321.5 | L211: 5067071.3 | M211: 0.049664 | N211: 0.452938 | O211: 0.76 | P211: 78.539816 | Q211: <Null> | R211: 1.1.1. Tejido urbano continuo | S211: TALAR | T211: Bueno
... A216: 616 | B216: Ceiba | C216: Ceiba pentandra (L.) Gaertn. | D216: Malvaceae | E216: 13 | F216: 6 | G216: 2.57 | H216: 0.818056 | I216: 9 | J216: 4.5 | K216: 2149308.2 | L216: 5067101.2 | M216: 0.525601 | N216: 5.19294 | O216: 0.76 | P216: 63.617251 | Q216: Bejuco | R216: 1.1.1. Tejido urbano continuo | S216: TALAR | T216: Bueno
A217: 617 | B217: Muerto En Pie | C217: <Null> | D217: <Null> | E217: 10 | F217: 4 | G217: 0.64 | H217: 0.203718 | I217: <Null> | J217: 0 | K217: 2149306.1 | L217: 5067095.1 | M217: 0.032595 | N217: 0.247721 | O217: 0.76 | P217: 0 | Q217: Orquidea (1) Bejuco | R217: 1.1.1. Tejido urbano continuo | S217: TALAR | T217: Muerto en pie
A218: 619 | B218: Balso | C218: Ochroma pyramidale (Cav.) Urb. | D218: Malvaceae | E218: 11 | F218: 4 | G218: 0.52 | H218: 0.165521 | I218: 7 | J218: 3.5 | K218: 2149282.6 | L218: 5067109.1 | M218: 0.021518 | N218: 0.179888 | O218: 0.76 | P218: 38.48451 | Q218: <Null> | R218: 1.1.1. Tejido urbano continuo | S218: TALAR | T218: Bueno
A219: 628 | B219: Mango | C219: Mangifera indica L. | D219: Anacardiaceae | E219: 10 | F219: 4 | G219: 1.05 | H219: 0.334225 | I219: 12 | J219: 6 | K219: 2149239.2 | L219: 5067143.6 | M219: 0.087734 | N219: 0.66678 | O219: 0.76 | P219: 113.09734 | Q219: <Null> | R219: 1.1.1. Tejido urbano continuo | S219: TALAR | T219: Bueno
A220: 629 | B220: Guanabano | C220: Annona muricata L. | D220: Annonaceae | E220: 6 | F220: 2 | G220: 0.3 | H220: 0.095493 | I220: 5 | J220: 2.5 | K220: 2149234 | L220: 5067144.9 | M220: 0.007162 | N220: 0.032659 | O220: 0.76 | P220: 19.634954 | Q220: <Null> | R220: 1.1.1. Tejido urbano continuo | S220: TALAR | T220: Bueno
A221: 630 | B221: Hobo | C221: Spondias mombin Jacq. | D221: Anacardiaceae | E221: 12 | F221: 4 | G221: 3.2 | H221: 1.018592 | I221: 12 | J221: 6 | K221: 2149233.4 | L221: 5067139.6 | M221: 0.814873 | N221: 7.431645 | O221: 0.76 | P221: 113.09734 | Q221: Bromelia (15) | R221: 1.1.1. Tejido urbano continuo | S221: TALAR | T221: Bueno
A222: 631 | B222: Balso | C222: Ochroma pyramidale (Cav.) Urb. | D222: Malvaceae | E222: 10 | F222: 3 | G222: 0.76 | H222: 0.241916 | I222: 9 | J222: 4.5 | K222: 2149227.4 | L222: 5067171.1 | M222: 0.045964 | N222: 0.349326 | O222: 0.76 | P222: 63.617251 | Q222: <Null> | R222: 1.1.1. Tejido urbano continuo | S222: TALAR | T222: Bueno
A223: 633 | B223: Muerto En Pie | C223: <Null> | D223: <Null> | E223: 16 | F223: 9 | G223: 1 | H223: 0.31831 | I223: <Null> | J223: 0 | K223: 2149221.8 | L223: 5067167.9 | M223: 0.079577 | N223: 0.967662 | O223: 0.76 | P223: 0 | Q223: <Null> | R223: 1.1.1. Tejido urbano continuo | S223: TALAR | T223: Muerto en pie
A224: 635 | B224: Pardillo | C224: Cordia tetrandra Aubl. | D224: Boraginaceae | E224: 12 | F224: 4 | G224: 0.85 | H224: 0.270563 | I224: 10 | J224: 5 | K224: 2149215.8 | L224: 5067165.4 | M224: 0.057495 | N224: 0.524352 | O224: 0.76 | P224: 78.539816 | Q224: <Null> | R224: 1.1.1. Tejido urbano continuo | S224: TALAR | T224: Bueno
A225: 636 | B225: Nauno | C225: Pseudosamanea guachapele (Kunth) Harms | D225: Fabaceae | E225: 10 | F225: 5 | G225: 0.36 | H225: 0.114592 | I225: 8 | J225: 4 | K225: 2149207.7 | L225: 5067173.1 | M225: 0.010313 | N225: 0.078381 | O225: 0.76 | P225: 50.265482 | Q225: <Null> | R225: 1.1.1. Tejido urbano continuo | S225: TALAR | T225: Bueno
A226: 637 | B226: Pardillo | C226: Cordia tetrandra Aubl. | D226: Boraginaceae | E226: 12 | F226: 5 | G226: 0.92 | H226: 0.292845 | I226: 7 | J226: 3.5 | K226: 2149204.1 | L226: 5067175.4 | M226: 0.067354 | N226: 0.614272 | O226: 0.76 | P226: 38.48451 | Q226: <Null> | R226: 1.1.1. Tejido urbano continuo | S226: TALAR | T226: Bueno
A227: 638 | B227: Nauno | C227: Pseudosamanea guachapele (Kunth) Harms | D227: Fabaceae | E227: 12 | F227: 5 | G227: 1.23 | H227: 0.391521 | I227: 10 | J227: 5 | K227: 2149195.7 | L227: 5067175 | M227: 0.120393 | N227: 1.097982 | O227: 0.76 | P227: 78.539816 | Q227: <Null> | R227: 1.1.1. Tejido urbano continuo | S227: TALAR | T227: Bueno
A228: 639 | B228: Pardillo | C228: Cordia tetrandra Aubl. | D228: Boraginaceae | E228: 13 | F228: 5 | G228: 0.56 | H228: 0.178254 | I228: 8 | J228: 4 | K228: 2149187 | L228: 5067185 | M228: 0.024955 | N228: 0.24656 | O228: 0.76 | P228: 50.265482 | Q228: <Null> | R228: 1.1.1. Tejido urbano continuo | S228: TALAR | T228: Bueno
A229: 640 | B229: Hobo | C229: Spondias mombin Jacq. | D229: Anacardiaceae | E229: 12 | F229: 6 | G229: 0.93 | H229: 0.296028 | I229: 10 | J229: 5 | K229: 2149181.3 | L229: 5067181.4 | M229: 0.068827 | N229: 0.627698 | O229: 0.76 | P229: 78.539816 | Q229: <Null> | R229: 1.1.1. Tejido urbano continuo | S229: TALAR | T229: Bueno
A230: 641 | B230: Pardillo | C230: Cordia tetrandra Aubl. | D230: Boraginaceae | E230: 12 | F230: 5 | G230: 1.05 | H230: 0.334225 | I230: 10 | J230: 5 | K230: 2149174.1 | L230: 5067184.2 | M230: 0.087734 | N230: 0.800136 | O230: 0.76 | P230: 78.539816 | Q230: <Null> | R230: 1.1.1. Tejido urbano continuo | S230: TALAR | T230: Bueno
A231: 642 | B231: Pardillo | C231: Cordia tetrandra Aubl. | D231: Boraginaceae | E231: 12 | F231: 7 | G231: 0.78 | H231: 0.248282 | I231: 9 | J231: 4.5 | K231: 2149172.4 | L231: 5067185.4 | M231: 0.048415 | N231: 0.441544 | O231: 0.76 | P231: 63.617251 | Q231: <Null> | R231: 1.1.1. Tejido urbano continuo | S231: TALAR | T231: Bueno
A232: 643 | B232: Pardillo | C232: Cordia tetrandra Aubl. | D232: Boraginaceae | E232: 12 | F232: 7 | G232: 0.57 | H232: 0.181437 | I232: 8 | J232: 4 | K232: 2149172 | L232: 5067186.5 | M232: 0.025855 | N232: 0.235795 | O232: 0.76 | P232: 50.265482 | Q232: <Null> | R232: 1.1.1. Tejido urbano continuo | S232: TALAR | T232: Bueno
A233: 645 | B233: Pardillo | C233: Cordia tetrandra Aubl. | D233: Boraginaceae | E233: 12 | F233: 6 | G233: 0.78 | H233: 0.248282 | I233: 7 | J233: 3.5 | K233: 2149168.9 | L233: 5067179.1 | M233: 0.048415 | N233: 0.441544 | O233: 0.76 | P233: 38.48451 | Q233: <Null> | R233: 1.1.1. Tejido urbano continuo | S233: TALAR | T233: Bueno
A234: 646 | B234: Nauno | C234: Pseudosamanea guachapele (Kunth) Harms | D234: Fabaceae | E234: 9 | F234: 5 | G234: 0.36 | H234: 0.114592 | I234: 10 | J234: 5 | K234: 2149169.2 | L234: 5067176.2 | M234: 0.010313 | N234: 0.070543 | O234: 0.76 | P234: 78.539816 | Q234: <Null> | R234: 1.1.1. Tejido urbano continuo | S234: TALAR | T234: Bueno
A235: 647 | B235: Yopo | C235: Anadenanthera peregrina (L.) Speg. | D235: Fabaceae | E235: 10 | F235: 4 | G235: 1.13 | H235: 0.35969 | I235: 11 | J235: 5.5 | K235: 2149165.1 | L235: 5067170 | M235: 0.101612 | N235: 0.772255 | O235: 0.76 | P235: 95.033178 | Q235: <Null> | R235: 1.1.1. Tejido urbano continuo | S235: TALAR | T235: Bueno
...

Sheet Podar
A1: Arbol | B1: NOMBRE COMUN | C1: NOMBRE CIENTIFICO | D1: FAMILIA | E1: HT (m) | F1: Hc (m) | G1: CAP (m) | H1: DAP (m) | I1: Diametro De Copa (m) | J1: Radio de Copa (m) | K1: X | L1: Y | M1: AB (m2) | N1: VT M3) | O1: Factor de Forma | P1: Area de Copa (m2) | Q1: Epifitas | R1: leyenda | S1: TRATAMIENTO | T1: OBSERVACIÓN | U1: LONGITUD ESTE | V1: LATITUD NORTE
A2: 51 | B2: Yarumo | C2: Cecropia engleriana Snethl. | D2: Cecropiaceae | E2: 12 | F2: 4 | G2: 0.8 | H2: 0.254648 | I2: 9 | J2: 4.5 | K2: 2149385.3 | L2: 5067035.5 | M2: 0.05093 | N2: 0.464478 | O2: 0.76 | P2: 63.617251 | Q2: <Null> | R2: 3.1.3.2. Bosque fragmentado con vegetación secundaria | S2: PODAR | T2: Bueno | U2: -72.394718 | V2: 5.351687
A3: 52 | B3: Yarumo | C3: Cecropia engleriana Snethl. | D3: Cecropiaceae | E3: 12 | F3: 5 | G3: 0.69 | H3: 0.219634 | I3: 9 | J3: 4.5 | K3: 2149384.9 | L3: 5067037.2 | M3: 0.037887 | N3: 0.345528 | O3: 0.76 | P3: 63.617251 | Q3: <Null> | R3: 3.1.3.2. Bosque fragmentado con vegetación secundaria | S3: PODAR | T3: Bueno | U3: -72.394702 | V3: 5.351683
A4: 53 | B4: Yarumo | C4: Cecropia engleriana Snethl. | D4: Cecropiaceae | E4: 12 | F4: 3 | G4: 0.43 | H4: 0.136873 | I4: 6 | J4: 3 | K4: 2149385.1 | L4: 5067037.8 | M4: 0.014714 | N4: 0.134191 | O4: 0.76 | P4: 28.274334 | Q4: <Null> | R4: 3.1.3.2. Bosque fragmentado con vegetación secundaria | S4: PODAR | T4: Bueno | U4: -72.394697 | V4: 5.351685
A5: 73 | B5: Sangro | C5: Lonchocarpus violaceus (Jacq.) Kunth ex DC | D5: Fabaceae | E5: 12 | F5: 2 | G5: 1.12 | H5: 0.356507 | I5: 9 | J5: 4.5 | K5: 2149380.6 | L5: 5067087.6 | M5: 0.099822 | N5: 0.910376 | O5: 0.76 | P5: 63.617251 | Q5: <Null> | R5: 3.1.3.2. Bosque fragmentado con vegetación secundaria | S5: PODAR | T5: Bueno | U5: -72.394248 | V5: 5.351644
A6: 92 | B6: Hobo | C6: Spondias mombin Jacq. | D6: Anacardiaceae | E6: 10 | F6: 2 | G6: 1.18 | H6: 0.375606 | I6: 9 | J6: 4.5 | K6: 2149372.9 | L6: 5067124.2 | M6: 0.110804 | N6: 0.842108 | O6: 0.76 | P6: 63.617251 | Q6: <Null> | R6: 3.1.3.2. Bosque fragmentado con vegetación secundaria | S6: PODAR | T6: Bueno | U6: -72.393917 | V6: 5.351574
A7: 287 | B7: Nauno | C7: Pseudosamanea guachapele (Kunth) Harms | D7: Fabaceae | E7: 12 | F7: 3 | G7: 1.01 | H7: 0.321493 | I7: 8 | J7: 4 | K7: 2149346.5 | L7: 5066930.4 | M7: 0.081177 | N7: 0.740334 | O7: 0.76 | P7: 50.265482 | Q7: <Null> | R7: 1.1.1. Tejido urbano continuo | S7: PODAR | T7: Bueno | U7: -72.395667 | V7: 5.351337
A8: 332 | B8: Palmiche | C8: Leopoldinia pulchra Mart. | D8: Arecaceae | E8: 12 | F8: 5 | G8: 0.72 | H8: 0.229183 | I8: 7 | J8: 3.5 | K8: 2149366.6 | L8: 5066949.1 | M8: 0.041253 | N8: 0.376227 | O8: 0.76 | P8: 38.48451 | Q8: <Null> | R8: 1.1.1. Tejido urbano continuo | S8: PODAR | T8: Bueno | U8: -72.395499 | V8: 5.351519
A9: 333 | B9: Yopo | C9: Anadenanthera peregrina (L.) Speg. | D9: Fabaceae | E9: 12 | F9: 3 | G9: 0.96 | H9: 0.305577 | I9: 10 | J9: 5 | K9: 2149367.7 | L9: 5066949.7 | M9: 0.073339 | N9: 0.668848 | O9: 0.76 | P9: 78.539816 | Q9: <Null> | R9: 3.1.3.2. Bosque fragmentado con vegetación secundaria | S9: PODAR | T9: Bueno | U9: -72.395493 | V9: 5.351528
A10: 334 | B10: Nauno | C10: Pseudosamanea guachapele (Kunth) Harms | D10: Fabaceae | E10: 12 | F10: 5 | G10: 0.77 | H10: 0.245099 | I10: 10 | J10: 5 | K10: 2149363.3 | L10: 5066952.6 | M10: 0.047181 | N10: 0.430295 | O10: 0.76 | P10: 78.539816 | Q10: <Null> | R10: 1.1.1. Tejido urbano continuo | S10: PODAR | T10: Bueno | U10: -72.395467 | V10: 5.351489
A11: 336 | B11: Cedro | C11: Cedrela odorata L. | D11: Meliaceae | E11: 12 | F11: 4 | G11: 2 | H11: 0.63662 | I11: 10 | J11: 5 | K11: 2149360.3 | L11: 5066958 | M11: 0.31831 | N11: 2.902986 | O11: 0.76 | P11: 78.539816 | Q11: <Null> | R11: 1.1.1. Tejido urbano continuo | S11: PODAR | T11: Bueno | U11: -72.395417 | V11: 5.351462
A12: 337 | B12: Hobo | C12: Spondias mombin Jacq. | D12: Anacardiaceae | E12: 12 | F12: 5 | G12: 2.33 | H12: 0.741662 | I12: 10 | J12: 5 | K12: 2149366.8 | L12: 5066955.4 | M12: 0.432018 | N12: 3.940005 | O12: 0.76 | P12: 78.539816 | Q12: <Null> | R12: 3.1.3.2. Bosque fragmentado con vegetación secundaria | S12: PODAR | T12: Bueno | U12: -72.395441 | V12: 5.35152
A13: 338 | B13: Guácimo | C13: Guazuma ulmifolia Lam. | D13: Malvaceae | E13: 10 | F13: 4 | G13: 0.33 | H13: 0.105042 | I13: 10 | J13: 5 | K13: 2149371.6 | L13: 5066956.5 | M13: 0.008666 | N13: 0.065861 | O13: 0.76 | P13: 78.539816 | Q13: <Null> | R13: 3.1.3.2. Bosque fragmentado con vegetación secundaria | S13: PODAR | T13: Bueno | U13: -72.395431 | V13: 5.351563
... A19: 430 | B19: Hobo | C19: Spondias mombin Jacq. | D19: Anacardiaceae | E19: 12 | F19: 5 | G19: 1.6 | H19: 0.509296 | I19: 11 | J19: 5.5 | K19: 2149364.3 | L19: 5066999.3 | M19: 0.203718 | N19: 1.857911 | O19: 0.76 | P19: 95.033178 | Q19: <Null> | R19: 3.1.3.2. Bosque fragmentado con vegetación secundaria | S19: PODAR | T19: Bueno | U19: -72.395045 | V19: 5.351497
A20: 338B | B20: Guácimo | C20: Guazuma ulmifolia Lam. | D20: Malvaceae | E20: 10 | F20: 3 | G20: 0.56 | H20: 0.178254 | I20: 10 | J20: 5 | K20: 2149371.6 | L20: 5066956.5 | M20: 0.024955 | N20: 0.189662 | O20: 0.76 | P20: 78.539816 | Q20: <Null> | R20: 3.1.3.2. Bosque fragmentado con vegetación secundaria | S20: PODAR | T20: Bueno | U20: -72.395431 | V20: 5.351563
A21: 338C | B21: Guácimo | C21: Guazuma ulmifolia Lam. | D21: Malvaceae | E21: 10 | F21: 3 | G21: 0.5 | H21: 0.159155 | I21: 10 | J21: 5 | K21: 2149371.6 | L21: 5066956.5 | M21: 0.019894 | N21: 0.151197 | O21: 0.76 | P21: 78.539816 | Q21: <Null> | R21: 3.1.3.2. Bosque fragmentado con vegetación secundaria | S21: PODAR | T21: Bueno | U21: -72.395431 | V21: 5.351563
A22: 338D | B22: Guácimo | C22: Guazuma ulmifolia Lam. | D22: Malvaceae | E22: 10 | F22: 3 | G22: 1.04 | H22: 0.331042 | I22: 10 | J22: 5 | K22: 2149371.6 | L22: 5066956.5 | M22: 0.086071 | N22: 0.65414 | O22: 0.76 | P22: 78.539816 | Q22: <Null> | R22: 3.1.3.2. Bosque fragmentado con vegetación secundaria | S22: PODAR | T22: Bueno | U22: -72.395431 | V22: 5.351563
A23: 362B | B23: Abejon | C23: Astronium graveolens Jacq. | D23: Anacardiaceae | E23: 9 | F23: 2 | G23: 0.33 | H23: 0.105042 | I23: 10 | J23: 5 | K23: 2149371 | L23: 5066980.2 | M23: 0.008666 | N23: 0.059275 | O23: 0.76 | P23: 78.539816 | Q23: <Null> | R23: 3.1.3.2. Bosque fragmentado con vegetación secundaria | S23: PODAR | T23: Bueno | U23: -72.395218 | V23: 5.351558
A24: 73B | B24: Sangro | C24: Lonchocarpus violaceus (Jacq.) Kunth ex DC | D24: Fabaceae | E24: 12 | F24: 1.5 | G24: 0.61 | H24: 0.194169 | I24: 9 | J24: 4.5 | K24: 2149380.6 | L24: 5067087.6 | M24: 0.029611 | N24: 0.27005 | O24: 0.76 | P24: 63.617251 | Q24: <Null> | R24: 3.1.3.2. Bosque fragmentado con vegetación secundaria | S24: PODAR | T24: Bueno | U24: -72.394248 | V24: 5.351644
A25: 73C | B25: Sangro | C25: Lonchocarpus violaceus (Jacq.) Kunth ex DC | D25: Fabaceae | E25: 12 | F25: 2 | G25: 0.63 | H25: 0.200535 | I25: 9 | J25: 4.5 | K25: 2149380.6 | L25: 5067087.6 | M25: 0.031584 | N25: 0.288049 | O25: 0.76 | P25: 63.617251 | Q25: <Null> | R25: 3.1.3.2. Bosque fragmentado con vegetación secundaria | S25: PODAR | T25: Bueno | U25: -72.394248 | V25: 5.351644
A26: 92B | B26: Hobo | C26: Spondias mombin Jacq. | D26: Anacardiaceae | E26: 10 | F26: 2 | G26: 0.95 | H26: 0.302394 | I26: 9 | J26: 4.5 | K26: 2149372.9 | L26: 5067124.2 | M26: 0.071819 | N26: 0.545822 | O26: 0.76 | P26: 63.617251 | Q26: <Null> | R26: 3.1.3.2. Bosque fragmentado con vegetación secundaria | S26: PODAR | T26: Bueno | U26: -72.393917 | V26: 5.351574

Sheet Caracterización
A1: Arbol | B1: NOMBRE COMUN | C1: NOMBRE CIENTIFICO | D1: FAMILIA | E1: AB (m2) | F1: VT M3) | H1: Etiquetas de fila | I1: Cuenta de NOMBRE COMUN | J1: Suma de AB (m2) | K1: Suma de VT M3) | M1: Etiquetas de fila | N1: Cuenta de NOMBRE CIENTIFICO | O1: Suma de AB (m2) | P1: Suma de VT M3)
A2: 54 | B2: Nauno | C2: Pseudosamanea guachapele (Kunth) Harms | D2: Fabaceae | E2: 0.044762 | F2: 0.238136 | H2: Abejon | I2: 1 | J2: 0.014714 | K2: 0.134191 | M2: <Null> | N2: 21 | O2: 2.250723 | P2: 20.616525
A3: 55 | B3: Balso | C3: Ochroma pyramidale (Cav.) Urb. | D3: Malvaceae | E3: 0.246499 | F3: 2.248072 | H3: Arenillo | I3: 5 | J3: 0.050428 | K3: 0.229953 | M3: Agonandra brasiliensis Benth. & Hook.fil. | N3: 1 | O3: 0.05093 | P3: 0.806725
A4: 57 | B4: Nacedero | C4: Trichanthera gigantea (Bonpl.) Nees | D4: Acanthaceae | E4: 0.008666 | F4: 0.079034 | H4: Arrayan | I4: 4 | J4: 0.331377 | K4: 2.845368 | M4: Anadenanthera peregrina (L.) Speg. | N4: 2 | O4: 0.30533 | P4: 2.630166
A5: 63 | B5: Gallinero | C5: Pithecellobium dulce (Roxb.) Benth. | D5: Fabaceae | E5: 0.021518 | F5: 0.147181 | H5: Balso | I5: 4 | J5: 0.4174 | K5: 3.56327 | M5: Annona muricata L. | N5: 8 | O5: 0.140296 | P5: 0.962563
A6: 64 | B6: Nacedero | C6: Trichanthera gigantea (Bonpl.) Nees | D6: Acanthaceae | E6: 0.012732 | F6: 0.116119 | H6: Cachimbo | I6: 2 | J6: 0.344483 | K6: 2.677206 | M6: Astronium graveolens Jacq. | N6: 1 | O6: 0.014714 | P6: 0.134191
A7: 66 | B7: Yarumo | C7: Cecropia engleriana Snethl. | D7: Cecropiaceae | E7: 0.031584 | F7: 0.288049 | H7: Caiman | I7: 1 | J7: 0.05093 | K7: 0.806725 | M7: Azadirachta indica A.Juss. | N7: 2 | O7: 0.027892 | P7: 0.063593
A8: 67 | B8: Cañafístulo | C8: Senna multijuga (Rich.) H.S.Irwin & Barneby | D8: Fabaceae | E8: 0.092819 | F8: 0.846511 | H8: Caimito | I8: 2 | J8: 0.024208 | K8: 0.93925 | M8: Bursera simaruba (L.) Sarg. | N8: 3 | O8: 1.076087 | P8: 8.846245
A9: 68 | B9: Muerto En Pie | C9: <Null> | D9: <Null> | E9: 0.296418 | F9: 2.478056 | H9: Calistemo | I9: 2 | J9: 0.017395 | K9: 0.066103 | M9: Callistemon Sp | N9: 2 | O9: 0.017395 | P9: 0.066103
A10: 69 | B10: Melina | C10: Gmelina arborea Roxb. Ex Sm. | D10: Lamiaceae | E10: 0.007162 | F10: 0.043545 | H10: Cañafístulo | I10: 6 | J10: 1.105419 | K10: 11.825422 | M10: Cecropia engleriana Snethl. | N10: 13 | O10: 0.35742 | P10: 5.685211
A11: 70 | B11: Mora | C11: Maclura tinctoria (L.) D.Don ex Steud. | D11: Moraceae | E11: 0.021518 | F11: 0.163535 | H11: Caracaro | I11: 5 | J11: 1.017183 | K11: 9.127678 | M11: Cedrela odorata L. | N11: 7 | O11: 0.778109 | P11: 7.239044
A12: 72 | B12: Hobo | C12: Spondias mombin Jacq. | D12: Anacardiaceae | E12: 0.033621 | F12: 0.255523 | H12: Caucho | I12: 1 | J12: 0.012732 | K12: 0.096766 | M12: Ceiba pentandra (L.) Gaertn. | N12: 4 | O12: 2.089156 | P12: 19.556341
A13: 74 | B13: Mora | C13: Maclura tinctoria (L.) D.Don ex Steud. | D13: Moraceae | E13: 0.014714 | F13: 0.078278 | H13: Caucho Benjamín | I13: 1 | J13: 1.107153 | K13: 10.097239 | M13: Chrysalidocarpus lutescens H.Wendl. | N13: 6 | O13: 0.061926 | P13: 0.467091
... A47: 148 | B47: Guácimo | C47: Guazuma ulmifolia Lam. | D47: Malvaceae | E47: 0.058855 | F47: 0.447302 | H47: Total general | I47: 345 | J47: 36.145482 | K47: 325.41097 | M47: Syzygium malaccense (L.) Merr. & L.M.Perry | N47: 9 | O47: 0.28566 | P47: 1.543451
A48: 152 | B48: Nauno | C48: Pseudosamanea guachapele (Kunth) Harms | D48: Fabaceae | E48: 0.337695 | F48: 3.079778 | M48: Trichanthera gigantea (Bonpl.) Nees | N48: 2 | O48: 0.021398 | P48: 0.195153
A49: 155 | B49: Gallinero | C49: Pithecellobium dulce (Roxb.) Benth. | D49: Fabaceae | E49: 0.037887 | F49: 0.230352 | M49: (en blanco) | O49: 36.145482 | P49: 325.41097
A50: 181 | B50: Nauno | C50: Pseudosamanea guachapele (Kunth) Harms | D50: Fabaceae | E50: 0.140765 | F50: 1.069811 | M50: Total general | N50: 345 | O50: 72.290964 | P50: 650.82193
A51: 183 | B51: Arenillo | C51: Qualea acuminata Spruce ez Warm. | D51: Vochysiaceae | E51: 0.012732 | F51: 0.05806
A52: 186 | B52: Hobo | C52: Spondias mombin Jacq. | D52: Anacardiaceae | E52: 0.040115 | F52: 0.243899
A53: 213 | B53: Pera de Malaca | C53: Syzygium malaccense (L.) Merr. & L.M.Perry | D53: Myrtaceae | E53: 0.037887 | F53: 0.14397
A54: 214 | B54: Pera de Malaca | C54: Syzygium malaccense (L.) Merr. & L.M.Perry | D54: Myrtaceae | E54: 0.028648 | F54: 0.108862
A55: 215 | B55: Pera de Malaca | C55: Syzygium malaccense (L.) Merr. & L.M.Perry | D55: Myrtaceae | E55: 0.027701 | F55: 0.105263
A56: 216 | B56: Pera de Malaca | C56: Syzygium malaccense (L.) Merr. & L.M.Perry | D56: Myrtaceae | E56: 0.017579 | F56: 0.066799
A57: 218 | B57: Oití | C57: Moquilea tomentosa Benth. | D57: Chrysobalanaceae | E57: 0.010313 | F57: 0.031352
A58: 219 | B58: Neem | C58: Azadirachta indica A.Juss. | D58: Meliaceae | E58: 0.017579 | F58: 0.040079 | H58: Etiquetas de fila | I58: Cuenta de FAMILIA
A59: 222 | B59: Guayacán Amarillo | C59: Handroanthus chrysanthus | D59: Bignoniaceae | E59: 0.01 | F59: 0.04 | H59: <Null> | I59: 21
A60: 223 | B60: Guayacán Amarillo | C60: Handroanthus chrysanthus | D60: Bignoniaceae | E60: 0.01 | F60: 0.04 | H60: Acanthaceae | I60: 2
A61: 224 | B61: Guayacán Amarillo | C61: Handroanthus chrysanthus | D61: Bignoniaceae | E61: 0.02 | F61: 0.07 | H61: Anacardiaceae | I61: 33
A62: 225 | B62: Guayacán Amarillo | C62: Handroanthus chrysanthus | D62: Bignoniaceae | E62: 0.01 | F62: 0.04 | H62: Annonaceae | I62: 8
A63: 226 | B63: Guayacán Amarillo | C63: Handroanthus chrysanthus | D63: Bignoniaceae | E63: 0.01 | F63: 0.05 | H63: Arecaceae | I63: 20
A64: 229 | B64: Nauno | C64: Pseudosamanea guachapele (Kunth) Harms | D64: Fabaceae | E64: 0.096289 | F64: 0.585436 | H64: Bignoniaceae | I64: 8
A65: 232 | B65: Palmiche | C65: Leopoldinia pulchra Mart. | D65: Arecaceae | E65: 0.016839 | F65: 0.076784 | H65: Boraginaceae | I65: 15
A66: 235 | B66: Laurel | C66: Ocotea sp | D66: Laureacea | E66: 0.013377 | F66: 0.091498 | H66: Burseraceae | I66: 3
A67: 239 | B67: Cañafístulo | C67: Senna multijuga (Rich.) H.S.Irwin & Barneby | D67: Fabaceae | E67: 0.17667 | F67: 1.61123 | H67: Cecropiaceae | I67: 13
A68: 240 | B68: Nauno | C68: Pseudosamanea guachapele (Kunth) Harms | D68: Fabaceae | E68: 0.061625 | F68: 0.421514 | H68: Chrysobalanaceae | I68: 7
A69: 241 | B69: Palmiche | C69: Leopoldinia pulchra Mart. | D69: Arecaceae | E69: 0.010313 | F69: 0.047028 | H69: Fabaceae | I69: 122
A70: 242 | B70: Palmiche | C70: Leopoldinia pulchra Mart. | D70: Arecaceae | E70: 0.012732 | F70: 0.05806 | H70: Lamiaceae | I70: 4
... A81: 263 | B81: Palmiche | C81: Leopoldinia pulchra Mart. | D81: Arecaceae | E81: 0.010313 | F81: 0.03919 | H81: Total general | I81: 345
A82: 264 | B82: Pera de Malaca | C82: Syzygium malaccense (L.) Merr. & L.M.Perry | D82: Myrtaceae | E82: 0.040115 | F82: 0.274387
A83: 267 | B83: Hobo | C83: Spondias mombin Jacq. | D83: Anacardiaceae | E83: 0.554623 | F83: 5.058163
A84: 268 | B84: Laurel | C84: Ocotea sp | D84: Laureacea | E84: 0.266497 | F84: 3.645679
A85: 269 | B85: Laurel | C85: Ocotea sp | D85: Laureacea | E85: 0.047181 | F85: 0.537869
A86: 272 | B86: Trompillo | C86: Guarea guidonia (L.) Sleumer | D86: Meliaceae | E86: 0.022353 | F86: 0.169885
A87: 273 | B87: Caucho | C87: Ficus elastica Roxb. | D87: Moraceae | E87: 0.012732 | F87: 0.096766
A88: 279 | B88: Nauno | C88: Pseudosamanea guachapele (Kunth) Harms | D88: Fabaceae | E88: 0.067354 | F88: 0.614272
A89: 280 | B89: Nauno | C89: Pseudosamanea guachapele (Kunth) Harms | D89: Fabaceae | E89: 0.089413 | F89: 0.815449
A90: 281 | B90: Nauno | C90: Pseudosamanea guachapele (Kunth) Harms | D90: Fabaceae | E90: 0.044762 | F90: 0.408232
A91: 282 | B91: Nauno | C91: Pseudosamanea guachapele (Kunth) Harms | D91: Fabaceae | E91: 0.047181 | F91: 0.430295
A92: 283 | B92: Nauno | C92: Pseudosamanea guachapele (Kunth) Harms | D92: Fabaceae | E92: 0.114592 | F92: 1.045075
A93: 284 | B93: Muerto En Pie | C93: <Null> | D93: <Null> | E93: 0.057495 | F93: 0.524352
... A276: 706 | B276: Leucaena | C276: Leucaena leucocephala (Lam.) de Wit | D276: Fabaceae | E276: 0.012732 | F276: 0.685003
A277: 105B | B277: Sangro | C277: Lonchocarpus violaceus (Jacq.) Kunth ex DC | D277: Fabaceae | E277: 0.054821 | F277: 0.499967
A278: 106B | B278: Sangro | C278: Lonchocarpus violaceus (Jacq.) Kunth ex DC | D278: Fabaceae | E278: 0.067354 | F278: 0.614272
A279: 106C | B279: Sangro | C279: Lonchocarpus violaceus (Jacq.) Kunth ex DC | D279: Fabaceae | E279: 0.105241 | F279: 0.9598
A280: 107B | B280: Yopa | C280: Piptadenia opacifolia Benth. | D280: Fabaceae | E280: 0.108934 | F280: 0.993474
A281: 155 B | B281: Gallinero | C281: Pithecellobium dulce (Roxb.) Benth. | D281: Fabaceae | E281: 0.019107 | F281: 0.26902
A282: 181B | B282: Nauno | C282: Pseudosamanea guachapele (Kunth) Harms | D282: Fabaceae | E282: 0.015406 | F282: 0.117087
A283: 183B | B283: Arenillo | C283: Qualea acuminata Spruce ez Warm. | D283: Vochysiaceae | E283: 0.008666 | F283: 0.039517
A284: 183C | B284: Arenillo | C284: Qualea acuminata Spruce ez Warm. | D284: Vochysiaceae | E284: 0.008149 | F284: 0.037158
A285: 183D | B285: Arenillo | C285: Qualea acuminata Spruce ez Warm. | D285: Vochysiaceae | E285: 0.012732 | F285: 0.05806
A286: 216B | B286: Pera de Malaca | C286: Syzygium malaccense (L.) Merr. & L.M.Perry | D286: Myrtaceae | E286: 0.023205 | F286: 0.088178
A287: 219B | B287: Neem | C287: Azadirachta indica A.Juss. | D287: Meliaceae | E287: 0.010313 | F287: 0.023514
A288: 239B | B288: Cañafístulo | C288: Senna multijuga (Rich.) H.S.Irwin & Barneby | D288: Fabaceae | E288: 0.155972 | F288: 3.294125
... A346: 75B | B346: Sangro | C346: Lonchocarpus violaceus (Jacq.) Kunth ex DC | D346: Fabaceae | E346: 0.028648 | F346: 0.217724
E347: =SUM(E2:E346) -> 36.145482 | F347: =SUM(F2:F346) -> 325.41097

Sheet Estructura Horizontal
A1: NOMBRE COMUN | B1: NOMBRE CIENTIFICO | C1: CANTIDAD DE ÁRBOLES | D1: AREA BASAL | E1: VOLUMEN | F1: ABU_Relativa | G1: Cantidad de Veces | H1: FR_Absoluta | I1: FR_Relativa | J1: DO_Absoluta | K1: DO_Relativa | L1: IVI | M1: Poligonos
A2: Nauno | B2: Pseudosamanea guachapele (Kunth) Harms | C2: 56 | D2: 4.516067 | E2: 40.039529 | F2: 0.16231884 | G2: 3 | H2: 1 | I2: 0.041666667 | J2: 4.516067 | K2: 0.1249414 | L2: 32.89269 | M2: 1.1.1. Tejido urbano continuo; 2.3.3. Pastos enmalezados; 3.1.3.2. Bosque fragmentado con vegetación secundaria
A3: Mango | B3: Mangifera indica L. | C3: 21 | D3: 5.617509 | E3: 51.046146 | F3: 0.060869565 | G3: 1 | H3: 0.33333333 | I3: 0.013888889 | J3: 5.617509 | K3: 0.15541386 | L3: 23.017232 | M3: 1.1.1. Tejido urbano continuo
A4: Gallinero | B4: Pithecellobium dulce (Roxb.) Benth. | C4: 22 | D4: 3.112269 | E4: 25.185472 | F4: 0.063768116 | G4: 2 | H4: 0.66666667 | I4: 0.027777778 | J4: 3.112269 | K4: 0.086103956 | L4: 17.764985 | M4: 1.1.1. Tejido urbano continuo; 3.1.3.2. Bosque fragmentado con vegetación secundaria
A5: Hobo | B5: Spondias mombin Jacq. | C5: 11 | D5: 3.386961 | E5: 30.616856 | F5: 0.031884058 | G5: 3 | H5: 1 | I5: 0.041666667 | J5: 3.386961 | K5: 0.093703578 | L5: 16.72543 | M5: 1.1.1. Tejido urbano continuo; 2.3.3. Pastos enmalezados; 3.1.3.2. Bosque fragmentado con vegetación secundaria
A6: Muerto En Pie | B6: <Null> | C6: 21 | D6: 2.250723 | E6: 20.616525 | F6: 0.060869565 | G6: 2 | H6: 0.66666667 | I6: 0.027777778 | J6: 2.250723 | K6: 0.062268446 | L6: 15.091579 | M6: 1.1.1. Tejido urbano continuo; 3.1.3.2. Bosque fragmentado con vegetación secundaria
A7: Guácimo | B7: Guazuma ulmifolia Lam. | C7: 22 | D7: 0.760695 | E7: 7.4674912 | F7: 0.063768116 | G7: 3 | H7: 1 | I7: 0.041666667 | J7: 0.760695 | K7: 0.021045369 | L7: 12.648015 | M7: 1.1.1. Tejido urbano continuo; 2.3.3. Pastos enmalezados; 3.1.3.2. Bosque fragmentado con vegetación secundaria
A8: Sangro | B8: Lonchocarpus violaceus (Jacq.) Kunth ex DC | C8: 21 | D8: 0.900483 | E8: 7.921911 | F8: 0.060869565 | G8: 2 | H8: 0.66666667 | I8: 0.027777778 | J8: 0.900483 | K8: 0.02491274 | L8: 11.356008 | M8: 1.1.1. Tejido urbano continuo; 3.1.3.2. Bosque fragmentado con vegetación secundaria
A9: Pardillo | B9: Cordia tetrandra Aubl. | C9: 13 | D9: 0.894068 | E9: 8.102185 | F9: 0.037681159 | G9: 3 | H9: 1 | I9: 0.041666667 | J9: 0.894068 | K9: 0.024735263 | L9: 10.408309 | M9: 1.1.1. Tejido urbano continuo; 2.3.3. Pastos enmalezados; 3.1.3.2. Bosque fragmentado con vegetación secundaria
A10: Ceiba | B10: Ceiba pentandra (L.) Gaertn. | C10: 4 | D10: 2.089156 | E10: 19.556341 | F10: 0.011594203 | G10: 2 | H10: 0.66666667 | I10: 0.027777778 | J10: 2.089156 | K10: 0.057798538 | L10: 9.7170518 | M10: 1.1.1. Tejido urbano continuo; 3.1.3.2. Bosque fragmentado con vegetación secundaria
A11: Yarumo | B11: Cecropia engleriana Snethl. | C11: 13 | D11: 0.35742 | E11: 5.685211 | F11: 0.037681159 | G11: 3 | H11: 1 | I11: 0.041666667 | J11: 0.35742 | K11: 0.0098883728 | L11: 8.9236199 | M11: 1.1.1. Tejido urbano continuo; 2.3.3. Pastos enmalezados; 3.1.3.2. Bosque fragmentado con vegetación secundaria
A12: Yopa | B12: Piptadenia opacifolia Benth. | C12: 6 | D12: 1.170482 | E12: 10.075581 | F12: 0.017391304 | G12: 2 | H12: 0.66666667 | I12: 0.027777778 | J12: 1.170482 | K12: 0.032382526 | L12: 7.7551608 | M12: 1.1.1. Tejido urbano continuo; 3.1.3.2. Bosque fragmentado con vegetación secundaria
A13: Cañafístulo | B13: Senna multijuga (Rich.) H.S.Irwin & Barneby | C13: 6 | D13: 1.105419 | E13: 11.825422 | F13: 0.017391304 | G13: 2 | H13: 0.66666667 | I13: 0.027777778 | J13: 1.105419 | K13: 0.030582494 | L13: 7.5751577 | M13: 1.1.1. Tejido urbano continuo; 3.1.3.2. Bosque fragmentado con vegetación secundaria
... A48: Palma Corneto | B48: Iriartea deltoidea Ruiz & Pav. | C48: 1 | D48: 0.009199 | E48: 0.062922 | F48: 0.0028985507 | G48: 1 | H48: 0.33333333 | I48: 0.013888889 | J48: 0.009199 | K48: 0.0002544993 | L48: 1.7041939 | M48: 1.1.1. Tejido urbano continuo
A53: Etiquetas de fila | B53: Volumen por especie.
A54: Abejon | B54: 0.134191
A55: Arenillo | B55: 0.229953
A56: Arrayan | B56: 2.845368
A57: Balso | B57: 3.56327
A58: Cachimbo | B58: 2.677206
A59: Caiman | B59: 0.806725
A60: Caimito | B60: 0.93925
A61: Calistemo | B61: 0.066103
A62: Cañafístulo | B62: 11.825422
A63: Caracaro | B63: 9.127678
A64: Caucho | B64: 0.096766
A65: Caucho Benjamín | B65: 10.097239
... A98: Yopo | B98: 2.630166
A99: (en blanco)
A100: Total general | B100: 325.41097

Sheet GraficasAproGeneral
A1: Especie | B1: ABU Relativa | C1: FR Absoluta | D1: FR Relativa | E1: DO Absoluta | F1: DO Relativa | G1: IVI
A2: Nauno | B2: 0.16231884 | C2: 1 | D2: 0.041666667 | E2: 4.516067 | F2: 0.1249414 | G2: 32.89269
A3: Mango | B3: 0.060869565 | C3: 0.33333333 | D3: 0.013888889 | E3: 5.617509 | F3: 0.15541386 | G3: 23.017232
A4: Gallinero | B4: 0.063768116 | C4: 0.66666667 | D4: 0.027777778 | E4: 3.112269 | F4: 0.086103956 | G4: 17.764985
A5: Hobo | B5: 0.031884058 | C5: 1 | D5: 0.041666667 | E5: 3.386961 | F5: 0.093703578 | G5: 16.72543
A6: Muerto En Pie | B6: 0.060869565 | C6: 0.66666667 | D6: 0.027777778 | E6: 2.250723 | F6: 0.062268446 | G6: 15.091579
A7: Guácimo | B7: 0.063768116 | C7: 1 | D7: 0.041666667 | E7: 0.760695 | F7: 0.021045369 | G7: 12.648015
A8: Sangro | B8: 0.060869565 | C8: 0.66666667 | D8: 0.027777778 | E8: 0.900483 | F8: 0.02491274 | G8: 11.356008
A9: Pardillo | B9: 0.037681159 | C9: 1 | D9: 0.041666667 | E9: 0.894068 | F9: 0.024735263 | G9: 10.408309
A10: Ceiba | B10: 0.011594203 | C10: 0.66666667 | D10: 0.027777778 | E10: 2.089156 | F10: 0.057798538 | G10: 9.7170518
A11: Yarumo | B11: 0.037681159 | C11: 1 | D11: 0.041666667 | E11: 0.35742 | F11: 0.0098883728 | G11: 8.9236199
A12: Yopa | B12: 0.017391304 | C12: 0.66666667 | D12: 0.027777778 | E12: 1.170482 | F12: 0.032382526 | G12: 7.7551608
A13: Cañafístulo | B13: 0.017391304 | C13: 0.66666667 | D13: 0.027777778 | E13: 1.105419 | F13: 0.030582494 | G13: 7.5751577
... A48: Palma Corneto | B48: 0.0028985507 | C48: 0.33333333 | D48: 0.013888889 | E48: 0.009199 | F48: 0.0002544993 | G48: 1.7041939

Sheet Bosque Fragmentado con vegetaci
A1: Arbol | B1: NOMBRE COMUN | C1: NOMBRE CIENTIFICO | D1: FAMILIA | E1: HT (m) | F1: Hc (m) | G1: CAP (m) | H1: DAP (m) | I1: Diametro De Copa (m) | J1: Radio de Copa (m) | K1: X | L1: Y | M1: AB (m2) | N1: VT M3) | O1: Factor de Forma | P1: Area de Copa (m2) | Q1: Epifitas | R1: COBERTURA NATURAL | S1: OBSERVACIÓN
A2: 54 | B2: Nauno | C2: Pseudosamanea guachapele (Kunth) Harms | D2: Fabaceae | E2: 7 | F2: 2 | G2: 0.75 | H2: 0.238732 | I2: 8 | J2: 4 | K2: 2149381.7 | L2: 5067042.6 | M2: 0.044762 | N2: 0.238136 | O2: 0.76 | P2: 50.265482 | R2: 3.1.3.2. Bosque fragmentado con vegetación secundaria | S2: TALAR | T2: Bueno | V2: Etiquetas de fila | W2: Cuenta de NOMBRE COMUN | X2: Cuenta de NOMBRE CIENTIFICO
A3: 55 | B3: Balso | C3: Ochroma pyramidale (Cav.) Urb. | D3: Malvaceae | E3: 12 | F3: 3 | G3: 1.76 | H3: 0.560225 | I3: 9 | J3: 4.5 | K3: 2149383.1 | L3: 5067050.4 | M3: 0.246499 | N3: 2.248072 | O3: 0.76 | P3: 63.617251 | R3: 3.1.3.2. Bosque fragmentado con vegetación secundaria | S3: TALAR | T3: Bueno | V3: Abejon | W3: 1 | X3: 1
A4: 57 | B4: Nacedero | C4: Trichanthera gigantea (Bonpl.) Nees | D4: Acanthaceae | E4: 12 | F4: 6 | G4: 0.33 | H4: 0.105042 | I4: 7 | J4: 3.5 | K4: 2149384.5 | L4: 5067055.4 | M4: 0.008666 | N4: 0.079034 | O4: 0.76 | P4: 38.48451 | R4: 3.1.3.2. Bosque fragmentado con vegetación secundaria | S4: TALAR | T4: Bueno | V4: Astronium graveolens Jacq. | W4: 1 | X4: 1
A5: 63 | B5: Gallinero | C5: Pithecellobium dulce (Roxb.) Benth. | D5: Fabaceae | E5: 9 | F5: 2.5 | G5: 0.52 | H5: 0.165521 | I5: 9 | J5: 4.5 | K5: 2149383.8 | L5: 5067060 | M5: 0.021518 | N5: 0.147181 | O5: 0.76 | P5: 63.617251 | R5: 3.1.3.2. Bosque fragmentado con vegetación secundaria | S5: TALAR | T5: Bueno | V5: Arenillo | W5: 1 | X5: 1
A6: 64 | B6: Nacedero | C6: Trichanthera gigantea (Bonpl.) Nees | D6: Acanthaceae | E6: 12 | F6: 3 | G6: 0.4 | H6: 0.127324 | I6: 12 | J6: 6 | K6: 2149383.9 | L6: 5067065.6 | M6: 0.012732 | N6: 0.116119 | O6: 0.76 | P6: 113.09734 | R6: 3.1.3.2. Bosque fragmentado con vegetación secundaria | S6: TALAR | T6: Bueno | V6: Qualea acuminata Spruce ez Warm. | W6: 1 | X6: 1
A7: 66 | B7: Yarumo | C7: Cecropia engleriana Snethl. | D7: Cecropiaceae | E7: 12 | F7: 3 | G7: 0.63 | H7: 0.200535 | I7: 9 | J7: 4.5 | K7: 2149383.7 | L7: 5067068.8 | M7: 0.031584 | N7: 0.288049 | O7: 0.76 | P7: 63.617251 | R7: 3.1.3.2. Bosque fragmentado con vegetación secundaria | S7: TALAR | T7: Bueno | V7: Arrayan | W7: 4 | X7: 4
A8: 67 | B8: Cañafístulo | C8: Senna multijuga (Rich.) H.S.Irwin & Barneby | D8: Fabaceae | E8: 12 | F8: 3 | G8: 1.08 | H8: 0.343775 | I8: 9 | J8: 4.5 | K8: 2149384.1 | L8: 5067070.7 | M8: 0.092819 | N8: 0.846511 | O8: 0.76 | P8: 63.617251 | R8: 3.1.3.2. Bosque fragmentado con vegetación secundaria | S8: TALAR | T8: Bueno | V8: Eugenia sp | W8: 4 | X8: 4
A9: 68 | B9: Muerto En Pie | C9: <Null> | D9: <Null> | E9: 11 | F9: 2 | G9: 1.93 | H9: 0.614338 | I9: 0 | J9: 0 | K9: 2149382.1 | L9: 5067075.1 | M9: 0.296418 | N9: 2.478056 | O9: 0.76 | P9: 0 | Q9: Bromelias (2) | R9: 3.1.3.2. Bosque fragmentado con vegetación secundaria | S9: TALAR | T9: Bueno | V9: Balso | W9: 1 | X9: 1
A10: 69 | B10: Melina | C10: Gmelina arborea Roxb. Ex Sm. | D10: Lamiaceae | E10: 8 | F10: 2 | G10: 0.3 | H10: 0.095493 | I10: 7 | J10: 3.5 | K10: 2149382.9 | L10: 5067077.4 | M10: 0.007162 | N10: 0.043545 | O10: 0.76 | P10: 38.48451 | R10: 3.1.3.2. Bosque fragmentado con vegetación secundaria | S10: TALAR | T10: Bueno | V10: Ochroma pyramidale (Cav.) Urb. | W10: 1 | X10: 1
A11: 70 | B11: Mora | C11: Maclura tinctoria (L.) D.Don ex Steud. | D11: Moraceae | E11: 10 | F11: 4 | G11: 0.52 | H11: 0.165521 | I11: 9 | J11: 4.5 | K11: 2149382.9 | L11: 5067079.2 | M11: 0.021518 | N11: 0.163535 | O11: 0.76 | P11: 63.617251 | R11: 3.1.3.2. Bosque fragmentado con vegetación secundaria | S11: TALAR | T11: Bueno | V11: Cachimbo | W11: 2 | X11: 2
A12: 72 | B12: Hobo | C12: Spondias mombin Jacq. | D12: Anacardiaceae | E12: 10 | F12: 1.5 | G12: 0.65 | H12: 0.206901 | I12: 10 | J12: 5 | K12: 2149377.9 | L12: 5067079.6 | M12: 0.033621 | N12: 0.255523 | O12: 0.76 | P12: 78.539816 | Q12: Bejuco | R12: 3.1.3.2. Bosque fragmentado con vegetación secundaria | S12: TALAR | T12: Bueno | V12: Erythrina poeppigiana (Walp.) O.F.Cook | W12: 2 | X12: 2
A13: 74 | B13: Mora | C13: Maclura tinctoria (L.) D.Don ex Steud. | D13: Moraceae | E13: 7 | F13: 2 | G13: 0.43 | H13: 0.136873 | I13: 9 | J13: 4.5 | K13: 2149382.6 | L13: 5067091.6 | M13: 0.014714 | N13: 0.078278 | O13: 0.76 | P13: 63.617251 | R13: 3.1.3.2. Bosque fragmentado con vegetación secundaria | S13: TALAR | T13: Bueno | V13: Cañafístulo | W13: 2 | X13: 2
A14: 75 | B14: Sangro | C14: Lonchocarpus violaceus (Jacq.) Kunth ex DC | D14: Fabaceae | E14: 12 | F14: 3 | G14: 1.13 | H14: 0.35969 | I14: 9 | J14: 4.5 | K14: 2149379.1 | L14: 5067093.5 | M14: 0.101612 | N14: 0.926706 | O14: 0.76 | P14: 63.617251 | R14: 3.1.3.2. Bosque fragmentado con vegetación secundaria | S14: TALAR | T14: Bueno | V14: Senna multijuga (Rich.) H.S.Irwin & Barneby | W14: 2 | X14: 2
A15: 76 | B15: Yarumo | C15: Cecropia engleriana Snethl. | D15: Cecropiaceae | E15: 12 | F15: 4 | G15: 0.77 | H15: 0.245099 | I15: 9 | J15: 4.5 | K15: 2149383.1 | L15: 5067095.2 | M15: 0.047181 | N15: 0.430295 | O15: 0.76 | P15: 63.617251 | R15: 3.1.3.2. Bosque fragmentado con vegetación secundaria | S15: TALAR | T15: Bueno | V15: Cedro | W15: 6 | X15: 6
A16: 77 | B16: Mora | C16: Maclura tinctoria (L.) D.Don ex Steud. | D16: Moraceae | E16: 8 | F16: 2 | G16: 0.34 | H16: 0.108225 | I16: 7 | J16: 3.5 | K16: 2149380.8 | L16: 5067099.5 | M16: 0.009199 | N16: 0.055931 | O16: 0.76 | P16: 38.48451 | R16: 3.1.3.2. Bosque fragmentado con vegetación secundaria | S16: TALAR | T16: Bueno | V16: Cedrela odorata L. | W16: 6 | X16: 6
A17: 78 | B17: Sangro | C17: Lonchocarpus violaceus (Jacq.) Kunth ex DC | D17: Fabaceae | E17: 11 | F17: 2 | G17: 0.6 | H17: 0.190986 | I17: 11 | J17: 5.5 | K17: 2149377.7 | L17: 5067098.3 | M17: 0.028648 | N17: 0.239496 | O17: 0.76 | P17: 95.033178 | R17: 3.1.3.2. Bosque fragmentado con vegetación secundaria | S17: TALAR | T17: Bueno | V17: Ceiba | W17: 2 | X17: 2
A18: 80 | B18: Sangro | C18: Lonchocarpus violaceus (Jacq.) Kunth ex DC | D18: Fabaceae | E18: 11 | F18: 2 | G18: 0.6 | H18: 0.190986 | I18: 9 | J18: 4.5 | K18: 2149377.2 | L18: 5067101.2 | M18: 0.028648 | N18: 0.239496 | O18: 0.76 | P18: 63.617251 | R18: 3.1.3.2. Bosque fragmentado con vegetación secundaria | S18: TALAR | T18: Bueno | V18: Ceiba pentandra (L.) Gaertn. | W18: 2 | X18: 2
A19: 81 | B19: Yarumo | C19: Cecropia engleriana Snethl. | D19: Cecropiaceae | E19: 12 | F19: 7 | G19: 0.95 | H19: 0.302394 | I19: 9 | J19: 4.5 | K19: 2149381.5 | L19: 5067106 | M19: 0.071819 | N19: 0.654986 | O19: 0.76 | P19: 63.617251 | R19: 3.1.3.2. Bosque fragmentado con vegetación secundaria | S19: TALAR | T19: Bueno | V19: Gallinero | W19: 1 | X19: 1
A20: 82 | B20: Guácimo | C20: Guazuma ulmifolia Lam. | D20: Malvaceae | E20: 8 | F20: 3 | G20: 0.59 | H20: 0.187803 | I20: 6 | J20: 3 | K20: 2149380.3 | L20: 5067105.3 | M20: 0.027701 | N20: 0.168422 | O20: 0.76 | P20: 28.274334 | R20: 3.1.3.2. Bosque fragmentado con vegetación secundaria | S20: TALAR | T20: Bueno | V20: Pithecellobium dulce (Roxb.) Benth. | W20: 1 | X20: 1
A21: 83 | B21: Sangro | C21: Lonchocarpus violaceus (Jacq.) Kunth ex DC | D21: Fabaceae | E21: 10 | F21: 2 | G21: 0.6 | H21: 0.190986 | I21: 7 | J21: 3.5 | K21: 2149376.4 | L21: 5067103.4 | M21: 0.028648 | N21: 0.217724 | O21: 0.76 | P21: 38.48451 | R21: 3.1.3.2. Bosque fragmentado con vegetación secundaria | S21: TALAR | T21: Bueno | V21: Guacharaco | W21: 2 | X21: 2
A22: 84 | B22: Sangro | C22: Lonchocarpus violaceus (Jacq.) Kunth ex DC | D22: Fabaceae | E22: 11 | F22: 2 | G22: 0.6 | H22: 0.190986 | I22: 8 | J22: 4 | K22: 2149376.8 | L22: 5067104.4 | M22: 0.028648 | N22: 0.239496 | O22: 0.76 | P22: 50.265482 | R22: 3.1.3.2. Bosque fragmentado con vegetación secundaria | S22: TALAR | T22: Bueno | V22: Cupania americana L. | W22: 2 | X22: 2
A23: 85 | B23: Sangro | C23: Lonchocarpus violaceus (Jacq.) Kunth ex DC | D23: Fabaceae | E23: 11 | F23: 2 | G23: 0.6 | H23: 0.190986 | I23: 7 | J23: 3.5 | K23: 2149376.7 | L23: 5067105.1 | M23: 0.028648 | N23: 0.239496 | O23: 0.76 | P23: 38.48451 | R23: 3.1.3.2. Bosque fragmentado con vegetación secundaria | S23: TALAR | T23: Bueno | V23: Guácimo | W23: 2 | X23: 2
A24: 86 | B24: Sangro | C24: Lonchocarpus violaceus (Jacq.) Kunth ex DC | D24: Fabaceae | E24: 11 | F24: 2 | G24: 0.6 | H24: 0.190986 | I24: 9 | J24: 4.5 | K24: 2149375.9 | L24: 5067107.4 | M24: 0.028648 | N24: 0.239496 | O24: 0.76 | P24: 63.617251 | R24: 3.1.3.2. Bosque fragmentado con vegetación secundaria | S24: TALAR | T24: Bueno | V24: Guazuma ulmifolia Lam. | W24: 2 | X24: 2
... A30: 107 | B30: Yopa | C30: Piptadenia opacifolia Benth. | D30: Fabaceae | E30: 12 | F30: 3 | G30: 0.92 | H30: 0.292845 | I30: 9 | J30: 4.5 | K30: 2149385.2 | L30: 5067214.7 | M30: 0.067354 | N30: 0.614272 | O30: 0.76 | P30: 63.617251 | R30: 3.1.3.2. Bosque fragmentado con vegetación secundaria | S30: TALAR | T30: Bueno | V30: Leucaena | W30: 1 | X30: 1
A31: 114 | B31: Muerto En Pie | C31: <Null> | D31: <Null> | E31: 12 | F31: 3 | G31: 1.7 | H31: 0.541127 | I31: 0 | J31: 0 | K31: 2149346.5 | L31: 5067241.8 | M31: 0.229979 | N31: 2.097408 | O31: 0.76 | P31: 0 | Q31: Bromelias (7) | R31: 3.1.3.2. Bosque fragmentado con vegetación secundaria | S31: TALAR | T31: Bueno | V31: Leucaena leucocephala (Lam.) de Wit | W31: 1 | X31: 1
A32: 115 | B32: Sangro | C32: Lonchocarpus violaceus (Jacq.) Kunth ex DC | D32: Fabaceae | E32: 12 | F32: 4 | G32: 0.78 | H32: 0.248282 | I32: 10 | J32: 5 | K32: 2149344.6 | L32: 5067242.8 | M32: 0.048415 | N32: 0.441544 | O32: 0.76 | P32: 78.539816 | R32: 3.1.3.2. Bosque fragmentado con vegetación secundaria | S32: TALAR | T32: Bueno | V32: Melina | W32: 3 | X32: 3
A33: 116 | B33: Nauno | C33: Pseudosamanea guachapele (Kunth) Harms | D33: Fabaceae | E33: 10 | F33: 2 | G33: 0.4 | H33: 0.127324 | I33: 5 | J33: 2.5 | K33: 2149349.1 | L33: 5067241.6 | M33: 0.012732 | N33: 0.096766 | O33: 0.76 | P33: 19.634954 | R33: 3.1.3.2. Bosque fragmentado con vegetación secundaria | S33: TALAR | T33: Bueno | V33: Gmelina arborea Roxb. Ex Sm. | W33: 3 | X33: 3
A34: 117 | B34: Cachimbo | C34: Erythrina poeppigiana (Walp.) O.F.Cook | D34: Fabaceae | E34: 12 | F34: 3 | G34: 1.33 | H34: 0.423352 | I34: 9 | J34: 4.5 | K34: 2149355.8 | L34: 5067241 | M34: 0.140765 | N34: 1.283773 | O34: 0.76 | P34: 63.617251 | Q34: Bromelias (11) | R34: 3.1.3.2. Bosque fragmentado con vegetación secundaria | S34: TALAR | T34: Bueno | V34: Mora | W34: 3 | X34: 3
A35: 118 | B35: Hobo | C35: Spondias mombin Jacq. | D35: Anacardiaceae | E35: 12 | F35: 5 | G35: 2.65 | H35: 0.843521 | I35: 9 | J35: 4.5 | K35: 2149361.3 | L35: 5067236.5 | M35: 0.558833 | N35: 5.096555 | O35: 0.76 | P35: 63.617251 | Q35: Bromelias (18) | R35: 3.1.3.2. Bosque fragmentado con vegetación secundaria | S35: TALAR | T35: Bueno | V35: Maclura tinctoria (L.) D.Don ex Steud. | W35: 3 | X35: 3
A36: 120 | B36: Nauno | C36: Pseudosamanea guachapele (Kunth) Harms | D36: Fabaceae | E36: 9 | F36: 2 | G36: 1.36 | H36: 0.432901 | I36: 11 | J36: 5.5 | K36: 2149367.1 | L36: 5067239.4 | M36: 0.147186 | N36: 1.006756 | O36: 0.76 | P36: 95.033178 | Q36: Bromelias (10) | R36: 3.1.3.2. Bosque fragmentado con vegetación secundaria | S36: TALAR | T36: Bueno | V36: Muerto En Pie | W36: 8 | X36: 8
A37: 343 | B37: Abejon | C37: Astronium graveolens Jacq. | D37: Anacardiaceae | E37: 12 | F37: 4 | G37: 0.43 | H37: 0.136873 | I37: 9 | J37: 4.5 | K37: 2149375.6 | L37: 5066964.4 | M37: 0.014714 | N37: 0.134191 | O37: 0.76 | P37: 63.617251 | R37: 3.1.3.2. Bosque fragmentado con vegetación secundaria | S37: TALAR | T37: Bueno | V37: <Null> | W37: 8 | X37: 8
A38: 360 | B38: Pardillo | C38: Cordia sp | D38: Boraginaceae | E38: 12 | F38: 4 | G38: 0.41 | H38: 0.130507 | I38: 8 | J38: 4 | K38: 2149373.8 | L38: 5066978.7 | M38: 0.013377 | N38: 0.121998 | O38: 0.76 | P38: 50.265482 | R38: 3.1.3.2. Bosque fragmentado con vegetación secundaria | S38: TALAR | T38: Bueno | V38: Nacedero | W38: 2 | X38: 2
A39: 363 | B39: Sangro | C39: Lonchocarpus violaceus (Jacq.) Kunth ex DC | D39: Fabaceae | E39: 12 | F39: 5 | G39: 0.51 | H39: 0.162338 | I39: 8 | J39: 4 | K39: 2149369 | L39: 5066986.6 | M39: 0.020698 | N39: 0.188767 | O39: 0.76 | P39: 50.265482 | R39: 3.1.3.2. Bosque fragmentado con vegetación secundaria | S39: TALAR | T39: Bueno | V39: Trichanthera gigantea (Bonpl.) Nees | W39: 2 | X39: 2
A40: 364 | B40: Guayacán Amarillo | C40: Handroanthus chrysanthus | D40: Bignoniaceae | E40: 12 | F40: 6 | G40: 0.51 | H40: 0.162338 | I40: 8 | J40: 4 | K40: 2149371.5 | L40: 5066989.4 | M40: 0.020698 | N40: 0.188767 | O40: 0.76 | P40: 50.265482 | R40: 3.1.3.2. Bosque fragmentado con vegetación secundaria | S40: TALAR | T40: Bueno | V40: Nauno | W40: 19 | X40: 19
A41: 365 | B41: Hobo | C41: Spondias mombin Jacq. | D41: Anacardiaceae | E41: 12 | F41: 6 | G41: 1.76 | H41: 0.560225 | I41: 8 | J41: 4 | K41: 2149372.1 | L41: 5066991.3 | M41: 0.246499 | N41: 2.248072 | O41: 0.76 | P41: 50.265482 | R41: 3.1.3.2. Bosque fragmentado con vegetación secundaria | S41: TALAR | T41: Bueno | V41: Pseudosamanea guachapele (Kunth) Harms | W41: 19 | X41: 19
A42: 367 | B42: Nauno | C42: Pseudosamanea guachapele (Kunth) Harms | D42: Fabaceae | E42: 12 | F42: 6 | G42: 0.79 | H42: 0.251465 | I42: 8 | J42: 4 | K42: 2149363.8 | L42: 5066986.8 | M42: 0.049664 | N42: 0.452938 | O42: 0.76 | P42: 50.265482 | R42: 3.1.3.2. Bosque fragmentado con vegetación secundaria | S42: TALAR | T42: Bueno | V42: Pardillo | W42: 5 | X42: 5
A43: 395 | B43: Pardillo | C43: Cordia tetrandra Aubl. | D43: Boraginaceae | E43: 8 | F43: 3 | G43: 0.32 | H43: 0.101859 | I43: 9 | J43: 4.5 | K43: 2149382.3 | L43: 5066932.9 | M43: 0.008149 | N43: 0.049544 | O43: 0.76 | P43: 63.617251 | R43: 3.1.3.2. Bosque fragmentado con vegetación secundaria | S43: TALAR | T43: Bueno | V43: Cordia sp | W43: 2 | X43: 2
A44: 397 | B44: Arenillo | C44: Qualea acuminata Spruce ez Warm. | D44: Vochysiaceae | E44: 6 | F44: 2 | G44: 0.32 | H44: 0.101859 | I44: 9 | J44: 4.5 | K44: 2149380.4 | L44: 5066937.1 | M44: 0.008149 | N44: 0.037158 | O44: 0.76 | P44: 63.617251 | R44: 3.1.3.2. Bosque fragmentado con vegetación secundaria | S44: TALAR | T44: Bueno | V44: Cordia tetrandra Aubl. | W44: 3 | X44: 3
A45: 429 | B45: Nauno | C45: Pseudosamanea guachapele (Kunth) Harms | D45: Fabaceae | E45: 9 | F45: 3 | G45: 0.35 | H45: 0.111408 | I45: 8 | J45: 4 | K45: 2149365.6 | L45: 5066997.5 | M45: 0.009748 | N45: 0.066678 | O45: 0.76 | P45: 50.265482 | R45: 3.1.3.2. Bosque fragmentado con vegetación secundaria | S45: TALAR | T45: Bueno | V45: Sangro | W45: 20 | X45: 20
A46: 432 | B46: Arrayan | C46: Eugenia sp | D46: Myrtaceae | E46: 7 | F46: 2 | G46: 0.39 | H46: 0.124141 | I46: 9 | J46: 4.5 | K46: 2149363.2 | L46: 5067005.6 | M46: 0.012104 | N46: 0.064392 | O46: 0.76 | P46: 63.617251 | R46: 3.1.3.2. Bosque fragmentado con vegetación secundaria | S46: TALAR | T46: Bueno | V46: Lonchocarpus violaceus (Jacq.) Kunth ex DC | W46: 20 | X46: 20
A47: 433 | B47: Arrayan | C47: Eugenia sp | D47: Myrtaceae | E47: 7 | F47: 2 | G47: 0.5 | H47: 0.159155 | I47: 8 | J47: 4 | K47: 2149363 | L47: 5067006.7 | M47: 0.019894 | N47: 0.105838 | O47: 0.76 | P47: 50.265482 | R47: 3.1.3.2. Bosque fragmentado con vegetación secundaria | S47: TALAR | T47: Bueno | V47: Yarumo | W47: 5 | X47: 5
A48: 434 | B48: Arrayan | C48: Eugenia sp | D48: Myrtaceae | E48: 12 | F48: 2 | G48: 1.9 | H48: 0.604789 | I48: 9 | J48: 4.5 | K48: 2149363.4 | L48: 5067007.6 | M48: 0.287275 | N48: 2.619945 | O48: 0.76 | P48: 63.617251 | R48: 3.1.3.2. Bosque fragmentado con vegetación secundaria | S48: TALAR | T48: Bueno | V48: Cecropia engleriana Snethl. | W48: 5 | X48: 5
A49: 435 | B49: Arrayan | C49: Eugenia sp | D49: Myrtaceae | E49: 6 | F49: 1.2 | G49: 0.39 | H49: 0.124141 | I49: 7 | J49: 3.5 | K49: 2149367.5 | L49: 5067007.5 | M49: 0.012104 | N49: 0.055193 | O49: 0.76 | P49: 38.48451 | R49: 3.1.3.2. Bosque fragmentado con vegetación secundaria | S49: TALAR | T49: Bueno | V49: Yopa | W49: 2 | X49: 2
A50: 438 | B50: Guacharaco | C50: Cupania americana L. | D50: Sapindaceae | E50: 12 | F50: 3 | G50: 1.57 | H50: 0.499747 | I50: 9 | J50: 4.5 | K50: 2149375.2 | L50: 5067014 | M50: 0.196151 | N50: 1.788893 | O50: 0.76 | P50: 63.617251 | Q50: Bromelias (5) | R50: 3.1.3.2. Bosque fragmentado con vegetación secundaria | S50: TALAR | T50: Bueno | V50: Piptadenia opacifolia Benth. | W50: 2 | X50: 2
A51: 440 | B51: Muerto En Pie | C51: <Null> | D51: <Null> | E51: 10 | F51: 6 | G51: 0.6 | H51: 0.190986 | I51: <Null> | J51: 0 | K51: 2149373 | L51: 5067001.4 | M51: 0.028648 | N51: 0.217724 | O51: 0.76 | P51: 0 | R51: 3.1.3.2. Bosque fragmentado con vegetación secundaria | S51: TALAR | T51: Muerto en pie | V51: (en blanco)
A52: 505 | B52: Muerto En Pie | C52: <Null> | D52: <Null> | E52: 12 | F52: 4 | G52: 1.4 | H52: 0.445634 | I52: <Null> | J52: 0 | K52: 2149354.2 | L52: 5067017.2 | M52: 0.155972 | N52: 1.422463 | O52: 0.76 | P52: 0 | R52: 3.1.3.2. Bosque fragmentado con vegetación secundaria | S52: TALAR | T52: Muerto en pie | V52: (en blanco)
A53: 509 | B53: Guayacán Amarillo | C53: Handroanthus chrysanthus (Jacq.) S.O.Grose | D53: Bignoniaceae | E53: 12 | F53: 5 | G53: 1.35 | H53: 0.429718 | I53: 8 | J53: 4 | K53: 2149347.4 | L53: 5067023.4 | M53: 0.14503 | N53: 1.322673 | O53: 0.76 | P53: 50.265482 | R53: 3.1.3.2. Bosque fragmentado con vegetación secundaria | S53: TALAR | T53: Bueno | V53: Total general | W53: 99 | X53: 99
A54: 510 | B54: Cedro | C54: Cedrela odorata L. | D54: Meliaceae | E54: 12 | F54: 4 | G54: 1.7 | H54: 0.541127 | I54: 9 | J54: 4.5 | K54: 2149354.3 | L54: 5067019.7 | M54: 0.229979 | N54: 2.097408 | O54: 0.76 | P54: 63.617251 | R54: 3.1.3.2. Bosque fragmentado con vegetación secundaria | S54: TALAR | T54: Bueno
A55: 511 | B55: Nauno | C55: Pseudosamanea guachapele (Kunth) Harms | D55: Fabaceae | E55: 12 | F55: 5 | G55: 1.07 | H55: 0.340592 | I55: 8 | J55: 4 | K55: 2149354.5 | L55: 5067019.7 | M55: 0.091108 | N55: 0.830907 | O55: 0.76 | P55: 50.265482 | R55: 3.1.3.2. Bosque fragmentado con vegetación secundaria | S55: TALAR | T55: Bueno
A56: 517 | B56: Nauno | C56: Pseudosamanea guachapele (Kunth) Harms | D56: Fabaceae | E56: 12 | F56: 6 | G56: 0.4 | H56: 0.127324 | I56: 7 | J56: 3.5 | K56: 2149352.6 | L56: 5067040.8 | M56: 0.012732 | N56: 0.116119 | O56: 0.76 | P56: 38.48451 | R56: 3.1.3.2. Bosque fragmentado con vegetación secundaria | S56: TALAR | T56: Bueno
A57: 518 | B57: Nauno | C57: Pseudosamanea guachapele (Kunth) Harms | D57: Fabaceae | E57: 12 | F57: 6 | G57: 0.93 | H57: 0.296028 | I57: 7 | J57: 3.5 | K57: 2149350.3 | L57: 5067041.4 | M57: 0.068827 | N57: 0.627698 | O57: 0.76 | P57: 38.48451 | R57: 3.1.3.2. Bosque fragmentado con vegetación secundaria | S57: TALAR | T57: Bueno
A58: 519 | B58: Nauno | C58: Pseudosamanea guachapele (Kunth) Harms | D58: Fabaceae | E58: 12 | F58: 6 | G58: 0.6 | H58: 0.190986 | I58: 8 | J58: 4 | K58: 2149348.8 | L58: 5067041.8 | M58: 0.028648 | N58: 0.261269 | O58: 0.76 | P58: 50.265482 | R58: 3.1.3.2. Bosque fragmentado con vegetación secundaria | S58: TALAR | T58: Bueno | X58: Nombre comun | Y58: Volumen por especie
A59: 520 | B59: Nauno | C59: Pseudosamanea guachapele (Kunth) Harms | D59: Fabaceae | E59: 12 | F59: 6 | G59: 0.81 | H59: 0.257831 | I59: 11 | J59: 5.5 | K59: 2149352.7 | L59: 5067043.2 | M59: 0.052211 | N59: 0.476162 | O59: 0.76 | P59: 95.033178 | R59: 3.1.3.2. Bosque fragmentado con vegetación secundaria | S59: TALAR | T59: Bueno | X59: Abejon | Y59: 0.134191
A60: 521 | B60: Nauno | C60: Pseudosamanea guachapele (Kunth) Harms | D60: Fabaceae | E60: 12 | F60: 6 | G60: 0.66 | H60: 0.210085 | I60: 9 | J60: 4.5 | K60: 2149358 | L60: 5067040.8 | M60: 0.034664 | N60: 0.316135 | O60: 0.76 | P60: 63.617251 | R60: 3.1.3.2. Bosque fragmentado con vegetación secundaria | S60: TALAR | T60: Bueno | X60: Arenillo | Y60: 0.037158
A61: 522 | B61: Nauno | C61: Pseudosamanea guachapele (Kunth) Harms | D61: Fabaceae | E61: 12 | F61: 6 | G61: 0.45 | H61: 0.143239 | I61: 9 | J61: 4.5 | K61: 2149358.5 | L61: 5067040.2 | M61: 0.016114 | N61: 0.146964 | O61: 0.76 | P61: 63.617251 | R61: 3.1.3.2. Bosque fragmentado con vegetación secundaria | S61: TALAR | T61: Bueno | X61: Arrayan | Y61: 2.845368
A62: 525 | B62: Cedro | C62: Cedrela odorata L. | D62: Meliaceae | E62: 12 | F62: 6 | G62: 1.26 | H62: 0.40107 | I62: 11 | J62: 5.5 | K62: 2149365 | L62: 5067042.8 | M62: 0.126337 | N62: 1.152195 | O62: 0.76 | P62: 95.033178 | R62: 3.1.3.2. Bosque fragmentado con vegetación secundaria | S62: TALAR | T62: Bueno | X62: Balso | Y62: 2.248072
A63: 526 | B63: Cedro | C63: Cedrela odorata L. | D63: Meliaceae | E63: 12 | F63: 6 | G63: 1.29 | H63: 0.41062 | I63: 11 | J63: 5.5 | K63: 2149368.4 | L63: 5067042.8 | M63: 0.132425 | N63: 1.207715 | O63: 0.76 | P63: 95.033178 | R63: 3.1.3.2. Bosque fragmentado con vegetación secundaria | S63: TALAR | T63: Bueno | X63: Cachimbo | Y63: 2.677206
A64: 528 | B64: Cedro | C64: Cedrela odorata L. | D64: Meliaceae | E64: 13 | F64: 8 | G64: 0.49 | H64: 0.155972 | I64: 8 | J64: 4 | K64: 2149370.9 | L64: 5067042.7 | M64: 0.019107 | N64: 0.188773 | O64: 0.76 | P64: 50.265482 | R64: 3.1.3.2. Bosque fragmentado con vegetación secundaria | S64: TALAR | T64: Bueno | X64: Cañafístulo | Y64: 0.991721
A65: 529 | B65: Cedro | C65: Cedrela odorata L. | D65: Meliaceae | E65: 13 | F65: 9 | G65: 0.93 | H65: 0.296028 | I65: 7 | J65: 3.5 | K65: 2149373.5 | L65: 5067042.6 | M65: 0.068827 | N65: 0.680006 | O65: 0.76 | P65: 38.48451 | R65: 3.1.3.2. Bosque fragmentado con vegetación secundaria | S65: TALAR | T65: Bueno | X65: Cedro | Y65: 6.312338
A66: 531 | B66: Cedro | C66: Cedrela odorata L. | D66: Meliaceae | E66: 13 | F66: 8 | G66: 1.12 | H66: 0.356507 | I66: 7 | J66: 3.5 | K66: 2149376.3 | L66: 5067042.3 | M66: 0.099822 | N66: 0.986241 | O66: 0.76 | P66: 38.48451 | R66: 3.1.3.2. Bosque fragmentado con vegetación secundaria | S66: TALAR | T66: Bueno | X66: Ceiba | Y66: 2.751456
A67: 532 | B67: Nauno | C67: Pseudosamanea guachapele (Kunth) Harms | D67: Fabaceae | E67: 13 | F67: 5 | G67: 1.2 | H67: 0.381972 | I67: 7 | J67: 3.5 | K67: 2149357.6 | L67: 5067053.2 | M67: 0.114592 | N67: 1.132165 | O67: 0.76 | P67: 38.48451 | R67: 3.1.3.2. Bosque fragmentado con vegetación secundaria | S67: TALAR | T67: Bueno | X67: Gallinero | Y67: 0.147181
A68: 539 | B68: Sangro | C68: Lonchocarpus violaceus (Jacq.) Kunth ex DC | D68: Fabaceae | E68: 10 | F68: 3 | G68: 0.7 | H68: 0.222817 | I68: 10 | J68: 5 | K68: 2149377.2 | L68: 5067077.1 | M68: 0.038993 | N68: 0.296347 | O68: 0.76 | P68: 78.539816 | R68: 3.1.3.2. Bosque fragmentado con vegetación secundaria | S68: TALAR | T68: Bueno | X68: Guacharaco | Y68: 2.028934
A69: 540 | B69: Sangro | C69: Lonchocarpus violaceus (Jacq.) Kunth ex DC | D69: Fabaceae | E69: 12 | F69: 4 | G69: 0.67 | H69: 0.213268 | I69: 11 | J69: 5.5 | K69: 2149377 | L69: 5067077.5 | M69: 0.035722 | N69: 0.325788 | O69: 0.76 | P69: 95.033178 | R69: 3.1.3.2. Bosque fragmentado con vegetación secundaria | S69: TALAR | T69: Bueno | X69: Guácimo | Y69: 0.321618
A70: 541 | B70: Sangro | C70: Lonchocarpus violaceus (Jacq.) Kunth ex DC | D70: Fabaceae | E70: 12 | F70: 4 | G70: 0.62 | H70: 0.197352 | I70: 9 | J70: 4.5 | K70: 2149375.8 | L70: 5067088.8 | M70: 0.03059 | N70: 0.278977 | O70: 0.76 | P70: 63.617251 | R70: 3.1.3.2. Bosque fragmentado con vegetación secundaria | S70: TALAR | T70: Bueno | X70: Guayacán Amarillo | Y70: 1.51144
... A76: 548 | B76: Guacharaco | C76: Cupania americana L. | D76: Sapindaceae | E76: 10 | F76: 2 | G76: 0.63 | H76: 0.200535 | I76: 10 | J76: 5 | K76: 2149370.2 | L76: 5067135.7 | M76: 0.031584 | N76: 0.240041 | O76: 0.76 | P76: 78.539816 | R76: 3.1.3.2. Bosque fragmentado con vegetación secundaria | S76: TALAR | T76: Bueno | X76: Nacedero | Y76: 0.195153
A77: 552 | B77: Muerto En Pie | C77: <Null> | D77: <Null> | E77: 10 | F77: 3 | G77: 0.9 | H77: 0.286479 | I77: <Null> | J77: 0 | K77: 2149367.1 | L77: 5067068.2 | M77: 0.064458 | N77: 0.489879 | O77: 0.76 | P77: 0 | R77: 3.1.3.2. Bosque fragmentado con vegetación secundaria | S77: TALAR | T77: Muerto en pie | X77: Nauno | Y77: 7.67431
A78: 553 | B78: Muerto En Pie | C78: <Null> | D78: <Null> | E78: 11 | F78: 6 | G78: 0.9 | H78: 0.286479 | I78: <Null> | J78: 0 | K78: 2149366.7 | L78: 5067071.2 | M78: 0.064458 | N78: 0.538867 | O78: 0.76 | P78: 0 | R78: 3.1.3.2. Bosque fragmentado con vegetación secundaria | S78: TALAR | T78: Muerto en pie | X78: Pardillo | Y78: 0.470864
A79: 554 | B79: Nauno | C79: Pseudosamanea guachapele (Kunth) Harms | D79: Fabaceae | E79: 9 | F79: 4 | G79: 0.4 | H79: 0.127324 | I79: 5 | J79: 2.5 | K79: 2149368.9 | L79: 5067071.8 | M79: 0.012732 | N79: 0.08709 | O79: 0.76 | P79: 19.634954 | R79: 3.1.3.2. Bosque fragmentado con vegetación secundaria | S79: TALAR | T79: Bueno | X79: Sangro | Y79: 7.745555
A80: 556 | B80: Ceiba | C80: Ceiba pentandra (L.) Gaertn. | D80: Malvaceae | E80: 12 | F80: 4 | G80: 1.39 | H80: 0.442451 | I80: 7 | J80: 3.5 | K80: 2149373.7 | L80: 5067075 | M80: 0.153752 | N80: 1.402215 | O80: 0.76 | P80: 38.48451 | R80: 3.1.3.2. Bosque fragmentado con vegetación secundaria | S80: TALAR | T80: Bueno | X80: Yarumo | Y80: 2.173393
A81: 557 | B81: Ceiba | C81: Ceiba pentandra (L.) Gaertn. | D81: Malvaceae | E81: 13 | F81: 6 | G81: 1.31 | H81: 0.416986 | I81: 12 | J81: 6 | K81: 2149373.3 | L81: 5067077.8 | M81: 0.136563 | N81: 1.349241 | O81: 0.76 | P81: 113.09734 | R81: 3.1.3.2. Bosque fragmentado con vegetación secundaria | S81: TALAR | T81: Bueno | X81: Yopa | Y81: 1.607746
A82: 558 | B82: Nauno | C82: Pseudosamanea guachapele (Kunth) Harms | D82: Fabaceae | E82: 12 | F82: 4 | G82: 0.9 | H82: 0.286479 | I82: 9 | J82: 4.5 | K82: 2149368.6 | L82: 5067077.2 | M82: 0.064458 | N82: 0.587855 | O82: 0.76 | P82: 63.617251 | R82: 3.1.3.2. Bosque fragmentado con vegetación secundaria | S82: TALAR | T82: Bueno | X82: Total general | Y82: 63.633922
A83: 692 | B83: Muerto En Pie | C83: <Null> | D83: <Null> | E83: 12 | F83: 4 | G83: 1.72 | H83: 0.547493 | I83: <Null> | J83: <Null> | K83: 2149384.8 | L83: 5067156.5 | M83: 0.235422 | N83: 2.147049 | O83: 0.76 | P83: 0 | Q83: Bromelias (20) | R83: 3.1.3.2. Bosque fragmentado con vegetación secundaria | S83: TALAR | T83: Muerto en pie
A84: 694 | B84: Muerto En Pie | C84: <Null> | D84: <Null> | E84: 12 | F84: 7 | G84: 2.1 | H84: 0.668451 | I84: <Null> | J84: 0 | K84: 2149355.6 | L84: 5066994.1 | M84: 0.350937 | N84: 3.200542 | O84: 0.76 | P84: 0 | R84: 3.1.3.2. Bosque fragmentado con vegetación secundaria | S84: TALAR | T84: Muerto en pie
A85: 699 | B85: Guácimo | C85: Guazuma ulmifolia Lam. | D85: Malvaceae | E85: 5 | F85: 2 | G85: 0.32 | H85: 0.101859 | I85: 8 | J85: 4 | K85: 2149353.4 | L85: 5066988.9 | M85: 0.008149 | N85: 0.153196 | O85: 0.76 | P85: 50.265482 | R85: 3.1.3.2. Bosque fragmentado con vegetación secundaria | S85: TALAR | T85: Bueno
A86: 706 | B86: Leucaena | C86: Leucaena leucocephala (Lam.) de Wit | D86: Fabaceae | E86: 5 | F86: 2 | G86: 0.4 | H86: 0.127324 | I86: 6 | J86: 3 | K86: 2149351.4 | L86: 5067039.5 | M86: 0.012732 | N86: 0.685003 | O86: 0.76 | P86: 28.274334 | R86: 3.1.3.2. Bosque fragmentado con vegetación secundaria | S86: TALAR | T86: Bueno
A87: 105B | B87: Sangro | C87: Lonchocarpus violaceus (Jacq.) Kunth ex DC | D87: Fabaceae | E87: 12 | F87: 2 | G87: 0.83 | H87: 0.264197 | I87: 9 | J87: 4.5 | K87: 2149384.5 | L87: 5067200.4 | M87: 0.054821 | N87: 0.499967 | O87: 0.76 | P87: 63.617251 | R87: 3.1.3.2. Bosque fragmentado con vegetación secundaria | S87: TALAR | T87: Bueno
A88: 106B | B88: Sangro | C88: Lonchocarpus violaceus (Jacq.) Kunth ex DC | D88: Fabaceae | E88: 12 | F88: 2 | G88: 0.92 | H88: 0.292845 | I88: 9 | J88: 4.5 | K88: 2149385.9 | L88: 5067220.5 | M88: 0.067354 | N88: 0.614272 | O88: 0.76 | P88: 63.617251 | R88: 3.1.3.2. Bosque fragmentado con vegetación secundaria | S88: TALAR | T88: Bueno
A89: 106C | B89: Sangro | C89: Lonchocarpus violaceus (Jacq.) Kunth ex DC | D89: Fabaceae | E89: 12 | F89: 2 | G89: 1.15 | H89: 0.366056 | I89: 9 | J89: 4.5 | K89: 2149385.9 | L89: 5067220.5 | M89: 0.105241 | N89: 0.9598 | O89: 0.76 | P89: 63.617251 | R89: 3.1.3.2. Bosque fragmentado con vegetación secundaria | S89: TALAR | T89: Bueno
A90: 107B | B90: Yopa | C90: Piptadenia opacifolia Benth. | D90: Fabaceae | E90: 12 | F90: 3 | G90: 1.17 | H90: 0.372423 | I90: 9 | J90: 4.5 | K90: 2149385.2 | L90: 5067214.7 | M90: 0.108934 | N90: 0.993474 | O90: 0.76 | P90: 63.617251 | R90: 3.1.3.2. Bosque fragmentado con vegetación secundaria | S90: TALAR | T90: Bueno
A91: 360B | B91: Pardillo | C91: Cordia sp | D91: Boraginaceae | E91: 12 | F91: 3 | G91: 0.31 | H91: 0.098676 | I91: 8 | J91: 4 | K91: 2149373.8 | L91: 5066978.7 | M91: 0.007647 | N91: 0.069744 | O91: 0.76 | P91: 50.265482 | R91: 3.1.3.2. Bosque fragmentado con vegetación secundaria | S91: TALAR | T91: Bueno
A92: 363B | B92: Sangro | C92: Lonchocarpus violaceus (Jacq.) Kunth ex DC | D92: Fabaceae | E92: 12 | F92: 5 | G92: 0.52 | H92: 0.165521 | I92: 8 | J92: 4 | K92: 2149369 | L92: 5066986.6 | M92: 0.021518 | N92: 0.196242 | O92: 0.76 | P92: 50.265482 | R92: 3.1.3.2. Bosque fragmentado con vegetación secundaria | S92: TALAR | T92: Bueno
A93: 520B | B93: Nauno | C93: Pseudosamanea guachapele (Kunth) Harms | D93: Fabaceae | E93: 12 | F93: 6 | G93: 0.39 | H93: 0.124141 | I93: 11 | J93: 5.5 | K93: 2149352.7 | L93: 5067043.2 | M93: 0.012104 | N93: 0.110386 | O93: 0.76 | P93: 95.033178 | R93: 3.1.3.2. Bosque fragmentado con vegetación secundaria | S93: TALAR | T93: Bueno
A94: 532B | B94: Nauno | C94: Pseudosamanea guachapele (Kunth) Harms | D94: Fabaceae | E94: 13 | F94: 4 | G94: 0.64 | H94: 0.203718 | I94: 9 | J94: 4.5 | K94: 2149357.6 | L94: 5067053.2 | M94: 0.032595 | N94: 0.322038 | O94: 0.76 | P94: 63.617251 | R94: 3.1.3.2. Bosque fragmentado con vegetación secundaria | S94: TALAR | T94: Bueno
A95: 544B | B95: Pardillo | C95: Cordia tetrandra Aubl. | D95: Boraginaceae | E95: 10 | F95: 5 | G95: 0.5 | H95: 0.159155 | I95: 8 | J95: 4 | K95: 2149372.1 | L95: 5067116.5 | M95: 0.019894 | N95: 0.151197 | O95: 0.76 | P95: 50.265482 | R95: 3.1.3.2. Bosque fragmentado con vegetación secundaria | S95: TALAR | T95: Bueno
A96: 66B | B96: Yarumo | C96: Cecropia engleriana Snethl. | D96: Cecropiaceae | E96: 12 | F96: 4 | G96: 0.32 | H96: 0.101859 | I96: 9 | J96: 4.5 | K96: 2149383.7 | L96: 5067068.8 | M96: 0.008149 | N96: 0.074316 | O96: 0.76 | P96: 63.617251 | R96: 3.1.3.2. Bosque fragmentado con vegetación secundaria | S96: TALAR | T96: Bueno
A97: 69B | B97: Melina | C97: Gmelina arborea Roxb. Ex Sm. | D97: Lamiaceae | E97: 8 | F97: 2 | G97: 0.3 | H97: 0.095493 | I97: 7 | J97: 3.5 | K97: 2149382.9 | L97: 5067077.4 | M97: 0.007162 | N97: 0.043545 | O97: 0.76 | P97: 38.48451 | R97: 3.1.3.2. Bosque fragmentado con vegetación secundaria | S97: TALAR | T97: Bueno
A98: 69C | B98: Melina | C98: Gmelina arborea Roxb. Ex Sm. | D98: Lamiaceae | E98: 8 | F98: 1.3 | G98: 0.5 | H98: 0.159155 | I98: 7 | J98: 3.5 | K98: 2149382.9 | L98: 5067077.4 | M98: 0.019894 | N98: 0.120958 | O98: 0.76 | P98: 38.48451 | R98: 3.1.3.2. Bosque fragmentado con vegetación secundaria | S98: TALAR | T98: Bueno
... A100: 75B | B100: Sangro | C100: Lonchocarpus violaceus (Jacq.) Kunth ex DC | D100: Fabaceae | E100: 10 | F100: 3 | G100: 0.6 | H100: 0.190986 | I100: 9 | J100: 4.5 | K100: 2149379.1 | L100: 5067093.5 | M100: 0.028648 | N100: 0.217724 | O100: 0.76 | P100: 63.617251 | R100: 3.1.3.2. Bosque fragmentado con vegetación secundaria | S100: TALAR | T100: Bueno
L101: TOTAL | M101: =SUM(M2:M100) -> 7.157787 | N101: =SUM(N2:N100) -> 63.633922

Sheet IVI_BosqueFrag
A1: ÍNDICE DE VALOR DE IMPORTANCIA (IVI)
A2: Cobertura: Bosque fragmentado con vegetación secundaria
A4: Nombre común | B4: Abundancia absoluta | C4: ABU relativa (%) | D4: FR absoluta | E4: FR relativa (%) | F4: DO absoluta (m²) | G4: DO relativa (%) | H4: IVI
A5: Abejón | B5: =SUMIF('[1]Base inventario'!$C$2:$C$100,A5,'[1]Base inventario'!$I$2:$I$100) -> 1 | C5: =B5/SUM($B$5:$B$26)*100 -> 1.2987013 | D5: =1 -> 1 | E5: =D5/SUM($D$5:$D$26)*100 -> 4.5454545 | F5: =SUMIF('[1]Base inventario'!$C$2:$C$100,A5,'[1]Base inventario'!$F$2:$F$100) -> 0.014714 | G5: =F5/SUM($F$5:$F$26)*100 -> 0.25672185 | H5: =C5+E5+G5 -> 6.1008777
A6: Arenillo | B6: =SUMIF('[1]Base inventario'!$C$2:$C$100,A6,'[1]Base inventario'!$I$2:$I$100) -> 1 | C6: =B6/SUM($B$5:$B$26)*100 -> 1.2987013 | D6: =1 -> 1 | E6: =D6/SUM($D$5:$D$26)*100 -> 4.5454545 | F6: =SUMIF('[1]Base inventario'!$C$2:$C$100,A6,'[1]Base inventario'!$F$2:$F$100) -> 0.008149 | G6: =F6/SUM($F$5:$F$26)*100 -> 0.14217931 | H6: =C6+E6+G6 -> 5.9863352
A7: Arrayán | B7: =SUMIF('[1]Base inventario'!$C$2:$C$100,A7,'[1]Base inventario'!$I$2:$I$100) -> 4 | C7: =B7/SUM($B$5:$B$26)*100 -> 5.1948052 | D7: =1 -> 1 | E7: =D7/SUM($D$5:$D$26)*100 -> 4.5454545 | F7: =SUMIF('[1]Base inventario'!$C$2:$C$100,A7,'[1]Base inventario'!$F$2:$F$100) -> 0.331377 | G7: =F7/SUM($F$5:$F$26)*100 -> 5.7816852 | H7: =C7+E7+G7 -> 15.521945
A8: Balso | B8: =SUMIF('[1]Base inventario'!$C$2:$C$100,A8,'[1]Base inventario'!$I$2:$I$100) -> 1 | C8: =B8/SUM($B$5:$B$26)*100 -> 1.2987013 | D8: =1 -> 1 | E8: =D8/SUM($D$5:$D$26)*100 -> 4.5454545 | F8: =SUMIF('[1]Base inventario'!$C$2:$C$100,A8,'[1]Base inventario'!$F$2:$F$100) -> 0.246499 | G8: =F8/SUM($F$5:$F$26)*100 -> 4.3007802 | H8: =C8+E8+G8 -> 10.144936
A9: Cachimbo | B9: =SUMIF('[1]Base inventario'!$C$2:$C$100,A9,'[1]Base inventario'!$I$2:$I$100) -> 2 | C9: =B9/SUM($B$5:$B$26)*100 -> 2.5974026 | D9: =1 -> 1 | E9: =D9/SUM($D$5:$D$26)*100 -> 4.5454545 | F9: =SUMIF('[1]Base inventario'!$C$2:$C$100,A9,'[1]Base inventario'!$F$2:$F$100) -> 0.344483 | G9: =F9/SUM($F$5:$F$26)*100 -> 6.0103516 | H9: =C9+E9+G9 -> 13.153209
A10: Cañafístulo | B10: =SUMIF('[1]Base inventario'!$C$2:$C$100,A10,'[1]Base inventario'!$I$2:$I$100) -> 2 | C10: =B10/SUM($B$5:$B$26)*100 -> 2.5974026 | D10: =1 -> 1 | E10: =D10/SUM($D$5:$D$26)*100 -> 4.5454545 | F10: =SUMIF('[1]Base inventario'!$C$2:$C$100,A10,'[1]Base inventario'!$F$2:$F$100) -> 0.111926 | G10: =F10/SUM($F$5:$F$26)*100 -> 1.9528238 | H10: =C10+E10+G10 -> 9.095681
A11: Cedro | B11: =SUMIF('[1]Base inventario'!$C$2:$C$100,A11,'[1]Base inventario'!$I$2:$I$100) -> 6 | C11: =B11/SUM($B$5:$B$26)*100 -> 7.7922078 | D11: =1 -> 1 | E11: =D11/SUM($D$5:$D$26)*100 -> 4.5454545 | F11: =SUMIF('[1]Base inventario'!$C$2:$C$100,A11,'[1]Base inventario'!$F$2:$F$100) -> 0.676497 | G11: =F11/SUM($F$5:$F$26)*100 -> 11.803151 | H11: =C11+E11+G11 -> 24.140813
A12: Ceiba | B12: =SUMIF('[1]Base inventario'!$C$2:$C$100,A12,'[1]Base inventario'!$I$2:$I$100) -> 2 | C12: =B12/SUM($B$5:$B$26)*100 -> 2.5974026 | D12: =1 -> 1 | E12: =D12/SUM($D$5:$D$26)*100 -> 4.5454545 | F12: =SUMIF('[1]Base inventario'!$C$2:$C$100,A12,'[1]Base inventario'!$F$2:$F$100) -> 0.290315 | G12: =F12/SUM($F$5:$F$26)*100 -> 5.0652578 | H12: =C12+E12+G12 -> 12.208115
A13: Gallinero | B13: =SUMIF('[1]Base inventario'!$C$2:$C$100,A13,'[1]Base inventario'!$I$2:$I$100) -> 1 | C13: =B13/SUM($B$5:$B$26)*100 -> 1.2987013 | D13: =1 -> 1 | E13: =D13/SUM($D$5:$D$26)*100 -> 4.5454545 | F13: =SUMIF('[1]Base inventario'!$C$2:$C$100,A13,'[1]Base inventario'!$F$2:$F$100) -> 0.021518 | G13: =F13/SUM($F$5:$F$26)*100 -> 0.37543433 | H13: =C13+E13+G13 -> 6.2195902
A14: Guacharaco | B14: =SUMIF('[1]Base inventario'!$C$2:$C$100,A14,'[1]Base inventario'!$I$2:$I$100) -> 2 | C14: =B14/SUM($B$5:$B$26)*100 -> 2.5974026 | D14: =1 -> 1 | E14: =D14/SUM($D$5:$D$26)*100 -> 4.5454545 | F14: =SUMIF('[1]Base inventario'!$C$2:$C$100,A14,'[1]Base inventario'!$F$2:$F$100) -> 0.227735 | G14: =F14/SUM($F$5:$F$26)*100 -> 3.9733961 | H14: =C14+E14+G14 -> 11.116253
A15: Guayacán Amarillo | B15: =SUMIF('[1]Base inventario'!$C$2:$C$100,A15,'[1]Base inventario'!$I$2:$I$100) -> 2 | C15: =B15/SUM($B$5:$B$26)*100 -> 2.5974026 | D15: =1 -> 1 | E15: =D15/SUM($D$5:$D$26)*100 -> 4.5454545 | F15: =SUMIF('[1]Base inventario'!$C$2:$C$100,A15,'[1]Base inventario'!$F$2:$F$100) -> 0.165728 | G15: =F15/SUM($F$5:$F$26)*100 -> 2.8915318 | H15: =C15+E15+G15 -> 10.034389
A16: Guácimo | B16: =SUMIF('[1]Base inventario'!$C$2:$C$100,A16,'[1]Base inventario'!$I$2:$I$100) -> 2 | C16: =B16/SUM($B$5:$B$26)*100 -> 2.5974026 | D16: =1 -> 1 | E16: =D16/SUM($D$5:$D$26)*100 -> 4.5454545 | F16: =SUMIF('[1]Base inventario'!$C$2:$C$100,A16,'[1]Base inventario'!$F$2:$F$100) -> 0.03585 | G16: =F16/SUM($F$5:$F$26)*100 -> 0.62549125 | H16: =C16+E16+G16 -> 7.7683484
... A26: Yopa | B26: =SUMIF('[1]Base inventario'!$C$2:$C$100,A26,'[1]Base inventario'!$I$2:$I$100) -> 1 | C26: =B26/SUM($B$5:$B$26)*100 -> 1.2987013 | D26: =1 -> 1 | E26: =D26/SUM($D$5:$D$26)*100 -> 4.5454545 | F26: =SUMIF('[1]Base inventario'!$C$2:$C$100,A26,'[1]Base inventario'!$F$2:$F$100) -> 0.176288 | G26: =F26/SUM($F$5:$F$26)*100 -> 3.0757769 | H26: =C26+E26+G26 -> 8.9199328
A27: TOTAL | B27: =SUM(B5:B26) -> 77 | C27: =SUM(C5:C26) -> 100 | D27: =SUM(D5:D26) -> 22 | E27: =SUM(E5:E26) -> 100 | F27: =SUM(F5:F26) -> 5.731495 | G27: =SUM(G5:G26) -> 100 | H27: =SUM(H5:H26) -> 300
A30: Criterio metodológico
A31: La cobertura analizada corresponde a una sola unidad: Bosque fragmentado con vegetación secundaria.
A32: ABU relativa = abundancia de la especie / abundancia total × 100.
A33: FR absoluta = 1 para cada especie presente, al existir una sola unidad de cobertura sin subdivisión en parcelas o unidades de muestreo.
A34: FR relativa = frecuencia absoluta de la especie / suma de frecuencias absolutas × 100.
A35: DO absoluta = suma del área basal (AB) de los fustes de cada especie; DO relativa = DO absoluta / área basal total × 100.
A36: IVI = ABU relativa + FR relativa + DO relativa. La suma del IVI es 300.
A37: Los registros 'Muerto en Pie' se excluyen del IVI por carecer de identificación taxonómica.
A38: Los registros B/C se interpretan como fustes adicionales del mismo individuo: cuentan una sola vez en abundancia y todos sus fustes aportan al área basal.

Sheet Graficas_BosqueFrag
A1: GRÁFICAS DE ESTRUCTURA HORIZONTAL E IVI
A42: Nombre común | B42: ABU RELATIVA (%) | D42: Nombre común | E42: FR ABSOLUTA | G42: Nombre común | H42: FR RELATIVA (%) | J42: Nombre común | K42: DO ABSOLUTA (m²) | M42: Nombre común | N42: DO RELATIVA (%) | P42: Nombre común | Q42: IVI
A43: =IVI_BosqueFrag!A5 -> Abejón | B43: =IVI_BosqueFrag!C5 -> 1.2987013 | D43: =IVI_BosqueFrag!A5 -> Abejón | E43: =IVI_BosqueFrag!D5 -> 1 | G43: =IVI_BosqueFrag!A5 -> Abejón | H43: =IVI_BosqueFrag!E5 -> 4.5454545 | J43: =IVI_BosqueFrag!A5 -> Abejón | K43: =IVI_BosqueFrag!F5 -> 0.014714 | M43: =IVI_BosqueFrag!A5 -> Abejón | N43: =IVI_BosqueFrag!G5 -> 0.25672185 | P43: =IVI_BosqueFrag!A5 -> Abejón | Q43: =IVI_BosqueFrag!H5 -> 6.1008777
A44: =IVI_BosqueFrag!A6 -> Arenillo | B44: =IVI_BosqueFrag!C6 -> 1.2987013 | D44: =IVI_BosqueFrag!A6 -> Arenillo | E44: =IVI_BosqueFrag!D6 -> 1 | G44: =IVI_BosqueFrag!A6 -> Arenillo | H44: =IVI_BosqueFrag!E6 -> 4.5454545 | J44: =IVI_BosqueFrag!A6 -> Arenillo | K44: =IVI_BosqueFrag!F6 -> 0.008149 | M44: =IVI_BosqueFrag!A6 -> Arenillo | N44: =IVI_BosqueFrag!G6 -> 0.14217931 | P44: =IVI_BosqueFrag!A6 -> Arenillo | Q44: =IVI_BosqueFrag!H6 -> 5.9863352
A45: =IVI_BosqueFrag!A7 -> Arrayán | B45: =IVI_BosqueFrag!C7 -> 5.1948052 | D45: =IVI_BosqueFrag!A7 -> Arrayán | E45: =IVI_BosqueFrag!D7 -> 1 | G45: =IVI_BosqueFrag!A7 -> Arrayán | H45: =IVI_BosqueFrag!E7 -> 4.5454545 | J45: =IVI_BosqueFrag!A7 -> Arrayán | K45: =IVI_BosqueFrag!F7 -> 0.331377 | M45: =IVI_BosqueFrag!A7 -> Arrayán | N45: =IVI_BosqueFrag!G7 -> 5.7816852 | P45: =IVI_BosqueFrag!A7 -> Arrayán | Q45: =IVI_BosqueFrag!H7 -> 15.521945
A46: =IVI_BosqueFrag!A8 -> Balso | B46: =IVI_BosqueFrag!C8 -> 1.2987013 | D46: =IVI_BosqueFrag!A8 -> Balso | E46: =IVI_BosqueFrag!D8 -> 1 | G46: =IVI_BosqueFrag!A8 -> Balso | H46: =IVI_BosqueFrag!E8 -> 4.5454545 | J46: =IVI_BosqueFrag!A8 -> Balso | K46: =IVI_BosqueFrag!F8 -> 0.246499 | M46: =IVI_BosqueFrag!A8 -> Balso | N46: =IVI_BosqueFrag!G8 -> 4.3007802 | P46: =IVI_BosqueFrag!A8 -> Balso | Q46: =IVI_BosqueFrag!H8 -> 10.144936
A47: =IVI_BosqueFrag!A9 -> Cachimbo | B47: =IVI_BosqueFrag!C9 -> 2.5974026 | D47: =IVI_BosqueFrag!A9 -> Cachimbo | E47: =IVI_BosqueFrag!D9 -> 1 | G47: =IVI_BosqueFrag!A9 -> Cachimbo | H47: =IVI_BosqueFrag!E9 -> 4.5454545 | J47: =IVI_BosqueFrag!A9 -> Cachimbo | K47: =IVI_BosqueFrag!F9 -> 0.344483 | M47: =IVI_BosqueFrag!A9 -> Cachimbo | N47: =IVI_BosqueFrag!G9 -> 6.0103516 | P47: =IVI_BosqueFrag!A9 -> Cachimbo | Q47: =IVI_BosqueFrag!H9 -> 13.153209
A48: =IVI_BosqueFrag!A10 -> Cañafístulo | B48: =IVI_BosqueFrag!C10 -> 2.5974026 | D48: =IVI_BosqueFrag!A10 -> Cañafístulo | E48: =IVI_BosqueFrag!D10 -> 1 | G48: =IVI_BosqueFrag!A10 -> Cañafístulo | H48: =IVI_BosqueFrag!E10 -> 4.5454545 | J48: =IVI_BosqueFrag!A10 -> Cañafístulo | K48: =IVI_BosqueFrag!F10 -> 0.111926 | M48: =IVI_BosqueFrag!A10 -> Cañafístulo | N48: =IVI_BosqueFrag!G10 -> 1.9528238 | P48: =IVI_BosqueFrag!A10 -> Cañafístulo | Q48: =IVI_BosqueFrag!H10 -> 9.095681
A49: =IVI_BosqueFrag!A11 -> Cedro | B49: =IVI_BosqueFrag!C11 -> 7.7922078 | D49: =IVI_BosqueFrag!A11 -> Cedro | E49: =IVI_BosqueFrag!D11 -> 1 | G49: =IVI_BosqueFrag!A11 -> Cedro | H49: =IVI_BosqueFrag!E11 -> 4.5454545 | J49: =IVI_BosqueFrag!A11 -> Cedro | K49: =IVI_BosqueFrag!F11 -> 0.676497 | M49: =IVI_BosqueFrag!A11 -> Cedro | N49: =IVI_BosqueFrag!G11 -> 11.803151 | P49: =IVI_BosqueFrag!A11 -> Cedro | Q49: =IVI_BosqueFrag!H11 -> 24.140813
A50: =IVI_BosqueFrag!A12 -> Ceiba | B50: =IVI_BosqueFrag!C12 -> 2.5974026 | D50: =IVI_BosqueFrag!A12 -> Ceiba | E50: =IVI_BosqueFrag!D12 -> 1 | G50: =IVI_BosqueFrag!A12 -> Ceiba | H50: =IVI_BosqueFrag!E12 -> 4.5454545 | J50: =IVI_BosqueFrag!A12 -> Ceiba | K50: =IVI_BosqueFrag!F12 -> 0.290315 | M50: =IVI_BosqueFrag!A12 -> Ceiba | N50: =IVI_BosqueFrag!G12 -> 5.0652578 | P50: =IVI_BosqueFrag!A12 -> Ceiba | Q50: =IVI_BosqueFrag!H12 -> 12.208115
A51: =IVI_BosqueFrag!A13 -> Gallinero | B51: =IVI_BosqueFrag!C13 -> 1.2987013 | D51: =IVI_BosqueFrag!A13 -> Gallinero | E51: =IVI_BosqueFrag!D13 -> 1 | G51: =IVI_BosqueFrag!A13 -> Gallinero | H51: =IVI_BosqueFrag!E13 -> 4.5454545 | J51: =IVI_BosqueFrag!A13 -> Gallinero | K51: =IVI_BosqueFrag!F13 -> 0.021518 | M51: =IVI_BosqueFrag!A13 -> Gallinero | N51: =IVI_BosqueFrag!G13 -> 0.37543433 | P51: =IVI_BosqueFrag!A13 -> Gallinero | Q51: =IVI_BosqueFrag!H13 -> 6.2195902
A52: =IVI_BosqueFrag!A14 -> Guacharaco | B52: =IVI_BosqueFrag!C14 -> 2.5974026 | D52: =IVI_BosqueFrag!A14 -> Guacharaco | E52: =IVI_BosqueFrag!D14 -> 1 | G52: =IVI_BosqueFrag!A14 -> Guacharaco | H52: =IVI_BosqueFrag!E14 -> 4.5454545 | J52: =IVI_BosqueFrag!A14 -> Guacharaco | K52: =IVI_BosqueFrag!F14 -> 0.227735 | M52: =IVI_BosqueFrag!A14 -> Guacharaco | N52: =IVI_BosqueFrag!G14 -> 3.9733961 | P52: =IVI_BosqueFrag!A14 -> Guacharaco | Q52: =IVI_BosqueFrag!H14 -> 11.116253
A53: =IVI_BosqueFrag!A15 -> Guayacán Amarillo | B53: =IVI_BosqueFrag!C15 -> 2.5974026 | D53: =IVI_BosqueFrag!A15 -> Guayacán Amarillo | E53: =IVI_BosqueFrag!D15 -> 1 | G53: =IVI_BosqueFrag!A15 -> Guayacán Amarillo | H53: =IVI_BosqueFrag!E15 -> 4.5454545 | J53: =IVI_BosqueFrag!A15 -> Guayacán Amarillo | K53: =IVI_BosqueFrag!F15 -> 0.165728 | M53: =IVI_BosqueFrag!A15 -> Guayacán Amarillo | N53: =IVI_BosqueFrag!G15 -> 2.8915318 | P53: =IVI_BosqueFrag!A15 -> Guayacán Amarillo | Q53: =IVI_BosqueFrag!H15 -> 10.034389
A54: =IVI_BosqueFrag!A16 -> Guácimo | B54: =IVI_BosqueFrag!C16 -> 2.5974026 | D54: =IVI_BosqueFrag!A16 -> Guácimo | E54: =IVI_BosqueFrag!D16 -> 1 | G54: =IVI_BosqueFrag!A16 -> Guácimo | H54: =IVI_BosqueFrag!E16 -> 4.5454545 | J54: =IVI_BosqueFrag!A16 -> Guácimo | K54: =IVI_BosqueFrag!F16 -> 0.03585 | M54: =IVI_BosqueFrag!A16 -> Guácimo | N54: =IVI_BosqueFrag!G16 -> 0.62549125 | P54: =IVI_BosqueFrag!A16 -> Guácimo | Q54: =IVI_BosqueFrag!H16 -> 7.7683484
... A64: =IVI_BosqueFrag!A26 -> Yopa | B64: =IVI_BosqueFrag!C26 -> 1.2987013 | D64: =IVI_BosqueFrag!A26 -> Yopa | E64: =IVI_BosqueFrag!D26 -> 1 | G64: =IVI_BosqueFrag!A26 -> Yopa | H64: =IVI_BosqueFrag!E26 -> 4.5454545 | J64: =IVI_BosqueFrag!A26 -> Yopa | K64: =IVI_BosqueFrag!F26 -> 0.176288 | M64: =IVI_BosqueFrag!A26 -> Yopa | N64: =IVI_BosqueFrag!G26 -> 3.0757769 | P64: =IVI_BosqueFrag!A26 -> Yopa | Q64: =IVI_BosqueFrag!H26 -> 8.9199328

Sheet Familias_BosqueFrag
A1: REPRESENTATIVIDAD POR FAMILIA
A3: Familia | B3: N.º taxones | C3: N.º individuos | D3: Representatividad (%)
A4: Fabaceae | B4: 7 | C4: 39 | D4: 50.649351
A5: Meliaceae | B5: 1 | C5: 6 | D5: 7.7922078
A6: Anacardiaceae | B6: 2 | C6: 5 | D6: 6.4935065
A7: Malvaceae | B7: 3 | C7: 5 | D7: 6.4935065
A8: Cecropiaceae | B8: 1 | C8: 4 | D8: 5.1948052
A9: Myrtaceae | B9: 1 | C9: 4 | D9: 5.1948052
A10: Boraginaceae | B10: 2 | C10: 3 | D10: 3.8961039
A11: Moraceae | B11: 1 | C11: 3 | D11: 3.8961039
A12: Acanthaceae | B12: 1 | C12: 2 | D12: 2.5974026
A13: Bignoniaceae | B13: 1 | C13: 2 | D13: 2.5974026
A14: Sapindaceae | B14: 1 | C14: 2 | D14: 2.5974026
A15: Lamiaceae | B15: 1 | C15: 1 | D15: 1.2987013
A16: Vochysiaceae | B16: 1 | C16: 1 | D16: 1.2987013

Sheet CompFloris_BosqueFrag
A1: COMPOSICIÓN FLORÍSTICA
A2: Cobertura: Bosque fragmentado con vegetación secundaria
A4: Indicador | B4: Resultado
A5: Individuos vivos identificados | B5: 77
A6: Familias | B6: 13
A7: Géneros | B7: 22
A8: Taxones registrados | B8: 23
A10: Nombre común | B10: Nombre científico | C10: Familia | D10: N.º individuos | E10: Abundancia relativa (%)
A11: Nauno | B11: Pseudosamanea guachapele | C11: Fabaceae | D11: 17 | E11: 22.077922
A12: Sangro | B12: Lonchocarpus violaceus | C12: Fabaceae | D12: 15 | E12: 19.480519
A13: Cedro | B13: Cedrela odorata | C13: Meliaceae | D13: 6 | E13: 7.7922078
A14: Arrayán | B14: Eugenia sp. | C14: Myrtaceae | D14: 4 | E14: 5.1948052
A15: Hobo | B15: Spondias mombin | C15: Anacardiaceae | D15: 4 | E15: 5.1948052
A16: Yarumo | B16: Cecropia engleriana | C16: Cecropiaceae | D16: 4 | E16: 5.1948052
A17: Mora | B17: Maclura tinctoria | C17: Moraceae | D17: 3 | E17: 3.8961039
A18: Cachimbo | B18: Erythrina poeppigiana | C18: Fabaceae | D18: 2 | E18: 2.5974026
A19: Cañafístulo | B19: Senna multijuga | C19: Fabaceae | D19: 2 | E19: 2.5974026
A20: Ceiba | B20: Ceiba pentandra | C20: Malvaceae | D20: 2 | E20: 2.5974026
A21: Guacharaco | B21: Cupania americana | C21: Sapindaceae | D21: 2 | E21: 2.5974026
A22: Guayacán Amarillo | B22: Handroanthus chrysanthus | C22: Bignoniaceae | D22: 2 | E22: 2.5974026
... A33: Yopa | B33: Piptadenia opacifolia | C33: Fabaceae | D33: 1 | E33: 1.2987013
A35: Notas metodológicas
A36: Se excluyeron los registros 'Muerto En Pie' por carecer de identificación taxonómica.
A37: Los registros B/C se interpretaron como fustes adicionales del mismo individuo y no incrementan el número de individuos.
A38: Los registros Cordia sp. y Cordia tetrandra se mantienen como taxones separados.
A39: La riqueza corresponde a taxones identificados en la base; Eugenia sp. y Cordia sp. se contabilizan como taxones diferenciados.

Sheet Tejido Urbano
A1: Arbol | B1: NOMBRE COMUN | C1: NOMBRE CIENTIFICO | D1: FAMILIA | E1: HT (m) | F1: Hc (m) | G1: CAP (m) | H1: DAP (m) | I1: Diametro De Copa (m) | J1: Radio de Copa (m) | K1: X | L1: Y | M1: AB (m2) | N1: VT M3) | O1: Factor de Forma | P1: Area de Copa (m2) | Q1: Epifitas | R1: COBERTURA NATURAL | S1: OBSERVACIÓN
A2: 125 | B2: Guacharaco | C2: Cupania americana L. | D2: Sapindaceae | E2: 12 | F2: 5 | G2: 2.6 | H2: 0.827606 | I2: 8 | J2: 4 | K2: 2149309.1 | L2: 5067247.3 | M2: 0.537944 | N2: 4.906047 | O2: 0.76 | P2: 50.265482 | R2: 1.1.1. Tejido urbano continuo | S2: TALAR | T2: Bueno
A3: 127 | B3: Resbalamonos | C3: Bursera simaruba (L.) Sarg. | D3: Burseraceae | E3: 8 | F3: 5 | G3: 2 | H3: 0.63662 | I3: 9 | J3: 4.5 | K3: 2149281.4 | L3: 5067250.3 | M3: 0.31831 | N3: 1.935324 | O3: 0.76 | P3: 63.617251 | R3: 1.1.1. Tejido urbano continuo | S3: TALAR | T3: Bueno
A4: 129 | B4: Gallinero | C4: Pithecellobium dulce (Roxb.) Benth. | D4: Fabaceae | E4: 10 | F4: 3 | G4: 1.07 | H4: 0.340592 | I4: 10 | J4: 5 | K4: 2149273 | L4: 5067257.3 | M4: 0.091108 | N4: 0.692423 | O4: 0.76 | P4: 78.539816 | R4: 1.1.1. Tejido urbano continuo | S4: TALAR | T4: Bueno | X4: Etiquetas de fila | Y4: Cuenta de NOMBRE COMUN
A5: 131 | B5: Mora | C5: Maclura tinctoria (L.) D.Don ex Steud. | D5: Moraceae | E5: 10 | F5: 4 | G5: 0.86 | H5: 0.273747 | I5: 9 | J5: 4.5 | K5: 2149261.8 | L5: 5067263.5 | M5: 0.058855 | N5: 0.447302 | O5: 0.76 | P5: 63.617251 | R5: 1.1.1. Tejido urbano continuo | S5: TALAR | T5: Bueno | X5: Arenillo | Y5: 4
A6: 132 | B6: Mora | C6: Maclura tinctoria (L.) D.Don ex Steud. | D6: Moraceae | E6: 12 | F6: 8 | G6: 1.47 | H6: 0.467916 | I6: 9 | J6: 4.5 | K6: 2149258 | L6: 5067264.5 | M6: 0.171959 | N6: 1.568266 | O6: 0.76 | P6: 63.617251 | Q6: Bromelias (1) | R6: 1.1.1. Tejido urbano continuo | S6: TALAR | T6: Bueno | X6: Balso | Y6: 3
A7: 141 | B7: Gallinero | C7: Pithecellobium dulce (Roxb.) Benth. | D7: Fabaceae | E7: 8 | F7: 2 | G7: 0.63 | H7: 0.200535 | I7: 6 | J7: 3 | K7: 2149236 | L7: 5067265 | M7: 0.031584 | N7: 0.192033 | O7: 0.76 | P7: 28.274334 | R7: 1.1.1. Tejido urbano continuo | S7: TALAR | T7: Bueno | X7: Caiman | Y7: 1
A8: 142 | B8: Gallinero | C8: Pithecellobium dulce (Roxb.) Benth. | D8: Fabaceae | E8: 10 | F8: 2 | G8: 1.08 | H8: 0.343775 | I8: 11 | J8: 5.5 | K8: 2149233.3 | L8: 5067265.7 | M8: 0.092819 | N8: 0.705426 | O8: 0.76 | P8: 95.033178 | Q8: Bromelias (1) | R8: 1.1.1. Tejido urbano continuo | S8: TALAR | T8: Bueno | X8: Caimito | Y8: 2
A9: 143 | B9: Gallinero | C9: Pithecellobium dulce (Roxb.) Benth. | D9: Fabaceae | E9: 10 | F9: 2 | G9: 1.26 | H9: 0.40107 | I9: 9 | J9: 4.5 | K9: 2149231.6 | L9: 5067266.6 | M9: 0.126337 | N9: 0.960163 | O9: 0.76 | P9: 63.617251 | R9: 1.1.1. Tejido urbano continuo | S9: TALAR | T9: Bueno | X9: Calistemo | Y9: 2
A10: 144 | B10: Nauno | C10: Pseudosamanea guachapele (Kunth) Harms | D10: Fabaceae | E10: 12 | F10: 4 | G10: 1.8 | H10: 0.572958 | I10: 10 | J10: 5 | K10: 2149226 | L10: 5067269.3 | M10: 0.257831 | N10: 2.351419 | O10: 0.76 | P10: 78.539816 | R10: 1.1.1. Tejido urbano continuo | S10: TALAR | T10: Bueno | X10: Cañafístulo | Y10: 4
A11: 145 | B11: Melina | C11: Gmelina arborea Roxb. Ex Sm. | D11: Lamiaceae | E11: 8 | F11: 3 | G11: 0.58 | H11: 0.18462 | I11: 5 | J11: 2.5 | K11: 2149225 | L11: 5067269.2 | M11: 0.02677 | N11: 0.162761 | O11: 0.76 | P11: 19.634954 | R11: 1.1.1. Tejido urbano continuo | S11: TALAR | T11: Bueno | X11: Caracaro | Y11: 5
A12: 148 | B12: Guácimo | C12: Guazuma ulmifolia Lam. | D12: Malvaceae | E12: 10 | F12: 5 | G12: 0.86 | H12: 0.273747 | I12: 11 | J12: 5.5 | K12: 2149226.8 | L12: 5067280.7 | M12: 0.058855 | N12: 0.447302 | O12: 0.76 | P12: 95.033178 | R12: 1.1.1. Tejido urbano continuo | S12: TALAR | T12: Bueno | X12: Caucho | Y12: 1
A13: 152 | B13: Nauno | C13: Pseudosamanea guachapele (Kunth) Harms | D13: Fabaceae | E13: 12 | F13: 6 | G13: 2.06 | H13: 0.655718 | I13: 9 | J13: 4.5 | K13: 2149216.6 | L13: 5067277.7 | M13: 0.337695 | N13: 3.079778 | O13: 0.76 | P13: 63.617251 | R13: 1.1.1. Tejido urbano continuo | S13: TALAR | T13: Bueno | X13: Caucho Benjamín | Y13: 1
A14: 155 | B14: Gallinero | C14: Pithecellobium dulce (Roxb.) Benth. | D14: Fabaceae | E14: 8 | F14: 2 | G14: 0.69 | H14: 0.219634 | I14: 6 | J14: 3 | K14: 2149204.5 | L14: 5067294 | M14: 0.037887 | N14: 0.230352 | O14: 0.76 | P14: 28.274334 | R14: 1.1.1. Tejido urbano continuo | S14: TALAR | T14: Bueno | X14: Cedro | Y14: 1
A15: 181 | B15: Nauno | C15: Pseudosamanea guachapele (Kunth) Harms | D15: Fabaceae | E15: 10 | F15: 4 | G15: 1.33 | H15: 0.423352 | I15: 9 | J15: 4.5 | K15: 2149204.1 | L15: 5067228.8 | M15: 0.140765 | N15: 1.069811 | O15: 0.76 | P15: 63.617251 | R15: 1.1.1. Tejido urbano continuo | S15: TALAR | T15: Bueno | X15: Ceiba | Y15: 2
A16: 183 | B16: Arenillo | C16: Qualea acuminata Spruce ez Warm. | D16: Vochysiaceae | E16: 6 | F16: 2 | G16: 0.4 | H16: 0.127324 | I16: 10 | J16: 5 | K16: 2149232 | L16: 5067175.2 | M16: 0.012732 | N16: 0.05806 | O16: 0.76 | P16: 78.539816 | R16: 1.1.1. Tejido urbano continuo | S16: TALAR | T16: Bueno | X16: Gallinero | Y16: 21
A17: 213 | B17: Pera de Malaca | C17: Syzygium malaccense (L.) Merr. & L.M.Perry | D17: Myrtaceae | E17: 5 | F17: 2 | G17: 0.69 | H17: 0.219634 | I17: 8 | J17: 4 | K17: 2149192.2 | L17: 5067012.9 | M17: 0.037887 | N17: 0.14397 | O17: 0.76 | P17: 50.265482 | R17: 1.1.1. Tejido urbano continuo | S17: TALAR | T17: Bueno | X17: Guacharaco | Y17: 1
A18: 214 | B18: Pera de Malaca | C18: Syzygium malaccense (L.) Merr. & L.M.Perry | D18: Myrtaceae | E18: 5 | F18: 2 | G18: 0.6 | H18: 0.190986 | I18: 8 | J18: 4 | K18: 2149193.7 | L18: 5067006.1 | M18: 0.028648 | N18: 0.108862 | O18: 0.76 | P18: 50.265482 | R18: 1.1.1. Tejido urbano continuo | S18: TALAR | T18: Bueno | X18: Guácimo | Y18: 19
A19: 215 | B19: Pera de Malaca | C19: Syzygium malaccense (L.) Merr. & L.M.Perry | D19: Myrtaceae | E19: 5 | F19: 2 | G19: 0.59 | H19: 0.187803 | I19: 8 | J19: 4 | K19: 2149195.3 | L19: 5066999.5 | M19: 0.027701 | N19: 0.105263 | O19: 0.76 | P19: 50.265482 | R19: 1.1.1. Tejido urbano continuo | S19: TALAR | T19: Bueno | X19: Guanabano | Y19: 8
A20: 216 | B20: Pera de Malaca | C20: Syzygium malaccense (L.) Merr. & L.M.Perry | D20: Myrtaceae | E20: 5 | F20: 2 | G20: 0.47 | H20: 0.149606 | I20: 8 | J20: 4 | K20: 2149196.5 | L20: 5066992.6 | M20: 0.017579 | N20: 0.066799 | O20: 0.76 | P20: 50.265482 | R20: 1.1.1. Tejido urbano continuo | S20: TALAR | T20: Bueno | X20: Guayacán Amarillo | Y20: 6
... A44: 261 | B44: Pardillo | C44: Cordia tetrandra Aubl. | D44: Boraginaceae | E44: 12 | F44: 6 | G44: 1.04 | H44: 0.331042 | I44: 9 | J44: 4.5 | K44: 2149298.7 | L44: 5066977.8 | M44: 0.086071 | N44: 0.784967 | O44: 0.76 | P44: 63.617251 | R44: 1.1.1. Tejido urbano continuo | S44: TALAR | T44: Bueno | X44: Yopo | Y44: 2
A45: 263 | B45: Palmiche | C45: Leopoldinia pulchra Mart. | D45: Arecaceae | E45: 5 | F45: 2 | G45: 0.36 | H45: 0.114592 | I45: 4 | J45: 2 | K45: 2149307 | L45: 5066989.4 | M45: 0.010313 | N45: 0.03919 | O45: 0.76 | P45: 12.566371 | R45: 1.1.1. Tejido urbano continuo | S45: TALAR | T45: Bueno | X45: (en blanco)
A46: 264 | B46: Pera de Malaca | C46: Syzygium malaccense (L.) Merr. & L.M.Perry | D46: Myrtaceae | E46: 9 | F46: 2 | G46: 0.71 | H46: 0.226 | I46: 12 | J46: 6 | K46: 2149310.8 | L46: 5066990.6 | M46: 0.040115 | N46: 0.274387 | O46: 0.76 | P46: 113.09734 | R46: 1.1.1. Tejido urbano continuo | S46: TALAR | T46: Bueno | X46: Total general | Y46: 234
A47: 267 | B47: Hobo | C47: Spondias mombin Jacq. | D47: Anacardiaceae | E47: 12 | F47: 7 | G47: 2.64 | H47: 0.840338 | I47: 9 | J47: 4.5 | K47: 2149290 | L47: 5066933.2 | M47: 0.554623 | N47: 5.058163 | O47: 0.76 | P47: 63.617251 | R47: 1.1.1. Tejido urbano continuo | S47: TALAR | T47: Bueno
A48: 268 | B48: Laurel | C48: Ocotea sp | D48: Laureacea | E48: 18 | F48: 7 | G48: 1.83 | H48: 0.582507 | I48: 10 | J48: 5 | K48: 2149302.4 | L48: 5066929 | M48: 0.266497 | N48: 3.645679 | O48: 0.76 | P48: 78.539816 | R48: 1.1.1. Tejido urbano continuo | S48: TALAR | T48: Bueno
A49: 269 | B49: Laurel | C49: Ocotea sp | D49: Laureacea | E49: 15 | F49: 8 | G49: 0.77 | H49: 0.245099 | I49: 10 | J49: 5 | K49: 2149304.5 | L49: 5066924.7 | M49: 0.047181 | N49: 0.537869 | O49: 0.76 | P49: 78.539816 | R49: 1.1.1. Tejido urbano continuo | S49: TALAR | T49: Bueno
A50: 272 | B50: Trompillo | C50: Guarea guidonia (L.) Sleumer | D50: Meliaceae | E50: 10 | F50: 3 | G50: 0.53 | H50: 0.168704 | I50: 8 | J50: 4 | K50: 2149312.7 | L50: 5066918.4 | M50: 0.022353 | N50: 0.169885 | O50: 0.76 | P50: 50.265482 | R50: 1.1.1. Tejido urbano continuo | S50: TALAR | T50: Bueno
A51: 273 | B51: Caucho | C51: Ficus elastica Roxb. | D51: Moraceae | E51: 10 | F51: 3 | G51: 0.4 | H51: 0.127324 | I51: 10 | J51: 5 | K51: 2149319.6 | L51: 5066919.4 | M51: 0.012732 | N51: 0.096766 | O51: 0.76 | P51: 78.539816 | R51: 1.1.1. Tejido urbano continuo | S51: TALAR | T51: Bueno
A52: 279 | B52: Nauno | C52: Pseudosamanea guachapele (Kunth) Harms | D52: Fabaceae | E52: 12 | F52: 4 | G52: 0.92 | H52: 0.292845 | I52: 10 | J52: 5 | K52: 2149337.3 | L52: 5066917.8 | M52: 0.067354 | N52: 0.614272 | O52: 0.76 | P52: 78.539816 | R52: 1.1.1. Tejido urbano continuo | S52: TALAR | T52: Bueno
A53: 280 | B53: Nauno | C53: Pseudosamanea guachapele (Kunth) Harms | D53: Fabaceae | E53: 12 | F53: 4 | G53: 1.06 | H53: 0.337408 | I53: 10 | J53: 5 | K53: 2149340.2 | L53: 5066919 | M53: 0.089413 | N53: 0.815449 | O53: 0.76 | P53: 78.539816 | R53: 1.1.1. Tejido urbano continuo | S53: TALAR | T53: Bueno
A54: 281 | B54: Nauno | C54: Pseudosamanea guachapele (Kunth) Harms | D54: Fabaceae | E54: 12 | F54: 5 | G54: 0.75 | H54: 0.238732 | I54: 12 | J54: 6 | K54: 2149340.6 | L54: 5066919.9 | M54: 0.044762 | N54: 0.408232 | O54: 0.76 | P54: 113.09734 | R54: 1.1.1. Tejido urbano continuo | S54: TALAR | T54: Bueno
A55: 282 | B55: Nauno | C55: Pseudosamanea guachapele (Kunth) Harms | D55: Fabaceae | E55: 12 | F55: 4 | G55: 0.77 | H55: 0.245099 | I55: 11 | J55: 5.5 | K55: 2149342 | L55: 5066920.9 | M55: 0.047181 | N55: 0.430295 | O55: 0.76 | P55: 95.033178 | R55: 1.1.1. Tejido urbano continuo | S55: TALAR | T55: Bueno
A56: 283 | B56: Nauno | C56: Pseudosamanea guachapele (Kunth) Harms | D56: Fabaceae | E56: 12 | F56: 8 | G56: 1.2 | H56: 0.381972 | I56: 10 | J56: 5 | K56: 2149342.8 | L56: 5066921.4 | M56: 0.114592 | N56: 1.045075 | O56: 0.76 | P56: 78.539816 | R56: 1.1.1. Tejido urbano continuo | S56: TALAR | T56: Bueno
A57: 284 | B57: Muerto En Pie | C57: <Null> | D57: <Null> | E57: 12 | F57: 3 | G57: 0.85 | H57: 0.270563 | I57: 0 | J57: 0 | K57: 2149344.4 | L57: 5066920.8 | M57: 0.057495 | N57: 0.524352 | O57: 0.76 | P57: 0 | R57: 1.1.1. Tejido urbano continuo | S57: TALAR | T57: Muerto en pie
A58: 285 | B58: Muerto En Pie | C58: <Null> | D58: <Null> | E58: 12 | F58: 3 | G58: 0.81 | H58: 0.257831 | I58: 0 | J58: 0 | K58: 2149346.6 | L58: 5066918.9 | M58: 0.052211 | N58: 0.476162 | O58: 0.76 | P58: 0 | R58: 1.1.1. Tejido urbano continuo | S58: TALAR | T58: Muerto en pie
... A68: 386 | B68: Sangro | C68: Lonchocarpus violaceus (Jacq.) Kunth ex DC | D68: Fabaceae | E68: 10 | F68: 2 | G68: 0.54 | H68: 0.171887 | I68: 9 | J68: 4.5 | K68: 2149351.2 | L68: 5066981.9 | M68: 0.023205 | N68: 0.176356 | O68: 0.76 | P68: 63.617251 | R68: 1.1.1. Tejido urbano continuo | S68: TALAR | T68: Bueno
A69: 388 | B69: Muerto En Pie | C69: <Null> | D69: <Null> | E69: 13 | F69: 5 | G69: 0.8 | H69: 0.254648 | I69: <Null> | J69: 0 | K69: 2149346.3 | L69: 5066965.2 | M69: 0.05093 | N69: 0.503184 | O69: 0.76 | P69: 0 | R69: 1.1.1. Tejido urbano continuo | S69: TALAR | T69: Muerto en pie
A70: 441 | B70: Mango | C70: Mangifera indica L. | D70: Anacardiaceae | E70: 12 | F70: 4 | G70: 1.93 | H70: 0.614338 | I70: 10 | J70: 5 | K70: 2149284.4 | L70: 5066995.4 | M70: 0.296418 | N70: 2.703333 | O70: 0.76 | P70: 78.539816 | R70: 1.1.1. Tejido urbano continuo | S70: TALAR | T70: Bueno
A71: 442 | B71: Palma Corneto | C71: Iriartea deltoidea Ruiz & Pav. | D71: Arecaceae | E71: 9 | F71: 3 | G71: 0.34 | H71: 0.108225 | I71: 7 | J71: 3.5 | K71: 2149275.9 | L71: 5066993.8 | M71: 0.009199 | N71: 0.062922 | O71: 0.76 | P71: 38.48451 | R71: 1.1.1. Tejido urbano continuo | S71: TALAR | T71: Bueno
A72: 444 | B72: Guanabano | C72: Annona muricata L. | D72: Annonaceae | E72: 10 | F72: 3 | G72: 0.9 | H72: 0.286479 | I72: 9 | J72: 4.5 | K72: 2149254 | L72: 5066983 | M72: 0.064458 | N72: 0.489879 | O72: 0.76 | P72: 63.617251 | R72: 1.1.1. Tejido urbano continuo | S72: TALAR | T72: Bueno
A73: 445 | B73: Mamoncillo | C73: Melicoccus bijugatus Jacq. | D73: Sapindaceae | E73: 12 | F73: 4 | G73: 0.96 | H73: 0.305577 | I73: 9 | J73: 4.5 | K73: 2149290.4 | L73: 5067009.6 | M73: 0.073339 | N73: 0.668848 | O73: 0.76 | P73: 63.617251 | R73: 1.1.1. Tejido urbano continuo | S73: TALAR | T73: Bueno
A74: 447 | B74: Nauno | C74: Pseudosamanea guachapele (Kunth) Harms | D74: Fabaceae | E74: 10 | F74: 4 | G74: 0.7 | H74: 0.222817 | I74: 11 | J74: 5.5 | K74: 2149273.4 | L74: 5067011.1 | M74: 0.038993 | N74: 0.296347 | O74: 0.76 | P74: 95.033178 | R74: 1.1.1. Tejido urbano continuo | S74: TALAR | T74: Bueno
A75: 453 | B75: Oití | C75: Moquilea tomentosa Benth. | D75: Chrysobalanaceae | E75: 10 | F75: 3 | G75: 0.4 | H75: 0.127324 | I75: 11 | J75: 5.5 | K75: 2149258.4 | L75: 5067016.4 | M75: 0.012732 | N75: 0.096766 | O75: 0.76 | P75: 95.033178 | Q75: Orquidea (1) | R75: 1.1.1. Tejido urbano continuo | S75: TALAR | T75: Bueno
A76: 454 | B76: Pera de Malaca | C76: Syzygium malaccense (L.) Merr. & L.M.Perry | D76: Myrtaceae | E76: 9 | F76: 3 | G76: 0.82 | H76: 0.261014 | I76: 11 | J76: 5.5 | K76: 2149253.9 | L76: 5067018.1 | M76: 0.053508 | N76: 0.365994 | O76: 0.76 | P76: 95.033178 | R76: 1.1.1. Tejido urbano continuo | S76: TALAR | T76: Bueno
A77: 455 | B77: Pera de Malaca | C77: Syzygium malaccense (L.) Merr. & L.M.Perry | D77: Myrtaceae | E77: 9 | F77: 3 | G77: 0.53 | H77: 0.168704 | I77: 11 | J77: 5.5 | K77: 2149253.1 | L77: 5067020.2 | M77: 0.022353 | N77: 0.152897 | O77: 0.76 | P77: 95.033178 | R77: 1.1.1. Tejido urbano continuo | S77: TALAR | T77: Bueno
A78: 456 | B78: Palma Botella | C78: Roystonea regia (Kunth) O.F.Cook | D78: Arecaceae | E78: 10 | F78: 4 | G78: 0.9 | H78: 0.286479 | I78: 8 | J78: 4 | K78: 2149250.4 | L78: 5066993.7 | M78: 0.064458 | N78: 0.489879 | O78: 0.76 | P78: 50.265482 | R78: 1.1.1. Tejido urbano continuo | S78: TALAR | T78: Bueno
A79: 457 | B79: Palma Botella | C79: Roystonea regia (Kunth) O.F.Cook | D79: Arecaceae | E79: 7 | F79: 2 | G79: 0.66 | H79: 0.210085 | I79: 8 | J79: 4 | K79: 2149248.4 | L79: 5067000.1 | M79: 0.034664 | N79: 0.184412 | O79: 0.76 | P79: 50.265482 | R79: 1.1.1. Tejido urbano continuo | S79: TALAR | T79: Bueno
A80: 458 | B80: Mango | C80: Mangifera indica L. | D80: Anacardiaceae | E80: 12 | F80: 4 | G80: 2.8 | H80: 0.891268 | I80: 9 | J80: 4.5 | K80: 2149290.1 | L80: 5067033.3 | M80: 0.623887 | N80: 5.689853 | O80: 0.76 | P80: 63.617251 | R80: 1.1.1. Tejido urbano continuo | S80: TALAR | T80: Bueno
A81: 459 | B81: Mango | C81: Mangifera indica L. | D81: Anacardiaceae | E81: 12 | F81: 4 | G81: 1.58 | H81: 0.50293 | I81: 9 | J81: 4.5 | K81: 2149298.6 | L81: 5067036.5 | M81: 0.198657 | N81: 1.811754 | O81: 0.76 | P81: 63.617251 | R81: 1.1.1. Tejido urbano continuo | S81: TALAR | T81: Bueno
A82: 460 | B82: Palma | C82: Chrysalidocarpus lutescens H.Wendl. | D82: Arecaceae | E82: 7 | F82: 3 | G82: 0.14 | H82: 0.044563 | I82: 5 | J82: 2.5 | K82: 2149261.8 | L82: 5067035.7 | M82: 0.00156 | N82: 0.008298 | O82: 0.76 | P82: 19.634954 | R82: 1.1.1. Tejido urbano continuo | S82: TALAR | T82: Bueno
A83: 462 | B83: Caracaro | C83: Enterolobium cyclocarpum (Jacq.) Griseb. | D83: Fabaceae | E83: 12 | F83: 4 | G83: 2.61 | H83: 0.830789 | I83: 9 | J83: 4.5 | K83: 2149286.6 | L83: 5067059.7 | M83: 0.54209 | N83: 4.943858 | O83: 0.76 | P83: 63.617251 | R83: 1.1.1. Tejido urbano continuo | S83: TALAR | T83: Bueno
A84: 463 | B84: Mango | C84: Mangifera indica L. | D84: Anacardiaceae | E84: 10 | F84: 4 | G84: 1.8 | H84: 0.572958 | I84: 9 | J84: 4.5 | K84: 2149242.6 | L84: 5067050.1 | M84: 0.257831 | N84: 1.959516 | O84: 0.76 | P84: 63.617251 | Q84: Bromelia (2) | R84: 1.1.1. Tejido urbano continuo | S84: TALAR | T84: Bueno
A85: 468 | B85: Calistemo | C85: Callistemon Sp | D85: Myrtaceae | E85: 5 | F85: 2 | G85: 0.31 | H85: 0.098676 | I85: 5 | J85: 2.5 | K85: 2149257 | L85: 5067071.8 | M85: 0.007647 | N85: 0.02906 | O85: 0.76 | P85: 19.634954 | R85: 1.1.1. Tejido urbano continuo | S85: TALAR | T85: Bueno
A86: 469 | B86: Pera de Malaca | C86: Syzygium malaccense (L.) Merr. & L.M.Perry | D86: Myrtaceae | E86: 9 | F86: 3 | G86: 0.66 | H86: 0.210085 | I86: 6 | J86: 3 | K86: 2149259.7 | L86: 5067072.5 | M86: 0.034664 | N86: 0.237101 | O86: 0.76 | P86: 28.274334 | R86: 1.1.1. Tejido urbano continuo | S86: TALAR | T86: Bueno
A87: 470 | B87: Yarumo | C87: Cecropia engleriana Snethl. | D87: Cecropiaceae | E87: 12 | F87: 5 | G87: 0.67 | H87: 0.213268 | I87: 8 | J87: 4 | K87: 2149262.2 | L87: 5067087.1 | M87: 0.035722 | N87: 0.325788 | O87: 0.76 | P87: 50.265482 | R87: 1.1.1. Tejido urbano continuo | S87: TALAR | T87: Bueno
A88: 471 | B88: Mango | C88: Mangifera indica L. | D88: Anacardiaceae | E88: 13 | F88: 5 | G88: 1.4 | H88: 0.445634 | I88: 10 | J88: 5 | K88: 2149246.4 | L88: 5067111.8 | M88: 0.155972 | N88: 1.541002 | O88: 0.76 | P88: 78.539816 | Q88: Bejuco | R88: 1.1.1. Tejido urbano continuo | S88: TALAR | T88: Bueno
A89: 472 | B89: Mango | C89: Mangifera indica L. | D89: Anacardiaceae | E89: 13 | F89: 3 | G89: 2.16 | H89: 0.687549 | I89: 10 | J89: 5 | K89: 2149244.5 | L89: 5067110.6 | M89: 0.371277 | N89: 3.668213 | O89: 0.76 | P89: 78.539816 | Q89: Bromelia (1) | R89: 1.1.1. Tejido urbano continuo | S89: TALAR | T89: Bueno
A90: 474 | B90: Mango | C90: Mangifera indica L. | D90: Anacardiaceae | E90: 11 | F90: 5 | G90: 0.74 | H90: 0.235549 | I90: 7 | J90: 3.5 | K90: 2149237.4 | L90: 5067110.3 | M90: 0.043577 | N90: 0.364301 | O90: 0.76 | P90: 38.48451 | Q90: Bromelia (1) | R90: 1.1.1. Tejido urbano continuo | S90: TALAR | T90: Bueno
A91: 480 | B91: Mango | C91: Mangifera indica L. | D91: Anacardiaceae | E91: 12 | F91: 3 | G91: 0.66 | H91: 0.210085 | I91: 11 | J91: 5.5 | K91: 2149232 | L91: 5067118.8 | M91: 0.034664 | N91: 0.316135 | O91: 0.76 | P91: 95.033178 | R91: 1.1.1. Tejido urbano continuo | S91: TALAR | T91: Bueno
A92: 481 | B92: Mango | C92: Mangifera indica L. | D92: Anacardiaceae | E92: 12 | F92: 4 | G92: 1.6 | H92: 0.509296 | I92: 12 | J92: 6 | K92: 2149230.6 | L92: 5067118.3 | M92: 0.203718 | N92: 1.857911 | O92: 0.76 | P92: 113.09734 | R92: 1.1.1. Tejido urbano continuo | S92: TALAR | T92: Bueno
A93: 485 | B93: Mango | C93: Mangifera indica L. | D93: Anacardiaceae | E93: 12 | F93: 4 | G93: 1.87 | H93: 0.595239 | I93: 8 | J93: 4 | K93: 2149255.4 | L93: 5067106.6 | M93: 0.278274 | N93: 2.537863 | O93: 0.76 | P93: 50.265482 | Q93: Bromelia (1) | R93: 1.1.1. Tejido urbano continuo | S93: TALAR | T93: Bueno
A94: 486 | B94: Mamoncillo | C94: Melicoccus bijugatus Jacq. | D94: Sapindaceae | E94: 12 | F94: 5 | G94: 1.95 | H94: 0.620704 | I94: 10 | J94: 5 | K94: 2149274.5 | L94: 5067096.2 | M94: 0.302593 | N94: 2.759651 | O94: 0.76 | P94: 78.539816 | R94: 1.1.1. Tejido urbano continuo | S94: TALAR | T94: Bueno
A95: 487 | B95: Mango | C95: Mangifera indica L. | D95: Anacardiaceae | E95: 12 | F95: 5 | G95: 2.82 | H95: 0.897634 | I95: 8 | J95: 4 | K95: 2149285.6 | L95: 5067094.8 | M95: 0.632832 | N95: 5.771427 | O95: 0.76 | P95: 50.265482 | R95: 1.1.1. Tejido urbano continuo | S95: TALAR | T95: Bueno
A96: 488 | B96: Mango | C96: Mangifera indica L. | D96: Anacardiaceae | E96: 12 | F96: 5 | G96: 3.3 | H96: 1.050423 | I96: 8 | J96: 4 | K96: 2149283.5 | L96: 5067087.5 | M96: 0.866599 | N96: 7.90338 | O96: 0.76 | P96: 50.265482 | Q96: Bromelia (1) | R96: 1.1.1. Tejido urbano continuo | S96: TALAR | T96: Bueno
A97: 489 | B97: Guanabano | C97: Annona muricata L. | D97: Annonaceae | E97: 9 | F97: 3 | G97: 0.37 | H97: 0.117775 | I97: 8 | J97: 4 | K97: 2149277.1 | L97: 5067080.4 | M97: 0.010894 | N97: 0.074516 | O97: 0.76 | P97: 50.265482 | R97: 1.1.1. Tejido urbano continuo | S97: TALAR | T97: Bueno
A98: 493 | B98: Yarumo | C98: Cecropia engleriana Snethl. | D98: Cecropiaceae | E98: 12 | F98: 6 | G98: 0.31 | H98: 0.098676 | I98: 7 | J98: 3.5 | K98: 2149273.4 | L98: 5067105.4 | M98: 0.007647 | N98: 0.069744 | O98: 0.76 | P98: 38.48451 | R98: 1.1.1. Tejido urbano continuo | S98: TALAR | T98: Bueno
A99: 494 | B99: Yarumo | C99: Cecropia engleriana Snethl. | D99: Cecropiaceae | E99: 12 | F99: 7 | G99: 0.35 | H99: 0.111408 | I99: 7 | J99: 3.5 | K99: 2149282.3 | L99: 5067083.1 | M99: 0.009748 | N99: 0.088904 | O99: 0.76 | P99: 38.48451 | R99: 1.1.1. Tejido urbano continuo | S99: TALAR | T99: Bueno
A100: 495 | B100: Yarumo | C100: Cecropia engleriana Snethl. | D100: Cecropiaceae | E100: 12 | F100: 5 | G100: 0.37 | H100: 0.117775 | I100: 7 | J100: 3.5 | K100: 2149290.4 | L100: 5067081.1 | M100: 0.010894 | N100: 0.099355 | O100: 0.76 | P100: 38.48451 | R100: 1.1.1. Tejido urbano continuo | S100: TALAR | T100: Bueno
A101: 496 | B101: Nauno | C101: Pseudosamanea guachapele (Kunth) Harms | D101: Fabaceae | E101: 12 | F101: 5 | G101: 1.11 | H101: 0.353324 | I101: 10 | J101: 5 | K101: 2149220.3 | L101: 5066944.1 | M101: 0.098047 | N101: 0.894192 | O101: 0.76 | P101: 78.539816 | R101: 1.1.1. Tejido urbano continuo | S101: TALAR | T101: Bueno
A102: 497 | B102: Nauno | C102: Pseudosamanea guachapele (Kunth) Harms | D102: Fabaceae | E102: 12 | F102: 5 | G102: 1.42 | H102: 0.452 | I102: 12 | J102: 6 | K102: 2149222.8 | L102: 5066947.9 | M102: 0.16046 | N102: 1.463395 | O102: 0.76 | P102: 113.09734 | R102: 1.1.1. Tejido urbano continuo | S102: TALAR | T102: Bueno
A103: 499 | B103: Gallinero | C103: Pithecellobium dulce (Roxb.) Benth. | D103: Fabaceae | E103: 12 | F103: 4 | G103: 3.4 | H103: 1.082254 | I103: 8 | J103: 4 | K103: 2149221.7 | L103: 5066931.7 | M103: 0.919916 | N103: 8.38963 | O103: 0.76 | P103: 50.265482 | Q103: Helecho | R103: 1.1.1. Tejido urbano continuo | S103: TALAR | T103: Bueno
A104: 500 | B104: Limón | C104: Citrus x limon (L.) Osbeck | D104: Rutaceae | E104: 3 | F104: 1.3 | G104: 0.46 | H104: 0.146423 | I104: 5 | J104: 2.5 | K104: 2149208.1 | L104: 5066954.9 | M104: 0.016839 | N104: 0.038392 | O104: 0.76 | P104: 19.634954 | R104: 1.1.1. Tejido urbano continuo | S104: TALAR | T104: Bueno
A105: 501 | B105: Trompillo | C105: Guarea guidonia (L.) Sleumer | D105: Meliaceae | E105: 10 | F105: 3 | G105: 0.82 | H105: 0.261014 | I105: 8 | J105: 4 | K105: 2149216.3 | L105: 5066970.6 | M105: 0.053508 | N105: 0.40666 | O105: 0.76 | P105: 50.265482 | R105: 1.1.1. Tejido urbano continuo | S105: TALAR | T105: Bueno
A106: 502 | B106: Gallinero | C106: Pithecellobium dulce (Roxb.) Benth. | D106: Fabaceae | E106: 9 | F106: 3 | G106: 1.27 | H106: 0.404254 | I106: 8 | J106: 4 | K106: 2149223.2 | L106: 5066972.2 | M106: 0.128351 | N106: 0.877917 | O106: 0.76 | P106: 50.265482 | R106: 1.1.1. Tejido urbano continuo | S106: TALAR | T106: Bueno
A107: 584 | B107: Guácimo | C107: Guazuma ulmifolia Lam. | D107: Malvaceae | E107: 10 | F107: 3 | G107: 0.45 | H107: 0.143239 | I107: 11 | J107: 5.5 | K107: 2149283.9 | L107: 5067120.6 | M107: 0.016114 | N107: 0.12247 | O107: 0.76 | P107: 95.033178 | R107: 1.1.1. Tejido urbano continuo | S107: TALAR | T107: Bueno
A108: 585 | B108: Guácimo | C108: Guazuma ulmifolia Lam. | D108: Malvaceae | E108: 10 | F108: 3 | G108: 0.42 | H108: 0.13369 | I108: 12 | J108: 6 | K108: 2149291.3 | L108: 5067117 | M108: 0.014037 | N108: 0.106685 | O108: 0.76 | P108: 113.09734 | R108: 1.1.1. Tejido urbano continuo | S108: TALAR | T108: Afectación fitosanitaria en el fuste
A109: 586 | B109: Guácimo | C109: Guazuma ulmifolia Lam. | D109: Malvaceae | E109: 12 | F109: 5 | G109: 0.55 | H109: 0.17507 | I109: 10 | J109: 5 | K109: 2149294.3 | L109: 5067115.6 | M109: 0.024072 | N109: 0.219538 | O109: 0.76 | P109: 78.539816 | R109: 1.1.1. Tejido urbano continuo | S109: TALAR | T109: Bueno
A110: 587 | B110: Muerto En Pie | C110: <Null> | D110: <Null> | E110: 10 | F110: 4 | G110: 0.6 | H110: 0.190986 | I110: <Null> | J110: 0 | K110: 2149306.4 | L110: 5067112 | M110: 0.028648 | N110: 0.217724 | O110: 0.76 | P110: 0 | R110: 1.1.1. Tejido urbano continuo | S110: TALAR | T110: Muerto en pie
A111: 588 | B111: Guácimo | C111: Guazuma ulmifolia Lam. | D111: Malvaceae | E111: 10 | F111: 4 | G111: 0.7 | H111: 0.222817 | I111: 8 | J111: 4 | K111: 2149307.7 | L111: 5067111.3 | M111: 0.038993 | N111: 0.296347 | O111: 0.76 | P111: 50.265482 | R111: 1.1.1. Tejido urbano continuo | S111: TALAR | T111: Bueno
A112: 589 | B112: Muerto En Pie | C112: <Null> | D112: <Null> | E112: 10 | F112: 5 | G112: 1.06 | H112: 0.337408 | I112: <Null> | J112: 0 | K112: 2149310.5 | L112: 5067110.2 | M112: 0.089413 | N112: 0.679541 | O112: 0.76 | P112: 0 | R112: 1.1.1. Tejido urbano continuo | S112: TALAR | T112: Muerto en pie
A113: 590 | B113: Mango | C113: Mangifera indica L. | D113: Anacardiaceae | E113: 12 | F113: 5 | G113: 2.05 | H113: 0.652535 | I113: 10 | J113: 5 | K113: 2149335.4 | L113: 5067017.3 | M113: 0.334424 | N113: 3.04995 | O113: 0.76 | P113: 78.539816 | Q113: Bejuco | R113: 1.1.1. Tejido urbano continuo | S113: TALAR | T113: Bueno
A114: 591 | B114: Mango | C114: Mangifera indica L. | D114: Anacardiaceae | E114: 12 | F114: 5 | G114: 1.92 | H114: 0.611155 | I114: 10 | J114: 5 | K114: 2149332.1 | L114: 5067025.2 | M114: 0.293354 | N114: 2.675392 | O114: 0.76 | P114: 78.539816 | Q114: Bromelia (1) | R114: 1.1.1. Tejido urbano continuo | S114: TALAR | T114: Bueno
A115: 592 | B115: Guanabano | C115: Annona muricata L. | D115: Annonaceae | E115: 4 | F115: 2 | G115: 0.54 | H115: 0.171887 | I115: 6 | J115: 3 | K115: 2149324.1 | L115: 5067031.1 | M115: 0.023205 | N115: 0.070543 | O115: 0.76 | P115: 28.274334 | R115: 1.1.1. Tejido urbano continuo | S115: TALAR | T115: Bueno
A116: 594 | B116: Gallinero | C116: Pithecellobium dulce (Roxb.) Benth. | D116: Fabaceae | E116: 9 | F116: 3 | G116: 0.67 | H116: 0.213268 | I116: 8 | J116: 4 | K116: 2149322 | L116: 5067018.9 | M116: 0.035722 | N116: 0.244341 | O116: 0.76 | P116: 50.265482 | R116: 1.1.1. Tejido urbano continuo | S116: TALAR | T116: Bueno
A117: 595 | B117: Mora | C117: Maclura tinctoria (L.) D.Don ex Steud. | D117: Moraceae | E117: 10 | F117: 4 | G117: 0.52 | H117: 0.165521 | I117: 8 | J117: 4 | K117: 2149319.5 | L117: 5067017.7 | M117: 0.021518 | N117: 0.163535 | O117: 0.76 | P117: 50.265482 | R117: 1.1.1. Tejido urbano continuo | S117: TALAR | T117: Bueno
A118: 602 | B118: Nauno | C118: Pseudosamanea guachapele (Kunth) Harms | D118: Fabaceae | E118: 10 | F118: 4 | G118: 0.39 | H118: 0.124141 | I118: 6 | J118: 3 | K118: 2149319.3 | L118: 5067063.7 | M118: 0.012104 | N118: 0.091988 | O118: 0.76 | P118: 28.274334 | Q118: Bejuco | R118: 1.1.1. Tejido urbano continuo | S118: TALAR | T118: Bueno
A119: 603 | B119: Nauno | C119: Pseudosamanea guachapele (Kunth) Harms | D119: Fabaceae | E119: 10 | F119: 4 | G119: 0.76 | H119: 0.241916 | I119: 3 | J119: 1.5 | K119: 2149312.5 | L119: 5067068.8 | M119: 0.045964 | N119: 0.349326 | O119: 0.76 | P119: 7.068583 | R119: 1.1.1. Tejido urbano continuo | S119: TALAR | T119: Bueno
A120: 604 | B120: Nauno | C120: Pseudosamanea guachapele (Kunth) Harms | D120: Fabaceae | E120: 10 | F120: 4 | G120: 0.44 | H120: 0.140056 | I120: 5 | J120: 2.5 | K120: 2149312.9 | L120: 5067069 | M120: 0.015406 | N120: 0.117087 | O120: 0.76 | P120: 19.634954 | R120: 1.1.1. Tejido urbano continuo | S120: TALAR | T120: Bueno
A121: 605 | B121: Balso | C121: Ochroma pyramidale (Cav.) Urb. | D121: Malvaceae | E121: 10 | F121: 5 | G121: 1.14 | H121: 0.362873 | I121: 8 | J121: 4 | K121: 2149311.1 | L121: 5067075.8 | M121: 0.103419 | N121: 0.785984 | O121: 0.76 | P121: 50.265482 | R121: 1.1.1. Tejido urbano continuo | S121: TALAR | T121: Bueno
A122: 606 | B122: Caracaro | C122: Enterolobium cyclocarpum (Jacq.) Griseb. | D122: Fabaceae | E122: 10 | F122: 4 | G122: 1.11 | H122: 0.353324 | I122: 10 | J122: 5 | K122: 2149318.3 | L122: 5067076.2 | M122: 0.098047 | N122: 0.74516 | O122: 0.76 | P122: 78.539816 | R122: 1.1.1. Tejido urbano continuo | S122: TALAR | T122: Bueno
A123: 607 | B123: Guácimo | C123: Guazuma ulmifolia Lam. | D123: Malvaceae | E123: 10 | F123: 4 | G123: 0.78 | H123: 0.248282 | I123: 12 | J123: 6 | K123: 2149324.5 | L123: 5067076.7 | M123: 0.048415 | N123: 0.367953 | O123: 0.76 | P123: 113.09734 | R123: 1.1.1. Tejido urbano continuo | S123: TALAR | T123: Bueno
A124: 608 | B124: Caracaro | C124: Enterolobium cyclocarpum (Jacq.) Griseb. | D124: Fabaceae | E124: 12 | F124: 5 | G124: 0.79 | H124: 0.251465 | I124: 10 | J124: 5 | K124: 2149321.5 | L124: 5067071.3 | M124: 0.049664 | N124: 0.452938 | O124: 0.76 | P124: 78.539816 | R124: 1.1.1. Tejido urbano continuo | S124: TALAR | T124: Bueno
A125: 609 | B125: Caracaro | C125: Enterolobium cyclocarpum (Jacq.) Griseb. | D125: Fabaceae | E125: 12 | F125: 6 | G125: 0.44 | H125: 0.140056 | I125: 9 | J125: 4.5 | K125: 2149321.9 | L125: 5067069 | M125: 0.015406 | N125: 0.140505 | O125: 0.76 | P125: 63.617251 | R125: 1.1.1. Tejido urbano continuo | S125: TALAR | T125: Bueno
A126: 613 | B126: Ceiba | C126: Ceiba pentandra (L.) Gaertn. | D126: Malvaceae | E126: 12 | F126: 5 | G126: 4 | H126: 1.27324 | I126: 10 | J126: 5 | K126: 2149312.8 | L126: 5067097 | M126: 1.27324 | N126: 11.611945 | O126: 0.76 | P126: 78.539816 | Q126: Bejuco | R126: 1.1.1. Tejido urbano continuo | S126: TALAR | T126: Bueno
A127: 614 | B127: Resbalamonos | C127: Bursera simaruba (L.) Sarg. | D127: Burseraceae | E127: 12 | F127: 6 | G127: 2 | H127: 0.63662 | I127: 12 | J127: 6 | K127: 2149312.3 | L127: 5067098.5 | M127: 0.31831 | N127: 2.902986 | O127: 0.76 | P127: 113.09734 | Q127: Bejuco | R127: 1.1.1. Tejido urbano continuo | S127: TALAR | T127: Bueno
A128: 615 | B128: Resbalamonos | C128: Bursera simaruba (L.) Sarg. | D128: Burseraceae | E128: 12 | F128: 4 | G128: 2.35 | H128: 0.748028 | I128: 10 | J128: 5 | K128: 2149310.3 | L128: 5067099.3 | M128: 0.439467 | N128: 4.007935 | O128: 0.76 | P128: 78.539816 | Q128: Bejuco | R128: 1.1.1. Tejido urbano continuo | S128: TALAR | T128: Bueno
A129: 616 | B129: Ceiba | C129: Ceiba pentandra (L.) Gaertn. | D129: Malvaceae | E129: 13 | F129: 6 | G129: 2.57 | H129: 0.818056 | I129: 9 | J129: 4.5 | K129: 2149308.2 | L129: 5067101.2 | M129: 0.525601 | N129: 5.19294 | O129: 0.76 | P129: 63.617251 | Q129: Bejuco | R129: 1.1.1. Tejido urbano continuo | S129: TALAR | T129: Bueno
A130: 617 | B130: Muerto En Pie | C130: <Null> | D130: <Null> | E130: 10 | F130: 4 | G130: 0.64 | H130: 0.203718 | I130: <Null> | J130: 0 | K130: 2149306.1 | L130: 5067095.1 | M130: 0.032595 | N130: 0.247721 | O130: 0.76 | P130: 0 | Q130: Orquidea (1) Bejuco | R130: 1.1.1. Tejido urbano continuo | S130: TALAR | T130: Muerto en pie
A131: 619 | B131: Balso | C131: Ochroma pyramidale (Cav.) Urb. | D131: Malvaceae | E131: 11 | F131: 4 | G131: 0.52 | H131: 0.165521 | I131: 7 | J131: 3.5 | K131: 2149282.6 | L131: 5067109.1 | M131: 0.021518 | N131: 0.179888 | O131: 0.76 | P131: 38.48451 | R131: 1.1.1. Tejido urbano continuo | S131: TALAR | T131: Bueno
A132: 628 | B132: Mango | C132: Mangifera indica L. | D132: Anacardiaceae | E132: 10 | F132: 4 | G132: 1.05 | H132: 0.334225 | I132: 12 | J132: 6 | K132: 2149239.2 | L132: 5067143.6 | M132: 0.087734 | N132: 0.66678 | O132: 0.76 | P132: 113.09734 | R132: 1.1.1. Tejido urbano continuo | S132: TALAR | T132: Bueno
...

Sheet Pastos Enmalezados
A1: Arbol | B1: NOMBRE COMUN | C1: NOMBRE CIENTIFICO | D1: FAMILIA | E1: HT (m) | F1: Hc (m) | G1: CAP (m) | H1: DAP (m) | I1: Diametro De Copa (m) | J1: Radio de Copa (m) | K1: X | L1: Y | M1: AB (m2) | N1: VT M3) | O1: Factor de Forma | P1: Area de Copa (m2) | Q1: Epifitas | R1: COBERTURA NATURAL | S1: OBSERVACIÓN
A2: 186 | B2: Hobo | C2: Spondias mombin Jacq. | D2: Anacardiaceae | E2: 8 | F2: 2 | G2: 0.71 | H2: 0.226 | I2: 9 | J2: 4.5 | K2: 2149295.8 | L2: 5067179.8 | M2: 0.040115 | N2: 0.243899 | O2: 0.76 | P2: 63.617251 | R2: 2.3.3. Pastos enmalezados | S2: TALAR | T2: Bueno
A3: 563 | B3: Nauno | C3: Pseudosamanea guachapele (Kunth) Harms | D3: Fabaceae | E3: 10 | F3: 3 | G3: 0.53 | H3: 0.168704 | I3: 9 | J3: 4.5 | K3: 2149360.4 | L3: 5067131.5 | M3: 0.022353 | N3: 0.169885 | O3: 0.76 | P3: 63.617251 | R3: 2.3.3. Pastos enmalezados | S3: TALAR | T3: Bueno
A4: 565 | B4: Nauno | C4: Pseudosamanea guachapele (Kunth) Harms | D4: Fabaceae | E4: 12 | F4: 4 | G4: 0.92 | H4: 0.292845 | I4: 9 | J4: 4.5 | K4: 2149333.5 | L4: 5067122.1 | M4: 0.067354 | N4: 0.614272 | O4: 0.76 | P4: 63.617251 | R4: 2.3.3. Pastos enmalezados | S4: TALAR | T4: Bueno
A5: 567 | B5: Nauno | C5: Pseudosamanea guachapele (Kunth) Harms | D5: Fabaceae | E5: 12 | F5: 4 | G5: 0.38 | H5: 0.120958 | I5: 10 | J5: 5 | K5: 2149324.2 | L5: 5067120.6 | M5: 0.011491 | N5: 0.104798 | O5: 0.76 | P5: 78.539816 | R5: 2.3.3. Pastos enmalezados | S5: TALAR | T5: Bueno
A6: 572 | B6: Pardillo | C6: Cordia tetrandra Aubl. | D6: Boraginaceae | E6: 12 | F6: 4 | G6: 1.07 | H6: 0.340592 | I6: 9 | J6: 4.5 | K6: 2149320 | L6: 5067127 | M6: 0.091108 | N6: 0.830907 | O6: 0.76 | P6: 63.617251 | R6: 2.3.3. Pastos enmalezados | S6: TALAR | T6: Bueno
A7: 577 | B7: Nauno | C7: Pseudosamanea guachapele (Kunth) Harms | D7: Fabaceae | E7: 10 | F7: 4 | G7: 0.49 | H7: 0.155972 | I7: 6 | J7: 3 | K7: 2149305.6 | L7: 5067137.9 | M7: 0.019107 | N7: 0.14521 | O7: 0.76 | P7: 28.274334 | R7: 2.3.3. Pastos enmalezados | S7: TALAR | T7: Bueno
A8: 704 | B8: Yarumo | C8: Cecropia engleriana Snethl. | D8: Cecropiaceae | E8: 8 | F8: 5 | G8: 0.5 | H8: 0.159155 | I8: 4 | J8: 2 | K8: 2149258.2 | L8: 5067107.7 | M8: 0.019894 | N8: 1.394197 | O8: 0.76 | P8: 12.566371 | R8: 2.3.3. Pastos enmalezados | S8: TALAR | T8: Bueno
A9: 705 | B9: Guácimo | C9: Guazuma ulmifolia Lam. | D9: Malvaceae | E9: 5 | F9: 2 | G9: 0.46 | H9: 0.146423 | I9: 10 | J9: 5 | K9: 2149283.8 | L9: 5067123.1 | M9: 0.016839 | N9: 0.821723 | O9: 0.76 | P9: 78.539816 | R9: 2.3.3. Pastos enmalezados | S9: TALAR | T9: Bueno
A10: 706 | B10: Leucaena | C10: Leucaena leucocephala (Lam.) de Wit | D10: Fabaceae | E10: 5 | F10: 2 | G10: 0.4 | H10: 0.127324 | I10: 6 | J10: 3 | K10: 2149351.4 | L10: 5067039.5 | M10: 0.012732 | N10: 0.685003 | O10: 0.76 | P10: 28.274334 | R10: 2.3.3. Pastos enmalezados | S10: TALAR | T10: Bueno
A11: 565B | B11: Nauno | C11: Pseudosamanea guachapele (Kunth) Harms | D11: Fabaceae | E11: 12 | F11: 4 | G11: 0.96 | H11: 0.305577 | I11: 9 | J11: 4.5 | K11: 2149333.5 | L11: 5067122.1 | M11: 0.073339 | N11: 0.668848 | O11: 0.76 | P11: 63.617251 | R11: 2.3.3. Pastos enmalezados | S11: TALAR | T11: Bueno
A12: 567B | B12: Nauno | C12: Pseudosamanea guachapele (Kunth) Harms | D12: Fabaceae | E12: 12 | F12: 4 | G12: 0.43 | H12: 0.136873 | I12: 10 | J12: 5 | K12: 2149324.2 | L12: 5067120.6 | M12: 0.014714 | N12: 0.134191 | O12: 0.76 | P12: 78.539816 | R12: 2.3.3. Pastos enmalezados | S12: TALAR | T12: Bueno
A13: 567C | B13: Nauno | C13: Pseudosamanea guachapele (Kunth) Harms | D13: Fabaceae | E13: 12 | F13: 4 | G13: 0.44 | H13: 0.140056 | I13: 10 | J13: 5 | K13: 2149324.2 | L13: 5067120.6 | M13: 0.015406 | N13: 0.140505 | O13: 0.76 | P13: 78.539816 | R13: 2.3.3. Pastos enmalezados | S13: TALAR | T13: Bueno
C15: Etiquetas de fila | D15: Cuenta de NOMBRE COMUN
C16: Guácimo | D16: 1
C17: Hobo | D17: 1
C18: Leucaena | D18: 1
C19: Nauno | D19: 7
C20: Pardillo | D20: 1
C21: Yarumo | D21: 1
C22: Total general | D22: 12

Sheet Compensación
K2: Componente | L2: Unidad | M2: Cant | N2: Vr Unitario | O2: Vr Total año 1 | Q2: Vr Total año 2 | S2: Vr Total año 3
A3: BIOMA | B3: Cobertura | C3: Área (ha) | D3: a. Tipo de Cobertura | E3: b. Categoría de Amenaza | F3: c. Coeficiente de Mezcla | G3: FCAFU | H3: Area compensar | K3: Siembra y resiembra para enriquecimiento | L3: Ha | M3: 3.1 | N3: 5800000 | O3: =M3*N3 -> 17980000 | Q3: =O3*0.18 -> 3236400 | S3: =O3*0.08 -> 1438400
A4: Zonobioma Húmedo Tropical Casanare | B4: Bosque fragmentado con vegetación secundaria | C4: 1.52 | D4: 0.7 | E4: 0.042 | F4: 0.3 | G4: =(C4+(C4*(D4+E4+F4)))/C4 -> 2.042 | H4: =C4*G4 -> 3.10384 | K4: Perchas, Núcleos, empalizadas | L4: Punto de Muestreo | M4: 2 | N4: 800000 | O4: =M4*N4 -> 1600000 | Q4: 1600000
B5: 0 | C5: 0 | D5: 0 | E5: 0 | F5: 0 | G5: 0 | H5: =C5*G5 -> 0 | K5: Insumos (Enmiendas, abonos, agroinsumos) | L5: Global | M5: 1 | N5: 1800000 | O5: =M5*N5 -> 1800000 | Q5: 850000 | S5: 550000
C6: 0 | D6: 0 | E6: 0 | F6: 0 | G6: 0 | H6: =C6*G6 -> 0 | K6: Adecuación, mantenimiento y aislamiento de áreas | L6: Global | M6: 1 | N6: 2500000 | O6: =M6*N6 -> 2500000 | Q6: 1000000 | S6: 750000
A7: TOTAL | H7: =SUM(H4:H6) -> 3.10384 | K7: Plan de mantenimiento formulado e implementado | L7: Global | M7: 1 | N7: 6500000 | O7: =M7*N7 -> 6500000 | Q7: 3000000 | S7: 2000000
K8: Profesional de campo | L8: Mes | M8: 12 | N8: 3500000 | O8: =M8*N8 -> 42000000 | Q8: 18000000 | S8: 9000000
K9: Sub Total | O9: =SUM(O3:P8) -> 72380000 | Q9: =SUM(Q3:R8) -> 27686400 | S9: =SUM(S3:S8) -> 13738400
B10: Criterio Amenaza | C10: Cobertura | D10: Especie | E10: Cantidad de Arboles | F10: Categoria de Amenaza | G10: Valor Asignado | H10: Arboles inventariados | I10: Valor | K10: TOTAL | O10: =O9+Q9+S9 -> 113804800
C11: Bosque fragmentado con vegetación secundaria | D11: Cedro | E11: 7 | F11: EN | G11: 0.6 | H11: 99 | I11: =(E11*G11)/H11 -> 0.042424242
B13: Coeficiente de Mezcla | C13: Cobertura | D13: Numero de especies | E13: Numero de árboles | F13: Estimación | G13: Valoración según Manual
C14: Bosque fragmentado con vegetación secundaria | D14: 22 | E14: 99 | F14: =D14/E14 -> 0.22222222 | G14: 0.3
