Workbook

Sheet IF_General
A1: Arbol | B1: NOMBRE COMUN | C1: NOMBRE CIENTIFICO | D1: FAMILIA | E1: HT (m) | F1: Hc (m) | G1: CAP (m) | H1: DAP (m) | I1: Diametro De Copa (m) | J1: Radio de Copa (m) | K1: X | L1: Y | M1: AB (m2) | N1: VT M3) | O1: Factor de Forma | P1: Area de Copa (m2) | Q1: Epifitas | R1: leyenda | S1: TRATAMIENTO | T1: OBSERVACIÓN | U1: LONGITUD ESTE | V1: LATITUD NORTE
A2: 1 | B2: Balso | C2: Ochroma pyramidale (Cav.) Urb. | D2: Malvaceae | E2: 8 | F2: 4 | G2: 1.19 | H2: 0.378789 | I2: 10 | J2: 5 | K2: 2149413.7 | L2: 5066931.8 | M2: 0.11269 | N2: 0.685153 | O2: 0.76 | P2: 78.539816 | Q2: <Null> | R2: 3.1.3.2. Bosque fragmentado con vegetación secundaria | S2: CONSERVAR | T2: Bueno | U2: -72.395654 | V2: 5.351945
A3: 2 | B3: Guácimo | C3: Guazuma ulmifolia Lam. | D3: Malvaceae | E3: 7 | F3: 2 | G3: 0.37 | H3: 0.117775 | I3: 5 | J3: 2.5 | K3: 2149411 | L3: 5066939.2 | M3: 0.010894 | N3: 0.057957 | O3: 0.76 | P3: 19.634954 | Q3: <Null> | R3: 3.1.3.2. Bosque fragmentado con vegetación secundaria | S3: CONSERVAR | T3: Bueno | U3: -72.395587 | V3: 5.351921
A4: 3 | B4: Guácimo | C4: Guazuma ulmifolia Lam. | D4: Malvaceae | E4: 6 | F4: 2 | G4: 0.4 | H4: 0.127324 | I4: 7.5 | J4: 3.75 | K4: 2149412.3 | L4: 5066944.6 | M4: 0.012732 | N4: 0.05806 | O4: 0.76 | P4: 44.178647 | Q4: <Null> | R4: 3.1.3.2. Bosque fragmentado con vegetación secundaria | S4: CONSERVAR | T4: Bueno | U4: -72.395539 | V4: 5.351932
A5: 4 | B5: Leucaena | C5: Leucaena leucocephala (Lam.) de Wit | D5: Fabaceae | E5: 9 | F5: 4 | G5: 0.58 | H5: 0.18462 | I5: 7.5 | J5: 3.75 | K5: 2149412.2 | L5: 5066952 | M5: 0.02677 | N5: 0.183106 | O5: 0.76 | P5: 44.178647 | Q5: <Null> | R5: 3.1.3.2. Bosque fragmentado con vegetación secundaria | S5: CONSERVAR | T5: Bueno | U5: -72.395472 | V5: 5.351931
A6: 5 | B6: Balso | C6: Ochroma pyramidale (Cav.) Urb. | D6: Malvaceae | E6: 9 | F6: 4 | G6: 0.95 | H6: 0.302394 | I6: 10.9 | J6: 5.45 | K6: 2149409.3 | L6: 5066952.3 | M6: 0.071819 | N6: 0.49124 | O6: 0.76 | P6: 93.313156 | Q6: <Null> | R6: 3.1.3.2. Bosque fragmentado con vegetación secundaria | S6: CONSERVAR | T6: Bueno | U6: -72.395469 | V6: 5.351905
A7: 6 | B7: Balso | C7: Ochroma pyramidale (Cav.) Urb. | D7: Malvaceae | E7: 7 | F7: 5 | G7: 0.38 | H7: 0.120958 | I7: 3 | J7: 1.5 | K7: 2149391 | L7: 5066937.5 | M7: 0.011491 | N7: 0.061132 | O7: 0.76 | P7: 7.068583 | Q7: <Null> | R7: 3.1.3.2. Bosque fragmentado con vegetación secundaria | S7: CONSERVAR | T7: Bueno | U7: -72.395603 | V7: 5.351739
A8: 7 | B8: Nauno | C8: Pseudosamanea guachapele (Kunth) Harms | D8: Fabaceae | E8: 7 | F8: 3 | G8: 0.36 | H8: 0.114592 | I8: 4 | J8: 2 | K8: 2149389.8 | L8: 5066938.8 | M8: 0.010313 | N8: 0.054866 | O8: 0.76 | P8: 12.566371 | Q8: <Null> | R8: 3.1.3.2. Bosque fragmentado con vegetación secundaria | S8: CONSERVAR | T8: Bueno | U8: -72.395591 | V8: 5.351729
A9: 8 | B9: Gallinero | C9: Pithecellobium dulce (Roxb.) Benth. | D9: Fabaceae | E9: 10 | F9: 2 | G9: 0.83 | H9: 0.264197 | I9: 12 | J9: 6 | K9: 2149384.6 | L9: 5066945.5 | M9: 0.054821 | N9: 0.416639 | O9: 0.76 | P9: 113.09734 | Q9: <Null> | R9: 3.1.3.2. Bosque fragmentado con vegetación secundaria | S9: CONSERVAR | T9: Bueno | U9: -72.39553 | V9: 5.351681
A10: 9 | B10: Nauno | C10: Pseudosamanea guachapele (Kunth) Harms | D10: Fabaceae | E10: 10 | F10: 4 | G10: 0.42 | H10: 0.13369 | I10: 4 | J10: 2 | K10: 2149383.6 | L10: 5066945.7 | M10: 0.014037 | N10: 0.106685 | O10: 0.76 | P10: 12.566371 | Q10: <Null> | R10: 3.1.3.2. Bosque fragmentado con vegetación secundaria | S10: CONSERVAR | T10: Bueno | U10: -72.395528 | V10: 5.351673
A11: 10 | B11: Gallinero | C11: Pithecellobium dulce (Roxb.) Benth. | D11: Fabaceae | E11: 10 | F11: 2 | G11: 0.92 | H11: 0.292845 | I11: 7 | J11: 3.5 | K11: 2149385.4 | L11: 5066947.4 | M11: 0.067354 | N11: 0.511893 | O11: 0.76 | P11: 38.48451 | Q11: <Null> | R11: 3.1.3.2. Bosque fragmentado con vegetación secundaria | S11: CONSERVAR | T11: Bueno | U11: -72.395514 | V11: 5.351689
A12: 11 | B12: Hobo | C12: Spondias mombin Jacq. | D12: Anacardiaceae | E12: 7 | F12: 5 | G12: 0.39 | H12: 0.124141 | I12: 5 | J12: 2.5 | K12: 2149389.7 | L12: 5066950.9 | M12: 0.012104 | N12: 0.064392 | O12: 0.76 | P12: 19.634954 | Q12: <Null> | R12: 3.1.3.2. Bosque fragmentado con vegetación secundaria | S12: CONSERVAR | T12: Bueno | U12: -72.395482 | V12: 5.351728
A13: 12 | B13: Yarumo | C13: Cecropia engleriana Snethl. | D13: Cecropiaceae | E13: 10 | F13: 7 | G13: 0.47 | H13: 0.149606 | I13: 4.8 | J13: 2.4 | K13: 2149391.8 | L13: 5066956.4 | M13: 0.017579 | N13: 0.133598 | O13: 0.76 | P13: 18.095574 | Q13: <Null> | R13: 3.1.3.2. Bosque fragmentado con vegetación secundaria | S13: CONSERVAR | T13: Bueno | U13: -72.395432 | V13: 5.351747
... A306: 387 | B306: Nauno | C306: Pseudosamanea guachapele (Kunth) Harms | D306: Fabaceae | E306: 8 | F306: 3 | G306: 0.42 | H306: 0.13369 | I306: 7 | J306: 3.5 | K306: 2149347.8 | L306: 5066982.3 | M306: 0.014037 | N306: 0.085348 | O306: 0.76 | P306: 38.48451 | Q306: <Null> | R306: 1.1.1. Tejido urbano continuo | S306: CONSERVAR | T306: Bueno | U306: -72.395198 | V306: 5.351348
A307: 388 | B307: Muerto En Pie | C307: <Null> | D307: <Null> | E307: 13 | F307: 5 | G307: 0.8 | H307: 0.254648 | I307: <Null> | J307: 0 | K307: 2149346.3 | L307: 5066965.2 | M307: 0.05093 | N307: 0.503184 | O307: 0.76 | P307: 0 | Q307: <Null> | R307: 1.1.1. Tejido urbano continuo | S307: TALAR | T307: Muerto en pie | U307: -72.395353 | V307: 5.351335
A308: 389 | B308: Yarumo | C308: Cecropia engleriana Snethl. | D308: Cecropiaceae | E308: 12 | F308: 6 | G308: 0.7 | H308: 0.222817 | I308: 10 | J308: 5 | K308: 2149350.3 | L308: 5066986.6 | M308: 0.038993 | N308: 0.355616 | O308: 0.76 | P308: 78.539816 | Q308: <Null> | R308: 1.1.1. Tejido urbano continuo | S308: CONSERVAR | T308: Bueno | U308: -72.39516 | V308: 5.35137
A309: 390 | B309: Nauno | C309: Pseudosamanea guachapele (Kunth) Harms | D309: Fabaceae | E309: 12 | F309: 5 | G309: 1.32 | H309: 0.420169 | I309: 10 | J309: 5 | K309: 2149345.2 | L309: 5066991.8 | M309: 0.138656 | N309: 1.264541 | O309: 0.76 | P309: 78.539816 | Q309: <Null> | R309: 1.1.1. Tejido urbano continuo | S309: CONSERVAR | T309: Bueno | U309: -72.395112 | V309: 5.351325
A310: 391 | B310: Sangro | C310: Lonchocarpus violaceus (Jacq.) Kunth ex DC | D310: Fabaceae | E310: 12 | F310: 4 | G310: 1.3 | H310: 0.413803 | I310: 10 | J310: 5 | K310: 2149379.2 | L310: 5066921.3 | M310: 0.13 | N310: 1.23 | O310: 0.76 | P310: 78.539816 | Q310: Orquidea (1) | R310: 3.1.3.2. Bosque fragmentado con vegetación secundaria | S310: CONSERVAR | T310: Bueno | U310: -72.395749 | V310: 5.351633
A311: 393 | B311: Mango | C311: Mangifera indica L. | D311: Anacardiaceae | E311: 9 | F311: 3 | G311: 0.36 | H311: 0.114592 | I311: 10 | J311: 5 | K311: 2149378.4 | L311: 5066927.7 | M311: 0.01 | N311: 0.07 | O311: 0.76 | P311: 78.539816 | R311: 3.1.3.2. Bosque fragmentado con vegetación secundaria | S311: CONSERVAR | T311: Bueno | U311: -72.395691 | V311: 5.351626
A312: 394 | B312: Abejon | C312: Astronium graveolens Jacq. | D312: Anacardiaceae | E312: 10 | F312: 3 | G312: 0.33 | H312: 0.105042 | I312: 11 | J312: 5.5 | K312: 2149378.8 | L312: 5066929.5 | M312: 0.008666 | N312: 0.065861 | O312: 0.76 | P312: 95.033178 | Q312: <Null> | R312: 3.1.3.2. Bosque fragmentado con vegetación secundaria | S312: CONSERVAR | T312: Bueno | U312: -72.395675 | V312: 5.351629
A313: 395 | B313: Pardillo | C313: Cordia tetrandra Aubl. | D313: Boraginaceae | E313: 8 | F313: 3 | G313: 0.32 | H313: 0.101859 | I313: 9 | J313: 4.5 | K313: 2149382.3 | L313: 5066932.9 | M313: 0.008149 | N313: 0.049544 | O313: 0.76 | P313: 63.617251 | Q313: <Null> | R313: 3.1.3.2. Bosque fragmentado con vegetación secundaria | S313: TALAR | T313: Bueno | U313: -72.395644 | V313: 5.351661
A314: 397 | B314: Arenillo | C314: Qualea acuminata Spruce ez Warm. | D314: Vochysiaceae | E314: 6 | F314: 2 | G314: 0.32 | H314: 0.101859 | I314: 9 | J314: 4.5 | K314: 2149380.4 | L314: 5066937.1 | M314: 0.008149 | N314: 0.037158 | O314: 0.76 | P314: 63.617251 | Q314: <Null> | R314: 3.1.3.2. Bosque fragmentado con vegetación secundaria | S314: TALAR | T314: Bueno | U314: -72.395606 | V314: 5.351643
A315: 398 | B315: Nauno | C315: Pseudosamanea guachapele (Kunth) Harms | D315: Fabaceae | E315: 12 | F315: 6 | G315: 1.6 | H315: 0.509296 | I315: 10 | J315: 5 | K315: 2149378.4 | L315: 5066938.9 | M315: 0.203718 | N315: 1.857911 | O315: 0.76 | P315: 78.539816 | Q315: Bejuco | R315: 3.1.3.2. Bosque fragmentado con vegetación secundaria | S315: CONSERVAR | T315: Bueno | U315: -72.395591 | V315: 5.351625
A316: 400 | B316: Yarumo | C316: Cecropia engleriana Snethl. | D316: Cecropiaceae | E316: 12 | F316: 7 | G316: 0.58 | H316: 0.18462 | I316: 11 | J316: 5.5 | K316: 2149382.9 | L316: 5066938.2 | M316: 0.02677 | N316: 0.244141 | O316: 0.76 | P316: 95.033178 | Q316: <Null> | R316: 3.1.3.2. Bosque fragmentado con vegetación secundaria | S316: CONSERVAR | T316: Bueno | U316: -72.395596 | V316: 5.351666
A317: 401 | B317: Hobo | C317: Spondias mombin Jacq. | D317: Anacardiaceae | E317: 12 | F317: 7 | G317: 0.33 | H317: 0.105042 | I317: 12 | J317: 6 | K317: 2149383.7 | L317: 5066938.2 | M317: 0.008666 | N317: 0.079034 | O317: 0.76 | P317: 113.09734 | Q317: <Null> | R317: 3.1.3.2. Bosque fragmentado con vegetación secundaria | S317: CONSERVAR | T317: Bueno | U317: -72.395596 | V317: 5.351673
A318: 402 | B318: Hobo | C318: Spondias mombin Jacq. | D318: Anacardiaceae | E318: 12 | F318: 4 | G318: 1 | H318: 0.31831 | I318: 10 | J318: 5 | K318: 2149387.1 | L318: 5066962 | M318: 0.079577 | N318: 0.725747 | O318: 0.76 | P318: 78.539816 | Q318: <Null> | R318: 3.1.3.2. Bosque fragmentado con vegetación secundaria | S318: CONSERVAR | T318: Bueno | U318: -72.395381 | V318: 5.351704
A319: 403 | B319: Hobo | C319: Spondias mombin Jacq. | D319: Anacardiaceae | E319: 12 | F319: 6 | G319: 0.7 | H319: 0.222817 | I319: 10 | J319: 5 | K319: 2149387.1 | L319: 5066961.2 | M319: 0.038993 | N319: 0.355616 | O319: 0.76 | P319: 78.539816 | Q319: <Null> | R319: 3.1.3.2. Bosque fragmentado con vegetación secundaria | S319: CONSERVAR | T319: Bueno | U319: -72.395388 | V319: 5.351704
A320: 404 | B320: Arrayan | C320: Eugenia sp | D320: Myrtaceae | E320: 5 | F320: 0.6 | G320: 0.6 | H320: 0.190986 | I320: 12 | J320: 6 | K320: 2149385.6 | L320: 5066965.9 | M320: 0.028648 | N320: 0.108862 | O320: 0.76 | P320: 113.09734 | Q320: <Null> | R320: 3.1.3.2. Bosque fragmentado con vegetación secundaria | S320: CONSERVAR | T320: Bueno | U320: -72.395346 | V320: 5.35169
A321: 405 | B321: Hobo | C321: Spondias mombin Jacq. | D321: Anacardiaceae | E321: 12 | F321: 6 | G321: 0.62 | H321: 0.197352 | I321: 10 | J321: 5 | K321: 2149385.6 | L321: 5066970.6 | M321: 0.03059 | N321: 0.278977 | O321: 0.76 | P321: 78.539816 | Q321: <Null> | R321: 3.1.3.2. Bosque fragmentado con vegetación secundaria | S321: CONSERVAR | T321: Bueno | U321: -72.395304 | V321: 5.351691
A322: 406 | B322: Arrayan | C322: Eugenia sp | D322: Myrtaceae | E322: 8 | F322: 1.6 | G322: 0.35 | H322: 0.111408 | I322: 11 | J322: 5.5 | K322: 2149383.3 | L322: 5066978.1 | M322: 0.009748 | N322: 0.059269 | O322: 0.76 | P322: 95.033178 | Q322: <Null> | R322: 3.1.3.2. Bosque fragmentado con vegetación secundaria | S322: CONSERVAR | T322: Bueno | U322: -72.395236 | V322: 5.351669
A323: 409 | B323: Abejon | C323: Astronium graveolens Jacq. | D323: Anacardiaceae | E323: 7 | F323: 1.7 | G323: 0.39 | H323: 0.124141 | I323: 6 | J323: 3 | K323: 2149382.9 | L323: 5066985.5 | M323: 0.012104 | N323: 0.064392 | O323: 0.76 | P323: 28.274334 | Q323: <Null> | R323: 3.1.3.2. Bosque fragmentado con vegetación secundaria | S323: CONSERVAR | T323: Bueno | U323: -72.395169 | V323: 5.351666
... A344: 439 | B344: Mango | C344: Mangifera indica L. | D344: Anacardiaceae | E344: 9 | F344: 3 | G344: 0.4 | H344: 0.127324 | I344: 9 | J344: 4.5 | K344: 2149373.9 | L344: 5067020.1 | M344: 0.012732 | N344: 0.08709 | O344: 0.76 | P344: 63.617251 | Q344: <Null> | R344: 3.1.3.2. Bosque fragmentado con vegetación secundaria | S344: CONSERVAR | T344: Bueno | U344: -72.394857 | V344: 5.351584
A345: 440 | B345: Muerto En Pie | C345: <Null> | D345: <Null> | E345: 10 | F345: 6 | G345: 0.6 | H345: 0.190986 | I345: <Null> | J345: 0 | K345: 2149373 | L345: 5067001.4 | M345: 0.028648 | N345: 0.217724 | O345: 0.76 | P345: 0 | Q345: <Null> | R345: 3.1.3.2. Bosque fragmentado con vegetación secundaria | S345: TALAR | T345: Muerto en pie | U345: -72.395026 | V345: 5.351576
A346: 441 | B346: Mango | C346: Mangifera indica L. | D346: Anacardiaceae | E346: 12 | F346: 4 | G346: 1.93 | H346: 0.614338 | I346: 10 | J346: 5 | K346: 2149284.4 | L346: 5066995.4 | M346: 0.296418 | N346: 2.703333 | O346: 0.76 | P346: 78.539816 | Q346: <Null> | R346: 1.1.1. Tejido urbano continuo | S346: TALAR | T346: Bueno | U346: -72.395081 | V346: 5.350774
A347: 442 | B347: Palma Corneto | C347: Iriartea deltoidea Ruiz & Pav. | D347: Arecaceae | E347: 9 | F347: 3 | G347: 0.34 | H347: 0.108225 | I347: 7 | J347: 3.5 | K347: 2149275.9 | L347: 5066993.8 | M347: 0.009199 | N347: 0.062922 | O347: 0.76 | P347: 38.48451 | Q347: <Null> | R347: 1.1.1. Tejido urbano continuo | S347: TALAR | T347: Bueno | U347: -72.395095 | V347: 5.350697
A348: 443 | B348: Nauno | C348: Pseudosamanea guachapele (Kunth) Harms | D348: Fabaceae | E348: 12 | F348: 6 | G348: 1.1 | H348: 0.350141 | I348: 9 | J348: 4.5 | K348: 2149276.4 | L348: 5066989.1 | M348: 0.096289 | N348: 0.878153 | O348: 0.76 | P348: 63.617251 | Q348: <Null> | R348: 1.1.1. Tejido urbano continuo | S348: CONSERVAR | T348: Bueno | U348: -72.395138 | V348: 5.350702
A349: 444 | B349: Guanabano | C349: Annona muricata L. | D349: Annonaceae | E349: 10 | F349: 3 | G349: 0.9 | H349: 0.286479 | I349: 9 | J349: 4.5 | K349: 2149254 | L349: 5066983 | M349: 0.064458 | N349: 0.489879 | O349: 0.76 | P349: 63.617251 | Q349: <Null> | R349: 1.1.1. Tejido urbano continuo | S349: TALAR | T349: Bueno | U349: -72.395193 | V349: 5.350499
A350: 445 | B350: Mamoncillo | C350: Melicoccus bijugatus Jacq. | D350: Sapindaceae | E350: 12 | F350: 4 | G350: 0.96 | H350: 0.305577 | I350: 9 | J350: 4.5 | K350: 2149290.4 | L350: 5067009.6 | M350: 0.073339 | N350: 0.668848 | O350: 0.76 | P350: 63.617251 | Q350: <Null> | R350: 1.1.1. Tejido urbano continuo | S350: TALAR | T350: Bueno | U350: -72.394952 | V350: 5.350828
A351: 446 | B351: Mango | C351: Mangifera indica L. | D351: Anacardiaceae | E351: 12 | F351: 4 | G351: 2.4 | H351: 0.763944 | I351: 9 | J351: 4.5 | K351: 2149297.4 | L351: 5067009.5 | M351: 0.458366 | N351: 4.1803 | O351: 0.76 | P351: 63.617251 | Q351: Bromelias (2) | R351: 1.1.1. Tejido urbano continuo | S351: CONSERVAR | T351: Bueno | U351: -72.394953 | V351: 5.350892
A352: 447 | B352: Nauno | C352: Pseudosamanea guachapele (Kunth) Harms | D352: Fabaceae | E352: 10 | F352: 4 | G352: 0.7 | H352: 0.222817 | I352: 11 | J352: 5.5 | K352: 2149273.4 | L352: 5067011.1 | M352: 0.038993 | N352: 0.296347 | O352: 0.76 | P352: 95.033178 | Q352: <Null> | R352: 1.1.1. Tejido urbano continuo | S352: TALAR | T352: Bueno | U352: -72.394939 | V352: 5.350674
...

Sheet Aprovechar
A1: Arbol | B1: NOMBRE COMUN | C1: NOMBRE CIENTIFICO | D1: FAMILIA | E1: HT (m) | F1: Hc (m) | G1: CAP (m) | H1: DAP (m) | I1: Diametro De Copa (m) | J1: Radio de Copa (m) | K1: X | L1: Y | M1: AB (m2) | N1: VT M3) | O1: Factor de Forma | P1: Area de Copa (m2) | Q1: Epifitas | R1: COBERTURA NATURAL | S1: OBSERVACIÓN
A2: 54 | B2: Nauno | C2: Pseudosamanea guachapele (Kunth) Harms | D2: Fabaceae | E2: 7 | F2: 2 | G2: 0.75 | H2: 0.238732 | I2: 8 | J2: 4 | K2: 2149381.7 | L2: 5067042.6 | M2: 0.044762 | N2: 0.238136 | O2: 0.76 | P2: 50.265482 | Q2: <Null> | R2: 3.1.3.2. Bosque fragmentado con vegetación secundaria | S2: TALAR | T2: Bueno
A3: 55 | B3: Balso | C3: Ochroma pyramidale (Cav.) Urb. | D3: Malvaceae | E3: 12 | F3: 3 | G3: 1.76 | H3: 0.560225 | I3: 9 | J3: 4.5 | K3: 2149383.1 | L3: 5067050.4 | M3: 0.246499 | N3: 2.248072 | O3: 0.76 | P3: 63.617251 | Q3: <Null> | R3: 3.1.3.2. Bosque fragmentado con vegetación secundaria | S3: TALAR | T3: Bueno
A4: 57 | B4: Nacedero | C4: Trichanthera gigantea (Bonpl.) Nees | D4: Acanthaceae | E4: 12 | F4: 6 | G4: 0.33 | H4: 0.105042 | I4: 7 | J4: 3.5 | K4: 2149384.5 | L4: 5067055.4 | M4: 0.008666 | N4: 0.079034 | O4: 0.76 | P4: 38.48451 | Q4: <Null> | R4: 3.1.3.2. Bosque fragmentado con vegetación secundaria | S4: TALAR | T4: Bueno
A5: 63 | B5: Gallinero | C5: Pithecellobium dulce (Roxb.) Benth. | D5: Fabaceae | E5: 9 | F5: 2.5 | G5: 0.52 | H5: 0.165521 | I5: 9 | J5: 4.5 | K5: 2149383.8 | L5: 5067060 | M5: 0.021518 | N5: 0.147181 | O5: 0.76 | P5: 63.617251 | Q5: <Null> | R5: 3.1.3.2. Bosque fragmentado con vegetación secundaria | S5: TALAR | T5: Bueno
A6: 64 | B6: Nacedero | C6: Trichanthera gigantea (Bonpl.) Nees | D6: Acanthaceae | E6: 12 | F6: 3 | G6: 0.4 | H6: 0.127324 | I6: 12 | J6: 6 | K6: 2149383.9 | L6: 5067065.6 | M6: 0.012732 | N6: 0.116119 | O6: 0.76 | P6: 113.09734 | Q6: <Null> | R6: 3.1.3.2. Bosque fragmentado con vegetación secundaria | S6: TALAR | T6: Bueno
A7: 66 | B7: Yarumo | C7: Cecropia engleriana Snethl. | D7: Cecropiaceae | E7: 12 | F7: 3 | G7: 0.63 | H7: 0.200535 | I7: 9 | J7: 4.5 | K7: 2149383.7 | L7: 5067068.8 | M7: 0.031584 | N7: 0.288049 | O7: 0.76 | P7: 63.617251 | Q7: <Null> | R7: 3.1.3.2. Bosque fragmentado con vegetación secundaria | S7: TALAR | T7: Bueno
A8: 67 | B8: Cañafístulo | C8: Senna multijuga (Rich.) H.S.Irwin & Barneby | D8: Fabaceae | E8: 12 | F8: 3 | G8: 1.08 | H8: 0.343775 | I8: 9 | J8: 4.5 | K8: 2149384.1 | L8: 5067070.7 | M8: 0.092819 | N8: 0.846511 | O8: 0.76 | P8: 63.617251 | Q8: <Null> | R8: 3.1.3.2. Bosque fragmentado con vegetación secundaria | S8: TALAR | T8: Bueno
A9: 68 | B9: Muerto En Pie | C9: <Null> | D9: <Null> | E9: 11 | F9: 2 | G9: 1.93 | H9: 0.614338 | I9: 0 | J9: 0 | K9: 2149382.1 | L9: 5067075.1 | M9: 0.296418 | N9: 2.478056 | O9: 0.76 | P9: 0 | Q9: Bromelias (2) | R9: 3.1.3.2. Bosque fragmentado con vegetación secundaria | S9: TALAR | T9: Bueno
A10: 69 | B10: Melina | C10: Gmelina arborea Roxb. Ex Sm. | D10: Lamiaceae | E10: 8 | F10: 2 | G10: 0.3 | H10: 0.095493 | I10: 7 | J10: 3.5 | K10: 2149382.9 | L10: 5067077.4 | M10: 0.007162 | N10: 0.043545 | O10: 0.76 | P10: 38.48451 | Q10: <Null> | R10: 3.1.3.2. Bosque fragmentado con vegetación secundaria | S10: TALAR | T10: Bueno
A11: 70 | B11: Mora | C11: Maclura tinctoria (L.) D.Don ex Steud. | D11: Moraceae | E11: 10 | F11: 4 | G11: 0.52 | H11: 0.165521 | I11: 9 | J11: 4.5 | K11: 2149382.9 | L11: 5067079.2 | M11: 0.021518 | N11: 0.163535 | O11: 0.76 | P11: 63.617251 | Q11: <Null> | R11: 3.1.3.2. Bosque fragmentado con vegetación secundaria | S11: TALAR | T11: Bueno
A12: 72 | B12: Hobo | C12: Spondias mombin Jacq. | D12: Anacardiaceae | E12: 10 | F12: 1.5 | G12: 0.65 | H12: 0.206901 | I12: 10 | J12: 5 | K12: 2149377.9 | L12: 5067079.6 | M12: 0.033621 | N12: 0.255523 | O12: 0.76 | P12: 78.539816 | Q12: Bejuco | R12: 3.1.3.2. Bosque fragmentado con vegetación secundaria | S12: TALAR | T12: Bueno
A13: 74 | B13: Mora | C13: Maclura tinctoria (L.) D.Don ex Steud. | D13: Moraceae | E13: 7 | F13: 2 | G13: 0.43 | H13: 0.136873 | I13: 9 | J13: 4.5 | K13: 2149382.6 | L13: 5067091.6 | M13: 0.014714 | N13: 0.078278 | O13: 0.76 | P13: 63.617251 | Q13: <Null> | R13: 3.1.3.2. Bosque fragmentado con vegetación secundaria | S13: TALAR | T13: Bueno
... A110: 386 | B110: Sangro | C110: Lonchocarpus violaceus (Jacq.) Kunth ex DC | D110: Fabaceae | E110: 10 | F110: 2 | G110: 0.54 | H110: 0.171887 | I110: 9 | J110: 4.5 | K110: 2149351.2 | L110: 5066981.9 | M110: 0.023205 | N110: 0.176356 | O110: 0.76 | P110: 63.617251 | Q110: <Null> | R110: 1.1.1. Tejido urbano continuo | S110: TALAR | T110: Bueno
A111: 388 | B111: Muerto En Pie | C111: <Null> | D111: <Null> | E111: 13 | F111: 5 | G111: 0.8 | H111: 0.254648 | I111: <Null> | J111: 0 | K111: 2149346.3 | L111: 5066965.2 | M111: 0.05093 | N111: 0.503184 | O111: 0.76 | P111: 0 | Q111: <Null> | R111: 1.1.1. Tejido urbano continuo | S111: TALAR | T111: Muerto en pie
A112: 395 | B112: Pardillo | C112: Cordia tetrandra Aubl. | D112: Boraginaceae | E112: 8 | F112: 3 | G112: 0.32 | H112: 0.101859 | I112: 9 | J112: 4.5 | K112: 2149382.3 | L112: 5066932.9 | M112: 0.008149 | N112: 0.049544 | O112: 0.76 | P112: 63.617251 | Q112: <Null> | R112: 3.1.3.2. Bosque fragmentado con vegetación secundaria | S112: TALAR | T112: Bueno
A113: 397 | B113: Arenillo | C113: Qualea acuminata Spruce ez Warm. | D113: Vochysiaceae | E113: 6 | F113: 2 | G113: 0.32 | H113: 0.101859 | I113: 9 | J113: 4.5 | K113: 2149380.4 | L113: 5066937.1 | M113: 0.008149 | N113: 0.037158 | O113: 0.76 | P113: 63.617251 | Q113: <Null> | R113: 3.1.3.2. Bosque fragmentado con vegetación secundaria | S113: TALAR | T113: Bueno
A114: 429 | B114: Nauno | C114: Pseudosamanea guachapele (Kunth) Harms | D114: Fabaceae | E114: 9 | F114: 3 | G114: 0.35 | H114: 0.111408 | I114: 8 | J114: 4 | K114: 2149365.6 | L114: 5066997.5 | M114: 0.009748 | N114: 0.066678 | O114: 0.76 | P114: 50.265482 | Q114: <Null> | R114: 3.1.3.2. Bosque fragmentado con vegetación secundaria | S114: TALAR | T114: Bueno
A115: 432 | B115: Arrayan | C115: Eugenia sp | D115: Myrtaceae | E115: 7 | F115: 2 | G115: 0.39 | H115: 0.124141 | I115: 9 | J115: 4.5 | K115: 2149363.2 | L115: 5067005.6 | M115: 0.012104 | N115: 0.064392 | O115: 0.76 | P115: 63.617251 | Q115: <Null> | R115: 3.1.3.2. Bosque fragmentado con vegetación secundaria | S115: TALAR | T115: Bueno
A116: 433 | B116: Arrayan | C116: Eugenia sp | D116: Myrtaceae | E116: 7 | F116: 2 | G116: 0.5 | H116: 0.159155 | I116: 8 | J116: 4 | K116: 2149363 | L116: 5067006.7 | M116: 0.019894 | N116: 0.105838 | O116: 0.76 | P116: 50.265482 | Q116: <Null> | R116: 3.1.3.2. Bosque fragmentado con vegetación secundaria | S116: TALAR | T116: Bueno
A117: 434 | B117: Arrayan | C117: Eugenia sp | D117: Myrtaceae | E117: 12 | F117: 2 | G117: 1.9 | H117: 0.604789 | I117: 9 | J117: 4.5 | K117: 2149363.4 | L117: 5067007.6 | M117: 0.287275 | N117: 2.619945 | O117: 0.76 | P117: 63.617251 | Q117: <Null> | R117: 3.1.3.2. Bosque fragmentado con vegetación secundaria | S117: TALAR | T117: Bueno
A118: 435 | B118: Arrayan | C118: Eugenia sp | D118: Myrtaceae | E118: 6 | F118: 1.2 | G118: 0.39 | H118: 0.124141 | I118: 7 | J118: 3.5 | K118: 2149367.5 | L118: 5067007.5 | M118: 0.012104 | N118: 0.055193 | O118: 0.76 | P118: 38.48451 | Q118: <Null> | R118: 3.1.3.2. Bosque fragmentado con vegetación secundaria | S118: TALAR | T118: Bueno
A119: 438 | B119: Guacharaco | C119: Cupania americana L. | D119: Sapindaceae | E119: 12 | F119: 3 | G119: 1.57 | H119: 0.499747 | I119: 9 | J119: 4.5 | K119: 2149375.2 | L119: 5067014 | M119: 0.196151 | N119: 1.788893 | O119: 0.76 | P119: 63.617251 | Q119: Bromelias (5) | R119: 3.1.3.2. Bosque fragmentado con vegetación secundaria | S119: TALAR | T119: Bueno
A120: 440 | B120: Muerto En Pie | C120: <Null> | D120: <Null> | E120: 10 | F120: 6 | G120: 0.6 | H120: 0.190986 | I120: <Null> | J120: 0 | K120: 2149373 | L120: 5067001.4 | M120: 0.028648 | N120: 0.217724 | O120: 0.76 | P120: 0 | Q120: <Null> | R120: 3.1.3.2. Bosque fragmentado con vegetación secundaria | S120: TALAR | T120: Muerto en pie
A121: 441 | B121: Mango | C121: Mangifera indica L. | D121: Anacardiaceae | E121: 12 | F121: 4 | G121: 1.93 | H121: 0.614338 | I121: 10 | J121: 5 | K121: 2149284.4 | L121: 5066995.4 | M121: 0.296418 | N121: 2.703333 | O121: 0.76 | P121: 78.539816 | Q121: <Null> | R121: 1.1.1. Tejido urbano continuo | S121: TALAR | T121: Bueno
A122: 442 | B122: Palma Corneto | C122: Iriartea deltoidea Ruiz & Pav. | D122: Arecaceae | E122: 9 | F122: 3 | G122: 0.34 | H122: 0.108225 | I122: 7 | J122: 3.5 | K122: 2149275.9 | L122: 5066993.8 | M122: 0.009199 | N122: 0.062922 | O122: 0.76 | P122: 38.48451 | Q122: <Null> | R122: 1.1.1. Tejido urbano continuo | S122: TALAR | T122: Bueno
A123: 444 | B123: Guanabano | C123: Annona muricata L. | D123: Annonaceae | E123: 10 | F123: 3 | G123: 0.9 | H123: 0.286479 | I123: 9 | J123: 4.5 | K123: 2149254 | L123: 5066983 | M123: 0.064458 | N123: 0.489879 | O123: 0.76 | P123: 63.617251 | Q123: <Null> | R123: 1.1.1. Tejido urbano continuo | S123: TALAR | T123: Bueno
A124: 445 | B124: Mamoncillo | C124: Melicoccus bijugatus Jacq. | D124: Sapindaceae | E124: 12 | F124: 4 | G124: 0.96 | H124: 0.305577 | I124: 9 | J124: 4.5 | K124: 2149290.4 | L124: 5067009.6 | M124: 0.073339 | N124: 0.668848 | O124: 0.76 | P124: 63.617251 | Q124: <Null> | R124: 1.1.1. Tejido urbano continuo | S124: TALAR | T124: Bueno
A125: 447 | B125: Nauno | C125: Pseudosamanea guachapele (Kunth) Harms | D125: Fabaceae | E125: 10 | F125: 4 | G125: 0.7 | H125: 0.222817 | I125: 11 | J125: 5.5 | K125: 2149273.4 | L125: 5067011.1 | M125: 0.038993 | N125: 0.296347 | O125: 0.76 | P125: 95.033178 | Q125: <Null> | R125: 1.1.1. Tejido urbano continuo | S125: TALAR | T125: Bueno
A126: 453 | B126: Oití | C126: Moquilea tomentosa Benth. | D126: Chrysobalanaceae | E126: 10 | F126: 3 | G126: 0.4 | H126: 0.127324 | I126: 11 | J126: 5.5 | K126: 2149258.4 | L126: 5067016.4 | M126: 0.012732 | N126: 0.096766 | O126: 0.76 | P126: 95.033178 | Q126: Orquidea (1) | R126: 1.1.1. Tejido urbano continuo | S126: TALAR | T126: Bueno
A127: 454 | B127: Pera de Malaca | C127: Syzygium malaccense (L.) Merr. & L.M.Perry | D127: Myrtaceae | E127: 9 | F127: 3 | G127: 0.82 | H127: 0.261014 | I127: 11 | J127: 5.5 | K127: 2149253.9 | L127: 5067018.1 | M127: 0.053508 | N127: 0.365994 | O127: 0.76 | P127: 95.033178 | Q127: <Null> | R127: 1.1.1. Tejido urbano continuo | S127: TALAR | T127: Bueno
A128: 455 | B128: Pera de Malaca | C128: Syzygium malaccense (L.) Merr. & L.M.Perry | D128: Myrtaceae | E128: 9 | F128: 3 | G128: 0.53 | H128: 0.168704 | I128: 11 | J128: 5.5 | K128: 2149253.1 | L128: 5067020.2 | M128: 0.022353 | N128: 0.152897 | O128: 0.76 | P128: 95.033178 | Q128: <Null> | R128: 1.1.1. Tejido urbano continuo | S128: TALAR | T128: Bueno
A129: 456 | B129: Palma Botella | C129: Roystonea regia (Kunth) O.F.Cook | D129: Arecaceae | E129: 10 | F129: 4 | G129: 0.9 | H129: 0.286479 | I129: 8 | J129: 4 | K129: 2149250.4 | L129: 5066993.7 | M129: 0.064458 | N129: 0.489879 | O129: 0.76 | P129: 50.265482 | Q129: <Null> | R129: 1.1.1. Tejido urbano continuo | S129: TALAR | T129: Bueno
A130: 457 | B130: Palma Botella | C130: Roystonea regia (Kunth) O.F.Cook | D130: Arecaceae | E130: 7 | F130: 2 | G130: 0.66 | H130: 0.210085 | I130: 8 | J130: 4 | K130: 2149248.4 | L130: 5067000.1 | M130: 0.034664 | N130: 0.184412 | O130: 0.76 | P130: 50.265482 | Q130: <Null> | R130: 1.1.1. Tejido urbano continuo | S130: TALAR | T130: Bueno
A131: 458 | B131: Mango | C131: Mangifera indica L. | D131: Anacardiaceae | E131: 12 | F131: 4 | G131: 2.8 | H131: 0.891268 | I131: 9 | J131: 4.5 | K131: 2149290.1 | L131: 5067033.3 | M131: 0.623887 | N131: 5.689853 | O131: 0.76 | P131: 63.617251 | Q131: <Null> | R131: 1.1.1. Tejido urbano continuo | S131: TALAR | T131: Bueno
A132: 459 | B132: Mango | C132: Mangifera indica L. | D132: Anacardiaceae | E132: 12 | F132: 4 | G132: 1.58 | H132: 0.50293 | I132: 9 | J132: 4.5 | K132: 2149298.6 | L132: 5067036.5 | M132: 0.198657 | N132: 1.811754 | O132: 0.76 | P132: 63.617251 | Q132: <Null> | R132: 1.1.1. Tejido urbano continuo | S132: TALAR | T132: Bueno
... A157: 502 | B157: Gallinero | C157: Pithecellobium dulce (Roxb.) Benth. | D157: Fabaceae | E157: 9 | F157: 3 | G157: 1.27 | H157: 0.404254 | I157: 8 | J157: 4 | K157: 2149223.2 | L157: 5066972.2 | M157: 0.128351 | N157: 0.877917 | O157: 0.76 | P157: 50.265482 | Q157: <Null> | R157: 1.1.1. Tejido urbano continuo | S157: TALAR | T157: Bueno
A158: 505 | B158: Muerto En Pie | C158: <Null> | D158: <Null> | E158: 12 | F158: 4 | G158: 1.4 | H158: 0.445634 | I158: <Null> | J158: 0 | K158: 2149354.2 | L158: 5067017.2 | M158: 0.155972 | N158: 1.422463 | O158: 0.76 | P158: 0 | Q158: <Null> | R158: 3.1.3.2. Bosque fragmentado con vegetación secundaria | S158: TALAR | T158: Muerto en pie
A159: 509 | B159: Guayacán Amarillo | C159: Handroanthus chrysanthus (Jacq.) S.O.Grose | D159: Bignoniaceae | E159: 12 | F159: 5 | G159: 1.35 | H159: 0.429718 | I159: 8 | J159: 4 | K159: 2149347.4 | L159: 5067023.4 | M159: 0.14503 | N159: 1.322673 | O159: 0.76 | P159: 50.265482 | Q159: <Null> | R159: 3.1.3.2. Bosque fragmentado con vegetación secundaria | S159: TALAR | T159: Bueno
A160: 510 | B160: Cedro | C160: Cedrela odorata L. | D160: Meliaceae | E160: 12 | F160: 4 | G160: 1.7 | H160: 0.541127 | I160: 9 | J160: 4.5 | K160: 2149354.3 | L160: 5067019.7 | M160: 0.229979 | N160: 2.097408 | O160: 0.76 | P160: 63.617251 | Q160: <Null> | R160: 3.1.3.2. Bosque fragmentado con vegetación secundaria | S160: TALAR | T160: Bueno
...

Sheet Podar
A1: Arbol | B1: NOMBRE COMUN | C1: NOMBRE CIENTIFICO | D1: FAMILIA | E1: HT (m) | F1: Hc (m) | G1: CAP (m) | H1: DAP (m) | I1: Diametro De Copa (m) | J1: Radio de Copa (m) | K1: X | L1: Y | M1: AB (m2) | N1: VT M3) | O1: Factor de Forma | P1: Area de Copa (m2) | Q1: Epifitas | R1: leyenda | S1: TRATAMIENTO | T1: OBSERVACIÓN | U1: LONGITUD ESTE | V1: LATITUD NORTE
A2: 51 | B2: Yarumo | C2: Cecropia engleriana Snethl. | D2: Cecropiaceae | E2: 12 | F2: 4 | G2: 0.8 | H2: 0.254648 | I2: 9 | J2: 4.5 | K2: 2149385.3 | L2: 5067035.5 | M2: 0.05093 | N2: 0.464478 | O2: 0.76 | P2: 63.617251 | Q2: <Null> | R2: 3.1.3.2. Bosque fragmentado con vegetación secundaria | S2: PODAR | T2: Bueno | U2: -72.394718 | V2: 5.351687
A3: 52 | B3: Yarumo | C3: Cecropia engleriana Snethl. | D3: Cecropiaceae | E3: 12 | F3: 5 | G3: 0.69 | H3: 0.219634 | I3: 9 | J3: 4.5 | K3: 2149384.9 | L3: 5067037.2 | M3: 0.037887 | N3: 0.345528 | O3: 0.76 | P3: 63.617251 | Q3: <Null> | R3: 3.1.3.2. Bosque fragmentado con vegetación secundaria | S3: PODAR | T3: Bueno | U3: -72.394702 | V3: 5.351683
A4: 53 | B4: Yarumo | C4: Cecropia engleriana Snethl. | D4: Cecropiaceae | E4: 12 | F4: 3 | G4: 0.43 | H4: 0.136873 | I4: 6 | J4: 3 | K4: 2149385.1 | L4: 5067037.8 | M4: 0.014714 | N4: 0.134191 | O4: 0.76 | P4: 28.274334 | Q4: <Null> | R4: 3.1.3.2. Bosque fragmentado con vegetación secundaria | S4: PODAR | T4: Bueno | U4: -72.394697 | V4: 5.351685
A5: 73 | B5: Sangro | C5: Lonchocarpus violaceus (Jacq.) Kunth ex DC | D5: Fabaceae | E5: 12 | F5: 2 | G5: 1.12 | H5: 0.356507 | I5: 9 | J5: 4.5 | K5: 2149380.6 | L5: 5067087.6 | M5: 0.099822 | N5: 0.910376 | O5: 0.76 | P5: 63.617251 | Q5: <Null> | R5: 3.1.3.2. Bosque fragmentado con vegetación secundaria | S5: PODAR | T5: Bueno | U5: -72.394248 | V5: 5.351644
A6: 92 | B6: Hobo | C6: Spondias mombin Jacq. | D6: Anacardiaceae | E6: 10 | F6: 2 | G6: 1.18 | H6: 0.375606 | I6: 9 | J6: 4.5 | K6: 2149372.9 | L6: 5067124.2 | M6: 0.110804 | N6: 0.842108 | O6: 0.76 | P6: 63.617251 | Q6: <Null> | R6: 3.1.3.2. Bosque fragmentado con vegetación secundaria | S6: PODAR | T6: Bueno | U6: -72.393917 | V6: 5.351574
A7: 287 | B7: Nauno | C7: Pseudosamanea guachapele (Kunth) Harms | D7: Fabaceae | E7: 12 | F7: 3 | G7: 1.01 | H7: 0.321493 | I7: 8 | J7: 4 | K7: 2149346.5 | L7: 5066930.4 | M7: 0.081177 | N7: 0.740334 | O7: 0.76 | P7: 50.265482 | Q7: <Null> | R7: 1.1.1. Tejido urbano continuo | S7: PODAR | T7: Bueno | U7: -72.395667 | V7: 5.351337
A8: 332 | B8: Palmiche | C8: Leopoldinia pulchra Mart. | D8: Arecaceae | E8: 12 | F8: 5 | G8: 0.72 | H8: 0.229183 | I8: 7 | J8: 3.5 | K8: 2149366.6 | L8: 5066949.1 | M8: 0.041253 | N8: 0.376227 | O8: 0.76 | P8: 38.48451 | Q8: <Null> | R8: 1.1.1. Tejido urbano continuo | S8: PODAR | T8: Bueno | U8: -72.395499 | V8: 5.351519
A9: 333 | B9: Yopo | C9: Anadenanthera peregrina (L.) Speg. | D9: Fabaceae | E9: 12 | F9: 3 | G9: 0.96 | H9: 0.305577 | I9: 10 | J9: 5 | K9: 2149367.7 | L9: 5066949.7 | M9: 0.073339 | N9: 0.668848 | O9: 0.76 | P9: 78.539816 | Q9: <Null> | R9: 3.1.3.2. Bosque fragmentado con vegetación secundaria | S9: PODAR | T9: Bueno | U9: -72.395493 | V9: 5.351528
A10: 334 | B10: Nauno | C10: Pseudosamanea guachapele (Kunth) Harms | D10: Fabaceae | E10: 12 | F10: 5 | G10: 0.77 | H10: 0.245099 | I10: 10 | J10: 5 | K10: 2149363.3 | L10: 5066952.6 | M10: 0.047181 | N10: 0.430295 | O10: 0.76 | P10: 78.539816 | Q10: <Null> | R10: 1.1.1. Tejido urbano continuo | S10: PODAR | T10: Bueno | U10: -72.395467 | V10: 5.351489
A11: 336 | B11: Cedro | C11: Cedrela odorata L. | D11: Meliaceae | E11: 12 | F11: 4 | G11: 2 | H11: 0.63662 | I11: 10 | J11: 5 | K11: 2149360.3 | L11: 5066958 | M11: 0.31831 | N11: 2.902986 | O11: 0.76 | P11: 78.539816 | Q11: <Null> | R11: 1.1.1. Tejido urbano continuo | S11: PODAR | T11: Bueno | U11: -72.395417 | V11: 5.351462
A12: 337 | B12: Hobo | C12: Spondias mombin Jacq. | D12: Anacardiaceae | E12: 12 | F12: 5 | G12: 2.33 | H12: 0.741662 | I12: 10 | J12: 5 | K12: 2149366.8 | L12: 5066955.4 | M12: 0.432018 | N12: 3.940005 | O12: 0.76 | P12: 78.539816 | Q12: <Null> | R12: 3.1.3.2. Bosque fragmentado con vegetación secundaria | S12: PODAR | T12: Bueno | U12: -72.395441 | V12: 5.35152
A13: 338 | B13: Guácimo | C13: Guazuma ulmifolia Lam. | D13: Malvaceae | E13: 10 | F13: 4 | G13: 0.33 | H13: 0.105042 | I13: 10 | J13: 5 | K13: 2149371.6 | L13: 5066956.5 | M13: 0.008666 | N13: 0.065861 | O13: 0.76 | P13: 78.539816 | Q13: <Null> | R13: 3.1.3.2. Bosque fragmentado con vegetación secundaria | S13: PODAR | T13: Bueno | U13: -72.395431 | V13: 5.351563
... A19: 430 | B19: Hobo | C19: Spondias mombin Jacq. | D19: Anacardiaceae | E19: 12 | F19: 5 | G19: 1.6 | H19: 0.509296 | I19: 11 | J19: 5.5 | K19: 2149364.3 | L19: 5066999.3 | M19: 0.203718 | N19: 1.857911 | O19: 0.76 | P19: 95.033178 | Q19: <Null> | R19: 3.1.3.2. Bosque fragmentado con vegetación secundaria | S19: PODAR | T19: Bueno | U19: -72.395045 | V19: 5.351497
A20: 338B | B20: Guácimo | C20: Guazuma ulmifolia Lam. | D20: Malvaceae | E20: 10 | F20: 3 | G20: 0.56 | H20: 0.178254 | I20: 10 | J20: 5 | K20: 2149371.6 | L20: 5066956.5 | M20: 0.024955 | N20: 0.189662 | O20: 0.76 | P20: 78.539816 | Q20: <Null> | R20: 3.1.3.2. Bosque fragmentado con vegetación secundaria | S20: PODAR | T20: Bueno | U20: -72.395431 | V20: 5.351563
A21: 338C | B21: Guácimo | C21: Guazuma ulmifolia Lam. | D21: Malvaceae | E21: 10 | F21: 3 | G21: 0.5 | H21: 0.159155 | I21: 10 | J21: 5 | K21: 2149371.6 | L21: 5066956.5 | M21: 0.019894 | N21: 0.151197 | O21: 0.76 | P21: 78.539816 | Q21: <Null> | R21: 3.1.3.2. Bosque fragmentado con vegetación secundaria | S21: PODAR | T21: Bueno | U21: -72.395431 | V21: 5.351563
A22: 338D | B22: Guácimo | C22: Guazuma ulmifolia Lam. | D22: Malvaceae | E22: 10 | F22: 3 | G22: 1.04 | H22: 0.331042 | I22: 10 | J22: 5 | K22: 2149371.6 | L22: 5066956.5 | M22: 0.086071 | N22: 0.65414 | O22: 0.76 | P22: 78.539816 | Q22: <Null> | R22: 3.1.3.2. Bosque fragmentado con vegetación secundaria | S22: PODAR | T22: Bueno | U22: -72.395431 | V22: 5.351563
A23: 362B | B23: Abejon | C23: Astronium graveolens Jacq. | D23: Anacardiaceae | E23: 9 | F23: 2 | G23: 0.33 | H23: 0.105042 | I23: 10 | J23: 5 | K23: 2149371 | L23: 5066980.2 | M23: 0.008666 | N23: 0.059275 | O23: 0.76 | P23: 78.539816 | Q23: <Null> | R23: 3.1.3.2. Bosque fragmentado con vegetación secundaria | S23: PODAR | T23: Bueno | U23: -72.395218 | V23: 5.351558
A24: 73B | B24: Sangro | C24: Lonchocarpus violaceus (Jacq.) Kunth ex DC | D24: Fabaceae | E24: 12 | F24: 1.5 | G24: 0.61 | H24: 0.194169 | I24: 9 | J24: 4.5 | K24: 2149380.6 | L24: 5067087.6 | M24: 0.029611 | N24: 0.27005 | O24: 0.76 | P24: 63.617251 | Q24: <Null> | R24: 3.1.3.2. Bosque fragmentado con vegetación secundaria | S24: PODAR | T24: Bueno | U24: -72.394248 | V24: 5.351644
A25: 73C | B25: Sangro | C25: Lonchocarpus violaceus (Jacq.) Kunth ex DC | D25: Fabaceae | E25: 12 | F25: 2 | G25: 0.63 | H25: 0.200535 | I25: 9 | J25: 4.5 | K25: 2149380.6 | L25: 5067087.6 | M25: 0.031584 | N25: 0.288049 | O25: 0.76 | P25: 63.617251 | Q25: <Null> | R25: 3.1.3.2. Bosque fragmentado con vegetación secundaria | S25: PODAR | T25: Bueno | U25: -72.394248 | V25: 5.351644
A26: 92B | B26: Hobo | C26: Spondias mombin Jacq. | D26: Anacardiaceae | E26: 10 | F26: 2 | G26: 0.95 | H26: 0.302394 | I26: 9 | J26: 4.5 | K26: 2149372.9 | L26: 5067124.2 | M26: 0.071819 | N26: 0.545822 | O26: 0.76 | P26: 63.617251 | Q26: <Null> | R26: 3.1.3.2. Bosque fragmentado con vegetación secundaria | S26: PODAR | T26: Bueno | U26: -72.393917 | V26: 5.351574

Sheet Caracterización
A1: Arbol | B1: NOMBRE COMUN | C1: NOMBRE CIENTIFICO | D1: FAMILIA | E1: AB (m2) | F1: VT M3) | H1: Etiquetas de fila | I1: Cuenta de NOMBRE COMUN | J1: Suma de AB (m2) | K1: Suma de VT M3) | M1: Etiquetas de fila | N1: Cuenta de NOMBRE CIENTIFICO | O1: Suma de AB (m2) | P1: Suma de VT M3)
A2: 54 | B2: Nauno | C2: Pseudosamanea guachapele (Kunth) Harms | D2: Fabaceae | E2: 0.044762 | F2: 0.238136 | H2: Abejon | I2: 1 | J2: 0.014714 | K2: 0.134191 | M2: <Null> | N2: 21 | O2: 2.250723 | P2: 20.616525
A3: 55 | B3: Balso | C3: Ochroma pyramidale (Cav.) Urb. | D3: Malvaceae | E3: 0.246499 | F3: 2.248072 | H3: Arenillo | I3: 5 | J3: 0.050428 | K3: 0.229953 | M3: Agonandra brasiliensis Benth. & Hook.fil. | N3: 1 | O3: 0.05093 | P3: 0.806725
A4: 57 | B4: Nacedero | C4: Trichanthera gigantea (Bonpl.) Nees | D4: Acanthaceae | E4: 0.008666 | F4: 0.079034 | H4: Arrayan | I4: 4 | J4: 0.331377 | K4: 2.845368 | M4: Anadenanthera peregrina (L.) Speg. | N4: 2 | O4: 0.30533 | P4: 2.630166
A5: 63 | B5: Gallinero | C5: Pithecellobium dulce (Roxb.) Benth. | D5: Fabaceae | E5: 0.021518 | F5: 0.147181 | H5: Balso | I5: 4 | J5: 0.4174 | K5: 3.56327 | M5: Annona muricata L. | N5: 8 | O5: 0.140296 | P5: 0.962563
A6: 64 | B6: Nacedero | C6: Trichanthera gigantea (Bonpl.) Nees | D6: Acanthaceae | E6: 0.012732 | F6: 0.116119 | H6: Cachimbo | I6: 2 | J6: 0.344483 | K6: 2.677206 | M6: Astronium graveolens Jacq. | N6: 1 | O6: 0.014714 | P6: 0.134191
A7: 66 | B7: Yarumo | C7: Cecropia engleriana Snethl. | D7: Cecropiaceae | E7: 0.031584 | F7: 0.288049 | H7: Caiman | I7: 1 | J7: 0.05093 | K7: 0.806725 | M7: Azadirachta indica A.Juss. | N7: 2 | O7: 0.027892 | P7: 0.063593
A8: 67 | B8: Cañafístulo | C8: Senna multijuga (Rich.) H.S.Irwin & Barneby | D8: Fabaceae | E8: 0.092819 | F8: 0.846511 | H8: Caimito | I8: 2 | J8: 0.024208 | K8: 0.93925 | M8: Bursera simaruba (L.) Sarg. | N8: 3 | O8: 1.076087 | P8: 8.846245
A9: 68 | B9: Muerto En Pie | C9: <Null> | D9: <Null> | E9: 0.296418 | F9: 2.478056 | H9: Calistemo | I9: 2 | J9: 0.017395 | K9: 0.066103 | M9: Callistemon Sp | N9: 2 | O9: 0.017395 | P9: 0.066103
A10: 69 | B10: Melina | C10: Gmelina arborea Roxb. Ex Sm. | D10: Lamiaceae | E10: 0.007162 | F10: 0.043545 | H10: Cañafístulo | I10: 6 | J10: 1.105419 | K10: 11.825422 | M10: Cecropia engleriana Snethl. | N10: 13 | O10: 0.35742 | P10: 5.685211
A11: 70 | B11: Mora | C11: Maclura tinctoria (L.) D.Don ex Steud. | D11: Moraceae | E11: 0.021518 | F11: 0.163535 | H11: Caracaro | I11: 5 | J11: 1.017183 | K11: 9.127678 | M11: Cedrela odorata L. | N11: 7 | O11: 0.778109 | P11: 7.239044
A12: 72 | B12: Hobo | C12: Spondias mombin Jacq. | D12: Anacardiaceae | E12: 0.033621 | F12: 0.255523 | H12: Caucho | I12: 1 | J12: 0.012732 | K12: 0.096766 | M12: Ceiba pentandra (L.) Gaertn. | N12: 4 | O12: 2.089156 | P12: 19.556341
A13: 74 | B13: Mora | C13: Maclura tinctoria (L.) D.Don ex Steud. | D13: Moraceae | E13: 0.014714 | F13: 0.078278 | H13: Caucho Benjamín | I13: 1 | J13: 1.107153 | K13: 10.097239 | M13: Chrysalidocarpus lutescens H.Wendl. | N13: 6 | O13: 0.061926 | P13: 0.467091
... A47: 148 | B47: Guácimo | C47: Guazuma ulmifolia Lam. | D47: Malvaceae | E47: 0.058855 | F47: 0.447302 | H47: Total general | I47: 345 | J47: 36.145482 | K47: 325.41097 | M47: Syzygium malaccense (L.) Merr. & L.M.Perry | N47: 9 | O47: 0.28566 | P47: 1.543451
A48: 152 | B48: Nauno | C48: Pseudosamanea guachapele (Kunth) Harms | D48: Fabaceae | E48: 0.337695 | F48: 3.079778 | M48: Trichanthera gigantea (Bonpl.) Nees | N48: 2 | O48: 0.021398 | P48: 0.195153
A49: 155 | B49: Gallinero | C49: Pithecellobium dulce (Roxb.) Benth. | D49: Fabaceae | E49: 0.037887 | F49: 0.230352 | M49: (en blanco) | O49: 36.145482 | P49: 325.41097
A50: 181 | B50: Nauno | C50: Pseudosamanea guachapele (Kunth) Harms | D50: Fabaceae | E50: 0.140765 | F50: 1.069811 | M50: Total general | N50: 345 | O50: 72.290964 | P50: 650.82193
A51: 183 | B51: Arenillo | C51: Qualea acuminata Spruce ez Warm. | D51: Vochysiaceae | E51: 0.012732 | F51: 0.05806
A52: 186 | B52: Hobo | C52: Spondias mombin Jacq. | D52: Anacardiaceae | E52: 0.040115 | F52: 0.243899
A53: 213 | B53: Pera de Malaca | C53: Syzygium malaccense (L.) Merr. & L.M.Perry | D53: Myrtaceae | E53: 0.037887 | F53: 0.14397
A54: 214 | B54: Pera de Malaca | C54: Syzygium malaccense (L.) Merr. & L.M.Perry | D54: Myrtaceae | E54: 0.028648 | F54: 0.108862
A55: 215 | B55: Pera de Malaca | C55: Syzygium malaccense (L.) Merr. & L.M.Perry | D55: Myrtaceae | E55: 0.027701 | F55: 0.105263
A56: 216 | B56: Pera de Malaca | C56: Syzygium malaccense (L.) Merr. & L.M.Perry | D56: Myrtaceae | E56: 0.017579 | F56: 0.066799
A57: 218 | B57: Oití | C57: Moquilea tomentosa Benth. | D57: Chrysobalanaceae | E57: 0.010313 | F57: 0.031352
A58: 219 | B58: Neem | C58: Azadirachta indica A.Juss. | D58: Meliaceae | E58: 0.017579 | F58: 0.040079 | H58: Etiquetas de fila | I58: Cuenta de FAMILIA
A59: 222 | B59: Guayacán Amarillo | C59: Handroanthus chrysanthus | D59: Bignoniaceae | E59: 0.01 | F59: 0.04 | H59: <Null> | I59: 21
A60: 223 | B60: Guayacán Amarillo | C60: Handroanthus chrysanthus | D60: Bignoniaceae | E60: 0.01 | F60: 0.04 | H60: Acanthaceae | I60: 2
A61: 224 | B61: Guayacán Amarillo | C61: Handroanthus chrysanthus | D61: Bignoniaceae | E61: 0.02 | F61: 0.07 | H61: Anacardiaceae | I61: 33
A62: 225 | B62: Guayacán Amarillo | C62: Handroanthus chrysanthus | D62: Bignoniaceae | E62: 0.01 | F62: 0.04 | H62: Annonaceae | I62: 8
A63: 226 | B63: Guayacán Amarillo | C63: Handroanthus chrysanthus | D63: Bignoniaceae | E63: 0.01 | F63: 0.05 | H63: Arecaceae | I63: 20
A64: 229 | B64: Nauno | C64: Pseudosamanea guachapele (Kunth) Harms | D64: Fabaceae | E64: 0.096289 | F64: 0.585436 | H64: Bignoniaceae | I64: 8
A65: 232 | B65: Palmiche | C65: Leopoldinia pulchra Mart. | D65: Arecaceae | E65: 0.016839 | F65: 0.076784 | H65: Boraginaceae | I65: 15
A66: 235 | B66: Laurel | C66: Ocotea sp | D66: Laureacea | E66: 0.013377 | F66: 0.091498 | H66: Burseraceae | I66: 3
A67: 239 | B67: Cañafístulo | C67: Senna multijuga (Rich.) H.S.Irwin & Barneby | D67: Fabaceae | E67: 0.17667 | F67: 1.61123 | H67: Cecropiaceae | I67: 13
A68: 240 | B68: Nauno | C68: Pseudosamanea guachapele (Kunth) Harms | D68: Fabaceae | E68: 0.061625 | F68: 0.421514 | H68: Chrysobalanaceae | I68: 7
A69: 241 | B69: Palmiche | C69: Leopoldinia pulchra Mart. | D69: Arecaceae | E69: 0.010313 | F69: 0.047028 | H69: Fabaceae | I69: 122
A70: 242 | B70: Palmiche | C70: Leopoldinia pulchra Mart. | D70: Arecaceae | E70: 0.012732 | F70: 0.05806 | H70: Lamiaceae | I70: 4
... A81: 263 | B81: Palmiche | C81: Leopoldinia pulchra Mart. | D81: Arecaceae | E81: 0.010313 | F81: 0.03919 | H81: Total general | I81: 345
A82: 264 | B82: Pera de Malaca | C82: Syzygium malaccense (L.) Merr. & L.M.Perry | D82: Myrtaceae | E82: 0.040115 | F82: 0.274387
A83: 267 | B83: Hobo | C83: Spondias mombin Jacq. | D83: Anacardiaceae | E83: 0.554623 | F83: 5.058163
...

Sheet Estructura Horizontal
A1: NOMBRE COMUN | B1: NOMBRE CIENTIFICO | C1: CANTIDAD DE ÁRBOLES | D1: AREA BASAL | E1: VOLUMEN | F1: ABU_Relativa | G1: Cantidad de Veces | H1: FR_Absoluta | I1: FR_Relativa | J1: DO_Absoluta | K1: DO_Relativa | L1: IVI | M1: Poligonos
A2: Nauno | B2: Pseudosamanea guachapele (Kunth) Harms | C2: 56 | D2: 4.516067 | E2: 40.039529 | F2: 0.16231884 | G2: 3 | H2: 1 | I2: 0.041666667 | J2: 4.516067 | K2: 0.1249414 | L2: 32.89269 | M2: 1.1.1. Tejido urbano continuo; 2.3.3. Pastos enmalezados; 3.1.3.2. Bosque fragmentado con vegetación secundaria
A3: Mango | B3: Mangifera indica L. | C3: 21 | D3: 5.617509 | E3: 51.046146 | F3: 0.060869565 | G3: 1 | H3: 0.33333333 | I3: 0.013888889 | J3: 5.617509 | K3: 0.15541386 | L3: 23.017232 | M3: 1.1.1. Tejido urbano continuo
A4: Gallinero | B4: Pithecellobium dulce (Roxb.) Benth. | C4: 22 | D4: 3.112269 | E4: 25.185472 | F4: 0.063768116 | G4: 2 | H4: 0.66666667 | I4: 0.027777778 | J4: 3.112269 | K4: 0.086103956 | L4: 17.764985 | M4: 1.1.1. Tejido urbano continuo; 3.1.3.2. Bosque fragmentado con vegetación secundaria
A5: Hobo | B5: Spondias mombin Jacq. | C5: 11 | D5: 3.386961 | E5: 30.616856 | F5: 0.031884058 | G5: 3 | H5: 1 | I5: 0.041666667 | J5: 3.386961 | K5: 0.093703578 | L5: 16.72543 | M5: 1.1.1. Tejido urbano continuo; 2.3.3. Pastos enmalezados; 3.1.3.2. Bosque fragmentado con vegetación secundaria
A6: Muerto En Pie | B6: <Null> | C6: 21 | D6: 2.250723 | E6: 20.616525 | F6: 0.060869565 | G6: 2 | H6: 0.66666667 | I6: 0.027777778 | J6: 2.250723 | K6: 0.062268446 | L6: 15.091579 | M6: 1.1.1. Tejido urbano continuo; 3.1.3.2. Bosque fragmentado con vegetación secundaria
A7: Guácimo | B7: Guazuma ulmifolia Lam. | C7: 22 | D7: 0.760695 | E7: 7.4674912 | F7: 0.063768116 | G7: 3 | H7: 1 | I7: 0.041666667 | J7: 0.760695 | K7: 0.021045369 | L7: 12.648015 | M7: 1.1.1. Tejido urbano continuo; 2.3.3. Pastos enmalezados; 3.1.3.2. Bosque fragmentado con vegetación secundaria
A8: Sangro | B8: Lonchocarpus violaceus (Jacq.) Kunth ex DC | C8: 21 | D8: 0.900483 | E8: 7.921911 | F8: 0.060869565 | G8: 2 | H8: 0.66666667 | I8: 0.027777778 | J8: 0.900483 | K8: 0.02491274 | L8: 11.356008 | M8: 1.1.1. Tejido urbano continuo; 3.1.3.2. Bosque fragmentado con vegetación secundaria
A9: Pardillo | B9: Cordia tetrandra Aubl. | C9: 13 | D9: 0.894068 | E9: 8.102185 | F9: 0.037681159 | G9: 3 | H9: 1 | I9: 0.041666667 | J9: 0.894068 | K9: 0.024735263 | L9: 10.408309 | M9: 1.1.1. Tejido urbano continuo; 2.3.3. Pastos enmalezados; 3.1.3.2. Bosque fragmentado con vegetación secundaria
A10: Ceiba | B10: Ceiba pentandra (L.) Gaertn. | C10: 4 | D10: 2.089156 | E10: 19.556341 | F10: 0.011594203 | G10: 2 | H10: 0.66666667 | I10: 0.027777778 | J10: 2.089156 | K10: 0.057798538 | L10: 9.7170518 | M10: 1.1.1. Tejido urbano continuo; 3.1.3.2. Bosque fragmentado con vegetación secundaria
A11: Yarumo | B11: Cecropia engleriana Snethl. | C11: 13 | D11: 0.35742 | E11: 5.685211 | F11: 0.037681159 | G11: 3 | H11: 1 | I11: 0.041666667 | J11: 0.35742 | K11: 0.0098883728 | L11: 8.9236199 | M11: 1.1.1. Tejido urbano continuo; 2.3.3. Pastos enmalezados; 3.1.3.2. Bosque fragmentado con vegetación secundaria
A12: Yopa | B12: Piptadenia opacifolia Benth. | C12: 6 | D12: 1.170482 | E12: 10.075581 | F12: 0.017391304 | G12: 2 | H12: 0.66666667 | I12: 0.027777778 | J12: 1.170482 | K12: 0.032382526 | L12: 7.7551608 | M12: 1.1.1. Tejido urbano continuo; 3.1.3.2. Bosque fragmentado con vegetación secundaria
A13: Cañafístulo | B13: Senna multijuga (Rich.) H.S.Irwin & Barneby | C13: 6 | D13: 1.105419 | E13: 11.825422 | F13: 0.017391304 | G13: 2 | H13: 0.66666667 | I13: 0.027777778 | J13: 1.105419 | K13: 0.030582494 | L13: 7.5751577 | M13: 1.1.1. Tejido urbano continuo; 3.1.3.2. Bosque fragmentado con vegetación secundaria
... A48: Palma Corneto | B48: Iriartea deltoidea Ruiz & Pav. | C48: 1 | D48: 0.009199 | E48: 0.062922 | F48: 0.0028985507 | G48: 1 | H48: 0.33333333 | I48: 0.013888889 | J48: 0.009199 | K48: 0.0002544993 | L48: 1.7041939 | M48: 1.1.1. Tejido urbano continuo
A53: Etiquetas de fila | B53: Volumen por especie.
A54: Abejon | B54: 0.134191
A55: Arenillo | B55: 0.229953
A56: Arrayan | B56: 2.845368
A57: Balso | B57: 3.56327
A58: Cachimbo | B58: 2.677206
A59: Caiman | B59: 0.806725
A60: Caimito | B60: 0.93925
A61: Calistemo | B61: 0.066103
A62: Cañafístulo | B62: 11.825422
A63: Caracaro | B63: 9.127678
A64: Caucho | B64: 0.096766
A65: Caucho Benjamín | B65: 10.097239
... A98: Yopo | B98: 2.630166
A99: (en blanco)
A100: Total general | B100: 325.41097

Sheet GraficasAproGeneral
A1: Especie | B1: ABU Relativa | C1: FR Absoluta | D1: FR Relativa | E1: DO Absoluta | F1: DO Relativa | G1: IVI
A2: Nauno | B2: 0.16231884 | C2: 1 | D2: 0.041666667 | E2: 4.516067 | F2: 0.1249414 | G2: 32.89269
A3: Mango | B3: 0.060869565 | C3: 0.33333333 | D3: 0.013888889 | E3: 5.617509 | F3: 0.15541386 | G3: 23.017232
A4: Gallinero | B4: 0.063768116 | C4: 0.66666667 | D4: 0.027777778 | E4: 3.112269 | F4: 0.086103956 | G4: 17.764985
A5: Hobo | B5: 0.031884058 | C5: 1 | D5: 0.041666667 | E5: 3.386961 | F5: 0.093703578 | G5: 16.72543
A6: Muerto En Pie | B6: 0.060869565 | C6: 0.66666667 | D6: 0.027777778 | E6: 2.250723 | F6: 0.062268446 | G6: 15.091579
A7: Guácimo | B7: 0.063768116 | C7: 1 | D7: 0.041666667 | E7: 0.760695 | F7: 0.021045369 | G7: 12.648015
A8: Sangro | B8: 0.060869565 | C8: 0.66666667 | D8: 0.027777778 | E8: 0.900483 | F8: 0.02491274 | G8: 11.356008
A9: Pardillo | B9: 0.037681159 | C9: 1 | D9: 0.041666667 | E9: 0.894068 | F9: 0.024735263 | G9: 10.408309
A10: Ceiba | B10: 0.011594203 | C10: 0.66666667 | D10: 0.027777778 | E10: 2.089156 | F10: 0.057798538 | G10: 9.7170518
A11: Yarumo | B11: 0.037681159 | C11: 1 | D11: 0.041666667 | E11: 0.35742 | F11: 0.0098883728 | G11: 8.9236199
A12: Yopa | B12: 0.017391304 | C12: 0.66666667 | D12: 0.027777778 | E12: 1.170482 | F12: 0.032382526 | G12: 7.7551608
A13: Cañafístulo | B13: 0.017391304 | C13: 0.66666667 | D13: 0.027777778 | E13: 1.105419 | F13: 0.030582494 | G13: 7.5751577
... A48: Palma Corneto | B48: 0.0028985507 | C48: 0.33333333 | D48: 0.013888889 | E48: 0.009199 | F48: 0.0002544993 | G48: 1.7041939

Sheet Bosque Fragmentado con vegetaci
A1: Arbol | B1: NOMBRE COMUN | C1: NOMBRE CIENTIFICO | D1: FAMILIA | E1: HT (m) | F1: Hc (m) | G1: CAP (m) | H1: DAP (m) | I1: Diametro De Copa (m) | J1: Radio de Copa (m) | K1: X | L1: Y | M1: AB (m2) | N1: VT M3) | O1: Factor de Forma | P1: Area de Copa (m2) | Q1: Epifitas | R1: COBERTURA NATURAL | S1: OBSERVACIÓN
A2: 54 | B2: Nauno | C2: Pseudosamanea guachapele (Kunth) Harms | D2: Fabaceae | E2: 7 | F2: 2 | G2: 0.75 | H2: 0.238732 | I2: 8 | J2: 4 | K2: 2149381.7 | L2: 5067042.6 | M2: 0.044762 | N2: 0.238136 | O2: 0.76 | P2: 50.265482 | R2: 3.1.3.2. Bosque fragmentado con vegetación secundaria | S2: TALAR | T2: Bueno | V2: Etiquetas de fila | W2: Cuenta de NOMBRE COMUN | X2: Cuenta de NOMBRE CIENTIFICO
A3: 55 | B3: Balso | C3: Ochroma pyramidale (Cav.) Urb. | D3: Malvaceae | E3: 12 | F3: 3 | G3: 1.76 | H3: 0.560225 | I3: 9 | J3: 4.5 | K3: 2149383.1 | L3: 5067050.4 | M3: 0.246499 | N3: 2.248072 | O3: 0.76 | P3: 63.617251 | R3: 3.1.3.2. Bosque fragmentado con vegetación secundaria | S3: TALAR | T3: Bueno | V3: Abejon | W3: 1 | X3: 1
A4: 57 | B4: Nacedero | C4: Trichanthera gigantea (Bonpl.) Nees | D4: Acanthaceae | E4: 12 | F4: 6 | G4: 0.33 | H4: 0.105042 | I4: 7 | J4: 3.5 | K4: 2149384.5 | L4: 5067055.4 | M4: 0.008666 | N4: 0.079034 | O4: 0.76 | P4: 38.48451 | R4: 3.1.3.2. Bosque fragmentado con vegetación secundaria | S4: TALAR | T4: Bueno | V4: Astronium graveolens Jacq. | W4: 1 | X4: 1
A5: 63 | B5: Gallinero | C5: Pithecellobium dulce (Roxb.) Benth. | D5: Fabaceae | E5: 9 | F5: 2.5 | G5: 0.52 | H5: 0.165521 | I5: 9 | J5: 4.5 | K5: 2149383.8 | L5: 5067060 | M5: 0.021518 | N5: 0.147181 | O5: 0.76 | P5: 63.617251 | R5: 3.1.3.2. Bosque fragmentado con vegetación secundaria | S5: TALAR | T5: Bueno | V5: Arenillo | W5: 1 | X5: 1
A6: 64 | B6: Nacedero | C6: Trichanthera gigantea (Bonpl.) Nees | D6: Acanthaceae | E6: 12 | F6: 3 | G6: 0.4 | H6: 0.127324 | I6: 12 | J6: 6 | K6: 2149383.9 | L6: 5067065.6 | M6: 0.012732 | N6: 0.116119 | O6: 0.76 | P6: 113.09734 | R6: 3.1.3.2. Bosque fragmentado con vegetación secundaria | S6: TALAR | T6: Bueno | V6: Qualea acuminata Spruce ez Warm. | W6: 1 | X6: 1
A7: 66 | B7: Yarumo | C7: Cecropia engleriana Snethl. | D7: Cecropiaceae | E7: 12 | F7: 3 | G7: 0.63 | H7: 0.200535 | I7: 9 | J7: 4.5 | K7: 2149383.7 | L7: 5067068.8 | M7: 0.031584 | N7: 0.288049 | O7: 0.76 | P7: 63.617251 | R7: 3.1.3.2. Bosque fragmentado con vegetación secundaria | S7: TALAR | T7: Bueno | V7: Arrayan | W7: 4 | X7: 4
A8: 67 | B8: Cañafístulo | C8: Senna multijuga (Rich.) H.S.Irwin & Barneby | D8: Fabaceae | E8: 12 | F8: 3 | G8: 1.08 | H8: 0.343775 | I8: 9 | J8: 4.5 | K8: 2149384.1 | L8: 5067070.7 | M8: 0.092819 | N8: 0.846511 | O8: 0.76 | P8: 63.617251 | R8: 3.1.3.2. Bosque fragmentado con vegetación secundaria | S8: TALAR | T8: Bueno | V8: Eugenia sp | W8: 4 | X8: 4
A9: 68 | B9: Muerto En Pie | C9: <Null> | D9: <Null> | E9: 11 | F9: 2 | G9: 1.93 | H9: 0.614338 | I9: 0 | J9: 0 | K9: 2149382.1 | L9: 5067075.1 | M9: 0.296418 | N9: 2.478056 | O9: 0.76 | P9: 0 | Q9: Bromelias (2) | R9: 3.1.3.2. Bosque fragmentado con vegetación secundaria | S9: TALAR | T9: Bueno | V9: Balso | W9: 1 | X9: 1
A10: 69 | B10: Melina | C10: Gmelina arborea Roxb. Ex Sm. | D10: Lamiaceae | E10: 8 | F10: 2 | G10: 0.3 | H10: 0.095493 | I10: 7 | J10: 3.5 | K10: 2149382.9 | L10: 5067077.4 | M10: 0.007162 | N10: 0.043545 | O10: 0.76 | P10: 38.48451 | R10: 3.1.3.2. Bosque fragmentado con vegetación secundaria | S10: TALAR | T10: Bueno | V10: Ochroma pyramidale (Cav.) Urb. | W10: 1 | X10: 1
A11: 70 | B11: Mora | C11: Maclura tinctoria (L.) D.Don ex Steud. | D11: Moraceae | E11: 10 | F11: 4 | G11: 0.52 | H11: 0.165521 | I11: 9 | J11: 4.5 | K11: 2149382.9 | L11: 5067079.2 | M11: 0.021518 | N11: 0.163535 | O11: 0.76 | P11: 63.617251 | R11: 3.1.3.2. Bosque fragmentado con vegetación secundaria | S11: TALAR | T11: Bueno | V11: Cachimbo | W11: 2 | X11: 2
A12: 72 | B12: Hobo | C12: Spondias mombin Jacq. | D12: Anacardiaceae | E12: 10 | F12: 1.5 | G12: 0.65 | H12: 0.206901 | I12: 10 | J12: 5 | K12: 2149377.9 | L12: 5067079.6 | M12: 0.033621 | N12: 0.255523 | O12: 0.76 | P12: 78.539816 | Q12: Bejuco | R12: 3.1.3.2. Bosque fragmentado con vegetación secundaria | S12: TALAR | T12: Bueno | V12: Erythrina poeppigiana (Walp.) O.F.Cook | W12: 2 | X12: 2
A13: 74 | B13: Mora | C13: Maclura tinctoria (L.) D.Don ex Steud. | D13: Moraceae | E13: 7 | F13: 2 | G13: 0.43 | H13: 0.136873 | I13: 9 | J13: 4.5 | K13: 2149382.6 | L13: 5067091.6 | M13: 0.014714 | N13: 0.078278 | O13: 0.76 | P13: 63.617251 | R13: 3.1.3.2. Bosque fragmentado con vegetación secundaria | S13: TALAR | T13: Bueno | V13: Cañafístulo | W13: 2 | X13: 2
A14: 75 | B14: Sangro | C14: Lonchocarpus violaceus (Jacq.) Kunth ex DC | D14: Fabaceae | E14: 12 | F14: 3 | G14: 1.13 | H14: 0.35969 | I14: 9 | J14: 4.5 | K14: 2149379.1 | L14: 5067093.5 | M14: 0.101612 | N14: 0.926706 | O14: 0.76 | P14: 63.617251 | R14: 3.1.3.2. Bosque fragmentado con vegetación secundaria | S14: TALAR | T14: Bueno | V14: Senna multijuga (Rich.) H.S.Irwin & Barneby | W14: 2 | X14: 2
A15: 76 | B15: Yarumo | C15: Cecropia engleriana Snethl. | D15: Cecropiaceae | E15: 12 | F15: 4 | G15: 0.77 | H15: 0.245099 | I15: 9 | J15: 4.5 | K15: 2149383.1 | L15: 5067095.2 | M15: 0.047181 | N15: 0.430295 | O15: 0.76 | P15: 63.617251 | R15: 3.1.3.2. Bosque fragmentado con vegetación secundaria | S15: TALAR | T15: Bueno | V15: Cedro | W15: 6 | X15: 6
A16: 77 | B16: Mora | C16: Maclura tinctoria (L.) D.Don ex Steud. | D16: Moraceae | E16: 8 | F16: 2 | G16: 0.34 | H16: 0.108225 | I16: 7 | J16: 3.5 | K16: 2149380.8 | L16: 5067099.5 | M16: 0.009199 | N16: 0.055931 | O16: 0.76 | P16: 38.48451 | R16: 3.1.3.2. Bosque fragmentado con vegetación secundaria | S16: TALAR | T16: Bueno | V16: Cedrela odorata L. | W16: 6 | X16: 6
A17: 78 | B17: Sangro | C17: Lonchocarpus violaceus (Jacq.) Kunth ex DC | D17: Fabaceae | E17: 11 | F17: 2 | G17: 0.6 | H17: 0.190986 | I17: 11 | J17: 5.5 | K17: 2149377.7 | L17: 5067098.3 | M17: 0.028648 | N17: 0.239496 | O17: 0.76 | P17: 95.033178 | R17: 3.1.3.2. Bosque fragmentado con vegetación secundaria | S17: TALAR | T17: Bueno | V17: Ceiba | W17: 2 | X17: 2
A18: 80 | B18: Sangro | C18: Lonchocarpus violaceus (Jacq.) Kunth ex DC | D18: Fabaceae | E18: 11 | F18: 2 | G18: 0.6 | H18: 0.190986 | I18: 9 | J18: 4.5 | K18: 2149377.2 | L18: 5067101.2 | M18: 0.028648 | N18: 0.239496 | O18: 0.76 | P18: 63.617251 | R18: 3.1.3.2. Bosque fragmentado con vegetación secundaria | S18: TALAR | T18: Bueno | V18: Ceiba pentandra (L.) Gaertn. | W18: 2 | X18: 2
A19: 81 | B19: Yarumo | C19: Cecropia engleriana Snethl. | D19: Cecropiaceae | E19: 12 | F19: 7 | G19: 0.95 | H19: 0.302394 | I19: 9 | J19: 4.5 | K19: 2149381.5 | L19: 5067106 | M19: 0.071819 | N19: 0.654986 | O19: 0.76 | P19: 63.617251 | R19: 3.1.3.2. Bosque fragmentado con vegetación secundaria | S19: TALAR | T19: Bueno | V19: Gallinero | W19: 1 | X19: 1
A20: 82 | B20: Guácimo | C20: Guazuma ulmifolia Lam. | D20: Malvaceae | E20: 8 | F20: 3 | G20: 0.59 | H20: 0.187803 | I20: 6 | J20: 3 | K20: 2149380.3 | L20: 5067105.3 | M20: 0.027701 | N20: 0.168422 | O20: 0.76 | P20: 28.274334 | R20: 3.1.3.2. Bosque fragmentado con vegetación secundaria | S20: TALAR | T20: Bueno | V20: Pithecellobium dulce (Roxb.) Benth. | W20: 1 | X20: 1
A21: 83 | B21: Sangro | C21: Lonchocarpus violaceus (Jacq.) Kunth ex DC | D21: Fabaceae | E21: 10 | F21: 2 | G21: 0.6 | H21: 0.190986 | I21: 7 | J21: 3.5 | K21: 2149376.4 | L21: 5067103.4 | M21: 0.028648 | N21: 0.217724 | O21: 0.76 | P21: 38.48451 | R21: 3.1.3.2. Bosque fragmentado con vegetación secundaria | S21: TALAR | T21: Bueno | V21: Guacharaco | W21: 2 | X21: 2
A22: 84 | B22: Sangro | C22: Lonchocarpus violaceus (Jacq.) Kunth ex DC | D22: Fabaceae | E22: 11 | F22: 2 | G22: 0.6 | H22: 0.190986 | I22: 8 | J22: 4 | K22: 2149376.8 | L22: 5067104.4 | M22: 0.028648 | N22: 0.239496 | O22: 0.76 | P22: 50.265482 | R22: 3.1.3.2. Bosque fragmentado con vegetación secundaria | S22: TALAR | T22: Bueno | V22: Cupania americana L. | W22: 2 | X22: 2
A23: 85 | B23: Sangro | C23: Lonchocarpus violaceus (Jacq.) Kunth ex DC | D23: Fabaceae | E23: 11 | F23: 2 | G23: 0.6 | H23: 0.190986 | I23: 7 | J23: 3.5 | K23: 2149376.7 | L23: 5067105.1 | M23: 0.028648 | N23: 0.239496 | O23: 0.76 | P23: 38.48451 | R23: 3.1.3.2. Bosque fragmentado con vegetación secundaria | S23: TALAR | T23: Bueno | V23: Guácimo | W23: 2 | X23: 2
A24: 86 | B24: Sangro | C24: Lonchocarpus violaceus (Jacq.) Kunth ex DC | D24: Fabaceae | E24: 11 | F24: 2 | G24: 0.6 | H24: 0.190986 | I24: 9 | J24: 4.5 | K24: 2149375.9 | L24: 5067107.4 | M24: 0.028648 | N24: 0.239496 | O24: 0.76 | P24: 63.617251 | R24: 3.1.3.2. Bosque fragmentado con vegetación secundaria | S24: TALAR | T24: Bueno | V24: Guazuma ulmifolia Lam. | W24: 2 | X24: 2
... A30: 107 | B30: Yopa | C30: Piptadenia opacifolia Benth. | D30: Fabaceae | E30: 12 | F30: 3 | G30: 0.92 | H30: 0.292845 | I30: 9 | J30: 4.5 | K30: 2149385.2 | L30: 5067214.7 | M30: 0.067354 | N30: 0.614272 | O30: 0.76 | P30: 63.617251 | R30: 3.1.3.2. Bosque fragmentado con vegetación secundaria | S30: TALAR | T30: Bueno | V30: Leucaena | W30: 1 | X30: 1
A31: 114 | B31: Muerto En Pie | C31: <Null> | D31: <Null> | E31: 12 | F31: 3 | G31: 1.7 | H31: 0.541127 | I31: 0 | J31: 0 | K31: 2149346.5 | L31: 5067241.8 | M31: 0.229979 | N31: 2.097408 | O31: 0.76 | P31: 0 | Q31: Bromelias (7) | R31: 3.1.3.2. Bosque fragmentado con vegetación secundaria | S31: TALAR | T31: Bueno | V31: Leucaena leucocephala (Lam.) de Wit | W31: 1 | X31: 1
A32: 115 | B32: Sangro | C32: Lonchocarpus violaceus (Jacq.) Kunth ex DC | D32: Fabaceae | E32: 12 | F32: 4 | G32: 0.78 | H32: 0.248282 | I32: 10 | J32: 5 | K32: 2149344.6 | L32: 5067242.8 | M32: 0.048415 | N32: 0.441544 | O32: 0.76 | P32: 78.539816 | R32: 3.1.3.2. Bosque fragmentado con vegetación secundaria | S32: TALAR | T32: Bueno | V32: Melina | W32: 3 | X32: 3
A33: 116 | B33: Nauno | C33: Pseudosamanea guachapele (Kunth) Harms | D33: Fabaceae | E33: 10 | F33: 2 | G33: 0.4 | H33: 0.127324 | I33: 5 | J33: 2.5 | K33: 2149349.1 | L33: 5067241.6 | M33: 0.012732 | N33: 0.096766 | O33: 0.76 | P33: 19.634954 | R33: 3.1.3.2. Bosque fragmentado con vegetación secundaria | S33: TALAR | T33: Bueno | V33: Gmelina arborea Roxb. Ex Sm. | W33: 3 | X33: 3
